Workbook

Sheet div_A
A1: 1. KBT Libereckého kraje | K1: Liberec, 28.9.2026 | U1: Divize | X1: A | AA1: Základní skupiny
C4: skupina A | O4: 1 | R4: 2 | U4: 3 | X4: 4 | AA4: v | AB4: p | AC4: sety | AF4: b | AG4: m
A5: 1 | B5: Jungmann Matěj (3) (SKST) | O5: xxx | R5: 3 | S5: : | T5: 2 | U5: 3 | V5: : | W5: 2 | X5: 3 | Y5: : | Z5: 0 | AA5: =IF(B5<>"",SUM(IF(R5>T5,1,0),IF(U5>W5,1,0),IF(X5>Z5,1,0)),"") -> 3 | AB5: =IF(B5<>"",SUM(IF(R5<T5,1,0),IF(U5<W5,1,0),IF(X5<Z5,1,0)),"") -> 0 | AC5: =IF(B5<>"",R5+U5+X5,"") -> 9 | AD5: : | AE5: =IF(B5<>"",T5+W5+Z5,"") -> 4 | AF5: =IF(B5<>"",(AA5*2)+AB5,"") -> 6 | AG5: =IF(B5<>"",RANK(AF5,$AF$5:$AF$8,0)+IF(AI5<>"",RANK(AI5,$AI$5:$AFH$8,0)-1,0),"") -> 1
A6: 2 | B6: Kout Matěj (18) (KMST) | O6: =T5 -> 2 | P6: : | Q6: =R5 -> 3 | R6: xxx | U6: 1 | V6: : | W6: 3 | X6: 3 | Y6: : | Z6: 1 | AA6: =IF(B6<>"",SUM(IF(O6>Q6,1,0),IF(U6>W6,1,0),IF(X6>Z6,1,0)),"") -> 1 | AB6: =IF(B6<>"",SUM(IF(O6<Q6,1,0),IF(U6<W6,1,0),IF(X6<Z6,1,0)),"") -> 2 | AC6: =IF(B6<>"",O6+U6+X6,"") -> 6 | AD6: : | AE6: =IF(B6<>"",Q6+W6+Z6,"") -> 7 | AF6: =IF(B6<>"",(AA6*2)+AB6,"") -> 4 | AG6: =IF(B6<>"",RANK(AF6,$AF$5:$AF$8,0)+IF(AI6<>"",RANK(AI6,$AI$5:$AFH$8,0)-1,0),"") -> 3 | AI6: =DIVIDE(4,4) -> 1
A7: 3 | B7: Nohejl Vojtěch (27) (ST Fr.) | O7: =W5 -> 2 | P7: : | Q7: =U5 -> 3 | R7: =W6 -> 3 | S7: : | T7: =U6 -> 1 | U7: xxx | X7: 0 | Y7: : | Z7: 3 | AA7: =IF(B7<>"",SUM(IF(O7>Q7,1,0),IF(R7>T7,1,0),IF(X7>Z7,1,0)),"") -> 1 | AB7: =IF(B7<>"",SUM(IF(O7<Q7,1,0),IF(R7<T7,1,0),IF(X7<Z7,1,0)),"") -> 2 | AC7: =IF(B7<>"",O7+R7+X7,"") -> 5 | AD7: : | AE7: =IF(B7<>"",Q7+T7+Z7,"") -> 7 | AF7: =IF(B7<>"",(AA7*2)+AB7,"") -> 4 | AG7: =IF(B7<>"",RANK(AF7,$AF$5:$AF$8,0)+IF(AI7<>"",RANK(AI7,$AI$5:$AFH$8,0)-1,0),"") -> 4 | AI7: =DIVIDE(3,4) -> 0.75
A8: 4 | B8: Hrníčko Matyáš (28) (PINK!) | O8: =Z5 -> 0 | P8: : | Q8: =X5 -> 3 | R8: =Z6 -> 1 | S8: : | T8: =X6 -> 3 | U8: =Z7 -> 3 | V8: : | W8: =X7 -> 0 | X8: xxx | AA8: =IF(B8<>"",SUM(IF(O8>Q8,1,0),IF(R8>T8,1,0),IF(U8>W8,1,0)),"") -> 1 | AB8: =IF(B8<>"",SUM(IF(O8<Q8,1,0),IF(R8<T8,1,0),IF(U8<W8,1,0)),"") -> 2 | AC8: =IF(B8<>"",O8+R8+U8,"") -> 4 | AD8: : | AE8: =IF(B8<>"",Q8+T8+W8,"") -> 6 | AF8: =IF(B8<>"",(AA8*2)+AB8,"") -> 4 | AG8: =IF(B8<>"",RANK(AF8,$AF$5:$AF$8,0)+IF(AI8<>"",RANK(AI8,$AI$5:$AFH$8,0)-1,0),"") -> 2 | AI8: =DIVIDE(4,3) -> 1.3333333
C10: skupina B | O10: 1 | R10: 2 | U10: 3 | X10: 4 | AA10: v | AB10: p | AC10: sety | AF10: b | AG10: m
A11: 1 | B11: Polívka Matyáš (6) (PINK!) | O11: xxx | R11: 3 | S11: : | T11: 1 | U11: 3 | V11: : | W11: 0 | X11: 3 | Y11: : | Z11: 1 | AA11: =IF(B11<>"",SUM(IF(R11>T11,1,0),IF(U11>W11,1,0),IF(X11>Z11,1,0)),"") -> 3 | AB11: =IF(B11<>"",SUM(IF(R11<T11,1,0),IF(U11<W11,1,0),IF(X11<Z11,1,0)),"") -> 0 | AC11: =IF(B11<>"",R11+U11+X11,"") -> 9 | AD11: : | AE11: =IF(B11<>"",T11+W11+Z11,"") -> 2 | AF11: =IF(B11<>"",(AA11*2)+AB11,"") -> 6 | AG11: =IF(B11<>"",RANK(AF11,$AF$11:$AF$14,0)+IF(AI11<>"",RANK(AI11,$AI$11:$AI$14,0)-1,0),"") -> 1
A12: 2 | B12: Čupcová Viktorie (12) (SKST) | O12: =T11 -> 1 | P12: : | Q12: =R11 -> 3 | R12: xxx | U12: 3 | V12: : | W12: 0 | X12: 3 | Y12: : | Z12: 0 | AA12: =IF(B12<>"",SUM(IF(O12>Q12,1,0),IF(U12>W12,1,0),IF(X12>Z12,1,0)),"") -> 2 | AB12: =IF(B12<>"",SUM(IF(O12<Q12,1,0),IF(U12<W12,1,0),IF(X12<Z12,1,0)),"") -> 1 | AC12: =IF(B12<>"",O12+U12+X12,"") -> 7 | AD12: : | AE12: =IF(B12<>"",Q12+W12+Z12,"") -> 3 | AF12: =IF(B12<>"",(AA12*2)+AB12,"") -> 5 | AG12: =IF(B12<>"",RANK(AF12,$AF$11:$AF$14,0)+IF(AI12<>"",RANK(AI12,$AI$11:$AI$14,0)-1,0),"") -> 2
A13: 3 | B13: Křivánek Viktor (30) (Ji KŠ) | O13: =W11 -> 0 | P13: : | Q13: =U11 -> 3 | R13: =W12 -> 0 | S13: : | T13: =U12 -> 3 | U13: xxx | X13: 3 | Y13: : | Z13: 1 | AA13: =IF(B13<>"",SUM(IF(O13>Q13,1,0),IF(R13>T13,1,0),IF(X13>Z13,1,0)),"") -> 1 | AB13: =IF(B13<>"",SUM(IF(O13<Q13,1,0),IF(R13<T13,1,0),IF(X13<Z13,1,0)),"") -> 2 | AC13: =IF(B13<>"",O13+R13+X13,"") -> 3 | AD13: : | AE13: =IF(B13<>"",Q13+T13+Z13,"") -> 7 | AF13: =IF(B13<>"",(AA13*2)+AB13,"") -> 4 | AG13: =IF(B13<>"",RANK(AF13,$AF$11:$AF$14,0)+IF(AI13<>"",RANK(AI13,$AI$11:$AI$14,0)-1,0),"") -> 3
A14: 4 | B14: Škorpil Jaroslav (22) (ČL) | O14: =Z11 -> 1 | P14: : | Q14: =X11 -> 3 | R14: =Z12 -> 0 | S14: : | T14: =X12 -> 3 | U14: =Z13 -> 1 | V14: : | W14: =X13 -> 3 | X14: xxx | AA14: =IF(B14<>"",SUM(IF(O14>Q14,1,0),IF(R14>T14,1,0),IF(U14>W14,1,0)),"") -> 0 | AB14: =IF(B14<>"",SUM(IF(O14<Q14,1,0),IF(R14<T14,1,0),IF(U14<W14,1,0)),"") -> 3 | AC14: =IF(B14<>"",O14+R14+U14,"") -> 2 | AD14: : | AE14: =IF(B14<>"",Q14+T14+W14,"") -> 9 | AF14: =IF(B14<>"",(AA14*2)+AB14,"") -> 3 | AG14: =IF(B14<>"",RANK(AF14,$AF$11:$AF$14,0)+IF(AI14<>"",RANK(AI14,$AI$11:$AI$14,0)-1,0),"") -> 4
C16: skupina C | O16: 1 | R16: 2 | U16: 3 | X16: 4 | AA16: v | AB16: p | AC16: sety | AF16: b | AG16: m
A17: 1 | B17: Němec Štěpán (7) (SKST) | O17: xxx | R17: 3 | S17: : | T17: 0 | U17: 3 | V17: : | W17: 0 | X17: 3 | Y17: : | Z17: 2 | AA17: =IF(B17<>"",SUM(IF(R17>T17,1,0),IF(U17>W17,1,0),IF(X17>Z17,1,0)),"") -> 3 | AB17: =IF(B17<>"",SUM(IF(R17<T17,1,0),IF(U17<W17,1,0),IF(X17<Z17,1,0)),"") -> 0 | AC17: =IF(B17<>"",R17+U17+X17,"") -> 9 | AD17: : | AE17: =IF(B17<>"",T17+W17+Z17,"") -> 2 | AF17: =IF(B17<>"",(AA17*2)+AB17,"") -> 6 | AG17: =IF(B17<>"",RANK(AF17,$AF$17:$AF$20,0)+IF(AI17<>"",RANK(AI17,$AI$17:$AI$20,0)-1,0),"") -> 1
A18: 2 | B18: Provazníková Alena (21) (Bižu) | O18: =T17 -> 0 | P18: : | Q18: =R17 -> 3 | R18: xxx | U18: 3 | V18: : | W18: 1 | X18: 3 | Y18: : | Z18: 0 | AA18: =IF(B18<>"",SUM(IF(O18>Q18,1,0),IF(U18>W18,1,0),IF(X18>Z18,1,0)),"") -> 2 | AB18: =IF(B18<>"",SUM(IF(O18<Q18,1,0),IF(U18<W18,1,0),IF(X18<Z18,1,0)),"") -> 1 | AC18: =IF(B18<>"",O18+U18+X18,"") -> 6 | AD18: : | AE18: =IF(B18<>"",Q18+W18+Z18,"") -> 4 | AF18: =IF(B18<>"",(AA18*2)+AB18,"") -> 5 | AG18: =IF(B18<>"",RANK(AF18,$AF$17:$AF$20,0)+IF(AI18<>"",RANK(AI18,$AI$17:$AI$20,0)-1,0),"") -> 2
A19: 3 | B19: Louda Ondřej (35) (PINK!) | O19: =W17 -> 0 | P19: : | Q19: =U17 -> 3 | R19: =W18 -> 1 | S19: : | T19: =U18 -> 3 | U19: xxx | X19: 0 | Y19: : | Z19: 3 | AA19: =IF(B19<>"",SUM(IF(O19>Q19,1,0),IF(R19>T19,1,0),IF(X19>Z19,1,0)),"") -> 0 | AB19: =IF(B19<>"",SUM(IF(O19<Q19,1,0),IF(R19<T19,1,0),IF(X19<Z19,1,0)),"") -> 3 | AC19: =IF(B19<>"",O19+R19+X19,"") -> 1 | AD19: : | AE19: =IF(B19<>"",Q19+T19+Z19,"") -> 9 | AF19: =IF(B19<>"",(AA19*2)+AB19,"") -> 3 | AG19: =IF(B19<>"",RANK(AF19,$AF$17:$AF$20,0)+IF(AI19<>"",RANK(AI19,$AI$17:$AI$20,0)-1,0),"") -> 4
A20: 4 | B20: Havel Lukáš (34) (ST Fr.) | O20: =Z17 -> 2 | P20: : | Q20: =X17 -> 3 | R20: =Z18 -> 0 | S20: : | T20: =X18 -> 3 | U20: =Z19 -> 3 | V20: : | W20: =X19 -> 0 | X20: xxx | AA20: =IF(B20<>"",SUM(IF(O20>Q20,1,0),IF(R20>T20,1,0),IF(U20>W20,1,0)),"") -> 1 | AB20: =IF(B20<>"",SUM(IF(O20<Q20,1,0),IF(R20<T20,1,0),IF(U20<W20,1,0)),"") -> 2 | AC20: =IF(B20<>"",O20+R20+U20,"") -> 5 | AD20: : | AE20: =IF(B20<>"",Q20+T20+W20,"") -> 6 | AF20: =IF(B20<>"",(AA20*2)+AB20,"") -> 4 | AG20: =IF(B20<>"",RANK(AF20,$AF$17:$AF$20,0)+IF(AI20<>"",RANK(AI20,$AI$17:$AI$20,0)-1,0),"") -> 3
C22: skupina D | O22: 1 | R22: 2 | U22: 3 | X22: 4 | AA22: v | AB22: p | AC22: sety | AF22: b | AG22: m
A23: 1 | B23: Perlík Josef (8) (SKST) | O23: xxx | R23: 2 | S23: : | T23: 3 | U23: 3 | V23: : | W23: 0 | X23: 3 | Y23: : | Z23: 2 | AA23: =IF(B23<>"",SUM(IF(R23>T23,1,0),IF(U23>W23,1,0),IF(X23>Z23,1,0)),"") -> 2 | AB23: =IF(B23<>"",SUM(IF(R23<T23,1,0),IF(U23<W23,1,0),IF(X23<Z23,1,0)),"") -> 1 | AC23: =IF(B23<>"",R23+U23+X23,"") -> 8 | AD23: : | AE23: =IF(B23<>"",T23+W23+Z23,"") -> 5 | AF23: =IF(B23<>"",(AA23*2)+AB23,"") -> 5 | AG23: =IF(B23<>"",RANK(AF23,$AF$23:$AF$26,0)+IF(AI23<>"",RANK(AI23,$AI$23:$AI$26,0)-1,0),"") -> 2
A24: 2 | B24: Tuma Theodor (9) (PINK!) | O24: =T23 -> 3 | P24: : | Q24: =R23 -> 2 | R24: xxx | U24: 3 | V24: : | W24: 0 | X24: 3 | Y24: : | Z24: 1 | AA24: =IF(B24<>"",SUM(IF(O24>Q24,1,0),IF(U24>W24,1,0),IF(X24>Z24,1,0)),"") -> 3 | AB24: =IF(B24<>"",SUM(IF(O24<Q24,1,0),IF(U24<W24,1,0),IF(X24<Z24,1,0)),"") -> 0 | AC24: =IF(B24<>"",O24+U24+X24,"") -> 9 | AD24: : | AE24: =IF(B24<>"",Q24+W24+Z24,"") -> 3 | AF24: =IF(B24<>"",(AA24*2)+AB24,"") -> 6 | AG24: =IF(B24<>"",RANK(AF24,$AF$23:$AF$26,0)+IF(AI24<>"",RANK(AI24,$AI$23:$AI$26,0)-1,0),"") -> 1
A25: 3 | B25: Krob Vojtěch (26) (ČL) | O25: =W23 -> 0 | P25: : | Q25: =U23 -> 3 | R25: =W24 -> 0 | S25: : | T25: =U24 -> 3 | U25: xxx | X25: 0 | Y25: : | Z25: 3 | AA25: =IF(B25<>"",SUM(IF(O25>Q25,1,0),IF(R25>T25,1,0),IF(X25>Z25,1,0)),"") -> 0 | AB25: =IF(B25<>"",SUM(IF(O25<Q25,1,0),IF(R25<T25,1,0),IF(X25<Z25,1,0)),"") -> 3 | AC25: =IF(B25<>"",O25+R25+X25,"") -> 0 | AD25: : | AE25: =IF(B25<>"",Q25+T25+Z25,"") -> 9 | AF25: =IF(B25<>"",(AA25*2)+AB25,"") -> 3 | AG25: =IF(B25<>"",RANK(AF25,$AF$23:$AF$26,0)+IF(AI25<>"",RANK(AI25,$AI$23:$AI$26,0)-1,0),"") -> 4
A26: 4 | B26: Kvapil Tomáš (24) (ST Fr.) | O26: =Z23 -> 2 | P26: : | Q26: =X23 -> 3 | R26: =Z24 -> 1 | S26: : | T26: =X24 -> 3 | U26: =Z25 -> 3 | V26: : | W26: =X25 -> 0 | X26: xxx | AA26: =IF(B26<>"",SUM(IF(O26>Q26,1,0),IF(R26>T26,1,0),IF(U26>W26,1,0)),"") -> 1 | AB26: =IF(B26<>"",SUM(IF(O26<Q26,1,0),IF(R26<T26,1,0),IF(U26<W26,1,0)),"") -> 2 | AC26: =IF(B26<>"",O26+R26+U26,"") -> 6 | AD26: : | AE26: =IF(B26<>"",Q26+T26+W26,"") -> 6 | AF26: =IF(B26<>"",(AA26*2)+AB26,"") -> 4 | AG26: =IF(B26<>"",RANK(AF26,$AF$23:$AF$26,0)+IF(AI26<>"",RANK(AI26,$AI$23:$AI$26,0)-1,0),"") -> 3
A29: =A1 -> 1. KBT Libereckého kraje | K29: =K1 -> Liberec, 28.9.2026 | U29: =U1 -> Divize | X29: =X1 -> A | AA29: =Z32 -> o 1.-8. místo
A32: Jungmann Matěj (3) (SKST) | Z32: o 1.-8. místo
L33: =IF(L34="3:0",A32,IF(L34="3:1",A32,IF(L34="3:2",A32,IF(L34="2:3",A34,IF(L34="1:3",A34,IF(L34="0:3",A34,"")))))) -> Provazníková Alena (21) (Bižu)
A34: Provazníková Alena (21) (Bižu) | L34: 2:3
W35: =IF(W36="3:0",L33,IF(W36="3:1",L33,IF(W36="3:2",L33,IF(W36="2:3",L37,IF(W36="1:3",L37,IF(W36="0:3",L37,"")))))) -> Čupcová Viktorie (12) (SKST)
A36: Čupcová Viktorie (12) (SKST) | W36: 0:3
L37: =IF(L38="3:0",A36,IF(L38="3:1",A36,IF(L38="3:2",A36,IF(L38="2:3",A38,IF(L38="1:3",A38,IF(L38="0:3",A38,"")))))) -> Čupcová Viktorie (12) (SKST)
A38: Tuma Theodor (9) (PINK!) | L38: 3:0
W39: =IF(W40="3:0",W35,IF(W40="3:1",W35,IF(W40="3:2",W35,IF(W40="2:3",W43,IF(W40="1:3",W43,IF(W40="0:3",W43,"")))))) -> Němec Štěpán (7) (SKST)
A40: Němec Štěpán (7) (SKST) | W40: 1:3
L41: =IF(L42="3:0",A40,IF(L42="3:1",A40,IF(L42="3:2",A40,IF(L42="2:3",A42,IF(L42="1:3",A42,IF(L42="0:3",A42,"")))))) -> Němec Štěpán (7) (SKST)
A42: Hrníčko Matyáš (28) (PINK!) | L42: 3:2
W43: =IF(W44="3:0",L41,IF(W44="3:1",L41,IF(W44="3:2",L41,IF(W44="2:3",L45,IF(W44="1:3",L45,IF(W44="0:3",L45,"")))))) -> Němec Štěpán (7) (SKST)
A44: Perlík Josef (8) (SKST) | W44: 3:2
L45: =IF(L46="3:0",A44,IF(L46="3:1",A44,IF(L46="3:2",A44,IF(L46="2:3",A46,IF(L46="1:3",A46,IF(L46="0:3",A46,"")))))) -> Polívka Matyáš (6) (PINK!)
A46: Polívka Matyáš (6) (PINK!) | L46: 2:3
A49: =IF(L34="3:0",A34,IF(L34="3:1",A34,IF(L34="3:2",A34,IF(L34="2:3",A32,IF(L34="1:3",A32,IF(L34="0:3",A32,"")))))) -> Jungmann Matěj (3) (SKST) | Z49: o 5.-8. místo
L50: =IF(L51="3:0",A49,IF(L51="3:1",A49,IF(L51="3:2",A49,IF(L51="2:3",A51,IF(L51="1:3",A51,IF(L51="0:3",A51,"")))))) -> Tuma Theodor (9) (PINK!)
A51: =IF(L38="3:0",A38,IF(L38="3:1",A38,IF(L38="3:2",A38,IF(L38="2:3",A36,IF(L38="1:3",A36,IF(L38="0:3",A36,"")))))) -> Tuma Theodor (9) (PINK!) | L51: 2:3
...

Sheet div_B
A1: =div_A!A1 -> 1. KBT Libereckého kraje | K1: =div_A!K1 -> Liberec, 28.9.2026 | U1: Divize | X1: B | AA1: Základní skupiny
C4: skupina A | O4: 1 | R4: 2 | U4: 3 | X4: 4 | AA4: v | AB4: p | AC4: sety | AF4: b | AG4: m
A5: 1 | B5: Korpová Tereza (16) (PINK!) | O5: xxx | R5: 2 | S5: : | T5: 3 | U5: 3 | V5: : | W5: 0 | X5: 1 | Y5: : | Z5: 3 | AA5: =IF(B5<>"",SUM(IF(R5>T5,1,0),IF(U5>W5,1,0),IF(X5>Z5,1,0)),"") -> 1 | AB5: =IF(B5<>"",SUM(IF(R5<T5,1,0),IF(U5<W5,1,0),IF(X5<Z5,1,0)),"") -> 2 | AC5: =IF(B5<>"",R5+U5+X5,"") -> 6 | AD5: : | AE5: =IF(B5<>"",T5+W5+Z5,"") -> 6 | AF5: =IF(B5<>"",(AA5*2)+AB5,"") -> 4 | AG5: =IF(B5<>"",RANK(AF5,$AF$5:$AF$8,0)+IF(AI5<>"",RANK(AI5,$AI$5:$AI$8,0)-1,0),"") -> 3
A6: 2 | B6: Pinc Jonáš (42) (AST) | O6: =T5 -> 3 | P6: : | Q6: =R5 -> 2 | R6: xxx | U6: 3 | V6: : | W6: 2 | X6: 3 | Y6: : | Z6: 1 | AA6: =IF(B6<>"",SUM(IF(O6>Q6,1,0),IF(U6>W6,1,0),IF(X6>Z6,1,0)),"") -> 3 | AB6: =IF(B6<>"",SUM(IF(O6<Q6,1,0),IF(U6<W6,1,0),IF(X6<Z6,1,0)),"") -> 0 | AC6: =IF(B6<>"",O6+U6+X6,"") -> 9 | AD6: : | AE6: =IF(B6<>"",Q6+W6+Z6,"") -> 5 | AF6: =IF(B6<>"",(AA6*2)+AB6,"") -> 6 | AG6: =IF(B6<>"",RANK(AF6,$AF$5:$AF$8,0)+IF(AI6<>"",RANK(AI6,$AI$5:$AI$8,0)-1,0),"") -> 1
A7: 3 | B7: Leksa Michal (57) (STAR) | O7: =W5 -> 0 | P7: : | Q7: =U5 -> 3 | R7: =W6 -> 2 | S7: : | T7: =U6 -> 3 | U7: xxx | X7: 0 | Y7: : | Z7: 3 | AA7: =IF(B7<>"",SUM(IF(O7>Q7,1,0),IF(R7>T7,1,0),IF(X7>Z7,1,0)),"") -> 0 | AB7: =IF(B7<>"",SUM(IF(O7<Q7,1,0),IF(R7<T7,1,0),IF(X7<Z7,1,0)),"") -> 3 | AC7: =IF(B7<>"",O7+R7+X7,"") -> 2 | AD7: : | AE7: =IF(B7<>"",Q7+T7+Z7,"") -> 9 | AF7: =IF(B7<>"",(AA7*2)+AB7,"") -> 3 | AG7: =IF(B7<>"",RANK(AF7,$AF$5:$AF$8,0)+IF(AI7<>"",RANK(AI7,$AI$5:$AI$8,0)-1,0),"") -> 4
A8: 4 | B8: Humhal Jiří (46) (ČL) | O8: =Z5 -> 3 | P8: : | Q8: =X5 -> 1 | R8: =Z6 -> 1 | S8: : | T8: =X6 -> 3 | U8: =Z7 -> 3 | V8: : | W8: =X7 -> 0 | X8: xxx | AA8: =IF(B8<>"",SUM(IF(O8>Q8,1,0),IF(R8>T8,1,0),IF(U8>W8,1,0)),"") -> 2 | AB8: =IF(B8<>"",SUM(IF(O8<Q8,1,0),IF(R8<T8,1,0),IF(U8<W8,1,0)),"") -> 1 | AC8: =IF(B8<>"",O8+R8+U8,"") -> 7 | AD8: : | AE8: =IF(B8<>"",Q8+T8+W8,"") -> 4 | AF8: =IF(B8<>"",(AA8*2)+AB8,"") -> 5 | AG8: =IF(B8<>"",RANK(AF8,$AF$5:$AF$8,0)+IF(AI8<>"",RANK(AI8,$AI$5:$AI$8,0)-1,0),"") -> 2
C10: skupina B | O10: 1 | R10: 2 | U10: 3 | X10: 4 | AA10: v | AB10: p | AC10: sety | AF10: b | AG10: m
A11: 1 | B11: Svoboda Daniel (24) (STAR) | O11: xxx | R11: 3 | S11: : | T11: 2 | U11: 3 | V11: : | W11: 2 | X11: 3 | Y11: : | Z11: 0 | AA11: =IF(B11<>"",SUM(IF(R11>T11,1,0),IF(U11>W11,1,0),IF(X11>Z11,1,0)),"") -> 3 | AB11: =IF(B11<>"",SUM(IF(R11<T11,1,0),IF(U11<W11,1,0),IF(X11<Z11,1,0)),"") -> 0 | AC11: =IF(B11<>"",R11+U11+X11,"") -> 9 | AD11: : | AE11: =IF(B11<>"",T11+W11+Z11,"") -> 4 | AF11: =IF(B11<>"",(AA11*2)+AB11,"") -> 6 | AG11: =IF(B11<>"",RANK(AF11,$AF$11:$AF$14,0)+IF(AI11<>"",RANK(AI11,$AI$11:$AI$14,0)-1,0),"") -> 1
A12: 2 | B12: Švarc Dominik (39) (Bižu) | O12: =T11 -> 2 | P12: : | Q12: =R11 -> 3 | R12: xxx | U12: 1 | V12: : | W12: 3 | X12: 3 | Y12: : | Z12: 2 | AA12: =IF(B12<>"",SUM(IF(O12>Q12,1,0),IF(U12>W12,1,0),IF(X12>Z12,1,0)),"") -> 1 | AB12: =IF(B12<>"",SUM(IF(O12<Q12,1,0),IF(U12<W12,1,0),IF(X12<Z12,1,0)),"") -> 2 | AC12: =IF(B12<>"",O12+U12+X12,"") -> 6 | AD12: : | AE12: =IF(B12<>"",Q12+W12+Z12,"") -> 8 | AF12: =IF(B12<>"",(AA12*2)+AB12,"") -> 4 | AG12: =IF(B12<>"",RANK(AF12,$AF$11:$AF$14,0)+IF(AI12<>"",RANK(AI12,$AI$11:$AI$14,0)-1,0),"") -> 3
A13: 3 | B13: Salaba Marek (47) (Smržovka) | O13: =W11 -> 2 | P13: : | Q13: =U11 -> 3 | R13: =W12 -> 3 | S13: : | T13: =U12 -> 1 | U13: xxx | X13: 3 | Y13: : | Z13: 1 | AA13: =IF(B13<>"",SUM(IF(O13>Q13,1,0),IF(R13>T13,1,0),IF(X13>Z13,1,0)),"") -> 2 | AB13: =IF(B13<>"",SUM(IF(O13<Q13,1,0),IF(R13<T13,1,0),IF(X13<Z13,1,0)),"") -> 1 | AC13: =IF(B13<>"",O13+R13+X13,"") -> 8 | AD13: : | AE13: =IF(B13<>"",Q13+T13+Z13,"") -> 5 | AF13: =IF(B13<>"",(AA13*2)+AB13,"") -> 5 | AG13: =IF(B13<>"",RANK(AF13,$AF$11:$AF$14,0)+IF(AI13<>"",RANK(AI13,$AI$11:$AI$14,0)-1,0),"") -> 2
A14: 4 | B14: Johanová Sofie (50) (PINK!) | O14: =Z11 -> 0 | P14: : | Q14: =X11 -> 3 | R14: =Z12 -> 2 | S14: : | T14: =X12 -> 3 | U14: =Z13 -> 1 | V14: : | W14: =X13 -> 3 | X14: xxx | AA14: =IF(B14<>"",SUM(IF(O14>Q14,1,0),IF(R14>T14,1,0),IF(U14>W14,1,0)),"") -> 0 | AB14: =IF(B14<>"",SUM(IF(O14<Q14,1,0),IF(R14<T14,1,0),IF(U14<W14,1,0)),"") -> 3 | AC14: =IF(B14<>"",O14+R14+U14,"") -> 3 | AD14: : | AE14: =IF(B14<>"",Q14+T14+W14,"") -> 9 | AF14: =IF(B14<>"",(AA14*2)+AB14,"") -> 3 | AG14: =IF(B14<>"",RANK(AF14,$AF$11:$AF$14,0)+IF(AI14<>"",RANK(AI14,$AI$11:$AI$14,0)-1,0),"") -> 4
C16: skupina C | O16: 1 | R16: 2 | U16: 3 | X16: 4 | AA16: v | AB16: p | AC16: sety | AF16: b | AG16: m
A17: 1 | B17: Kuchyňa Josef (31) (Bižu) | O17: xxx | R17: 3 | S17: : | T17: 0 | U17: 3 | V17: : | W17: 1 | X17: 3 | Y17: : | Z17: 0 | AA17: =IF(B17<>"",SUM(IF(R17>T17,1,0),IF(U17>W17,1,0),IF(X17>Z17,1,0)),"") -> 3 | AB17: =IF(B17<>"",SUM(IF(R17<T17,1,0),IF(U17<W17,1,0),IF(X17<Z17,1,0)),"") -> 0 | AC17: =IF(B17<>"",R17+U17+X17,"") -> 9 | AD17: : | AE17: =IF(B17<>"",T17+W17+Z17,"") -> 1 | AF17: =IF(B17<>"",(AA17*2)+AB17,"") -> 6 | AG17: =IF(B17<>"",RANK(AF17,$AF$17:$AF$20,0)+IF(AI17<>"",RANK(AI17,$AI$17:$AI$20,0)-1,0),"") -> 1
A18: 2 | B18: Čupcová Valerie (36) (SKST) | O18: =T17 -> 0 | P18: : | Q18: =R17 -> 3 | R18: xxx | U18: 3 | V18: : | W18: 0 | X18: 3 | Y18: : | Z18: 1 | AA18: =IF(B18<>"",SUM(IF(O18>Q18,1,0),IF(U18>W18,1,0),IF(X18>Z18,1,0)),"") -> 2 | AB18: =IF(B18<>"",SUM(IF(O18<Q18,1,0),IF(U18<W18,1,0),IF(X18<Z18,1,0)),"") -> 1 | AC18: =IF(B18<>"",O18+U18+X18,"") -> 6 | AD18: : | AE18: =IF(B18<>"",Q18+W18+Z18,"") -> 4 | AF18: =IF(B18<>"",(AA18*2)+AB18,"") -> 5 | AG18: =IF(B18<>"",RANK(AF18,$AF$17:$AF$20,0)+IF(AI18<>"",RANK(AI18,$AI$17:$AI$20,0)-1,0),"") -> 2
A19: 3 | B19: Vorel Jan (56) (PINK!) | O19: =W17 -> 1 | P19: : | Q19: =U17 -> 3 | R19: =W18 -> 0 | S19: : | T19: =U18 -> 3 | U19: xxx | X19: 3 | Y19: : | Z19: 1 | AA19: =IF(B19<>"",SUM(IF(O19>Q19,1,0),IF(R19>T19,1,0),IF(X19>Z19,1,0)),"") -> 1 | AB19: =IF(B19<>"",SUM(IF(O19<Q19,1,0),IF(R19<T19,1,0),IF(X19<Z19,1,0)),"") -> 2 | AC19: =IF(B19<>"",O19+R19+X19,"") -> 4 | AD19: : | AE19: =IF(B19<>"",Q19+T19+Z19,"") -> 7 | AF19: =IF(B19<>"",(AA19*2)+AB19,"") -> 4 | AG19: =IF(B19<>"",RANK(AF19,$AF$17:$AF$20,0)+IF(AI19<>"",RANK(AI19,$AI$17:$AI$20,0)-1,0),"") -> 3
A20: 4 | B20: Janatka Adam (43) (ČL) | O20: =Z17 -> 0 | P20: : | Q20: =X17 -> 3 | R20: =Z18 -> 1 | S20: : | T20: =X18 -> 3 | U20: =Z19 -> 1 | V20: : | W20: =X19 -> 3 | X20: xxx | AA20: =IF(B20<>"",SUM(IF(O20>Q20,1,0),IF(R20>T20,1,0),IF(U20>W20,1,0)),"") -> 0 | AB20: =IF(B20<>"",SUM(IF(O20<Q20,1,0),IF(R20<T20,1,0),IF(U20<W20,1,0)),"") -> 3 | AC20: =IF(B20<>"",O20+R20+U20,"") -> 2 | AD20: : | AE20: =IF(B20<>"",Q20+T20+W20,"") -> 9 | AF20: =IF(B20<>"",(AA20*2)+AB20,"") -> 3 | AG20: =IF(B20<>"",RANK(AF20,$AF$17:$AF$20,0)+IF(AI20<>"",RANK(AI20,$AI$17:$AI$20,0)-1,0),"") -> 4
C22: skupina D | O22: 1 | R22: 2 | U22: 3 | X22: 4 | AA22: v | AB22: p | AC22: sety | AF22: b | AG22: m
A23: 1 | B23: Hudák František (36) (Bižu) | O23: xxx | R23: 1 | S23: : | T23: 3 | U23: 1 | V23: : | W23: 3 | X23: 0 | Y23: : | Z23: 3 | AA23: =IF(B23<>"",SUM(IF(R23>T23,1,0),IF(U23>W23,1,0),IF(X23>Z23,1,0)),"") -> 0 | AB23: =IF(B23<>"",SUM(IF(R23<T23,1,0),IF(U23<W23,1,0),IF(X23<Z23,1,0)),"") -> 3 | AC23: =IF(B23<>"",R23+U23+X23,"") -> 2 | AD23: : | AE23: =IF(B23<>"",T23+W23+Z23,"") -> 9 | AF23: =IF(B23<>"",(AA23*2)+AB23,"") -> 3 | AG23: =IF(B23<>"",RANK(AF23,$AF$23:$AF$26,0)+IF(AI23<>"",RANK(AI23,$AI$23:$AI$26,0)-1,0),"") -> 4
A24: 2 | B24: Vargová Stella (40) (PINK!) | O24: =T23 -> 3 | P24: : | Q24: =R23 -> 1 | R24: xxx | U24: 3 | V24: : | W24: 0 | X24: 2 | Y24: : | Z24: 3 | AA24: =IF(B24<>"",SUM(IF(O24>Q24,1,0),IF(U24>W24,1,0),IF(X24>Z24,1,0)),"") -> 2 | AB24: =IF(B24<>"",SUM(IF(O24<Q24,1,0),IF(U24<W24,1,0),IF(X24<Z24,1,0)),"") -> 1 | AC24: =IF(B24<>"",O24+U24+X24,"") -> 8 | AD24: : | AE24: =IF(B24<>"",Q24+W24+Z24,"") -> 4 | AF24: =IF(B24<>"",(AA24*2)+AB24,"") -> 5 | AG24: =IF(B24<>"",RANK(AF24,$AF$23:$AF$26,0)+IF(AI24<>"",RANK(AI24,$AI$23:$AI$26,0)-1,0),"") -> 2
A25: 3 | B25: Trojan Jáchym (53) (KMST) | O25: =W23 -> 3 | P25: : | Q25: =U23 -> 1 | R25: =W24 -> 0 | S25: : | T25: =U24 -> 3 | U25: xxx | X25: 0 | Y25: : | Z25: 3 | AA25: =IF(B25<>"",SUM(IF(O25>Q25,1,0),IF(R25>T25,1,0),IF(X25>Z25,1,0)),"") -> 1 | AB25: =IF(B25<>"",SUM(IF(O25<Q25,1,0),IF(R25<T25,1,0),IF(X25<Z25,1,0)),"") -> 2 | AC25: =IF(B25<>"",O25+R25+X25,"") -> 3 | AD25: : | AE25: =IF(B25<>"",Q25+T25+Z25,"") -> 7 | AF25: =IF(B25<>"",(AA25*2)+AB25,"") -> 4 | AG25: =IF(B25<>"",RANK(AF25,$AF$23:$AF$26,0)+IF(AI25<>"",RANK(AI25,$AI$23:$AI$26,0)-1,0),"") -> 3
A26: 4 | B26: Rachač Daniel (44) (ČL) | O26: =Z23 -> 3 | P26: : | Q26: =X23 -> 0 | R26: =Z24 -> 3 | S26: : | T26: =X24 -> 2 | U26: =Z25 -> 3 | V26: : | W26: =X25 -> 0 | X26: xxx | AA26: =IF(B26<>"",SUM(IF(O26>Q26,1,0),IF(R26>T26,1,0),IF(U26>W26,1,0)),"") -> 3 | AB26: =IF(B26<>"",SUM(IF(O26<Q26,1,0),IF(R26<T26,1,0),IF(U26<W26,1,0)),"") -> 0 | AC26: =IF(B26<>"",O26+R26+U26,"") -> 9 | AD26: : | AE26: =IF(B26<>"",Q26+T26+W26,"") -> 2 | AF26: =IF(B26<>"",(AA26*2)+AB26,"") -> 6 | AG26: =IF(B26<>"",RANK(AF26,$AF$23:$AF$26,0)+IF(AI26<>"",RANK(AI26,$AI$23:$AI$26,0)-1,0),"") -> 1
A29: =A1 -> 1. KBT Libereckého kraje | K29: =K1 -> Liberec, 28.9.2026 | U29: =U1 -> Divize | X29: =X1 -> B | AA29: =Z32 -> o 1.-8. místo
A32: Pinc Jonáš (42) (AST) | Z32: o 1.-8. místo
L33: =IF(L34="3:0",A32,IF(L34="3:1",A32,IF(L34="3:2",A32,IF(L34="2:3",A34,IF(L34="1:3",A34,IF(L34="0:3",A34,"")))))) -> Vargová Stella (40) (PINK!)
A34: Vargová Stella (40) (PINK!) | L34: 1:3
W35: =IF(W36="3:0",L33,IF(W36="3:1",L33,IF(W36="3:2",L33,IF(W36="2:3",L37,IF(W36="1:3",L37,IF(W36="0:3",L37,"")))))) -> Kuchyňa Josef (31) (Bižu)
A36: Salaba Marek (47) (Smržovka) | W36: 2:3
L37: =IF(L38="3:0",A36,IF(L38="3:1",A36,IF(L38="3:2",A36,IF(L38="2:3",A38,IF(L38="1:3",A38,IF(L38="0:3",A38,"")))))) -> Kuchyňa Josef (31) (Bižu)
A38: Kuchyňa Josef (31) (Bižu) | L38: 2:3
W39: =IF(W40="3:0",W35,IF(W40="3:1",W35,IF(W40="3:2",W35,IF(W40="2:3",W43,IF(W40="1:3",W43,IF(W40="0:3",W43,"")))))) -> Kuchyňa Josef (31) (Bižu)
A40: Rachač Daniel (44) (ČL) | W40: 3:0
L41: =IF(L42="3:0",A40,IF(L42="3:1",A40,IF(L42="3:2",A40,IF(L42="2:3",A42,IF(L42="1:3",A42,IF(L42="0:3",A42,"")))))) -> Čupcová Valerie (36) (SKST)
A42: Čupcová Valerie (36) (SKST) | L42: 2:3
W43: =IF(W44="3:0",L41,IF(W44="3:1",L41,IF(W44="3:2",L41,IF(W44="2:3",L45,IF(W44="1:3",L45,IF(W44="0:3",L45,"")))))) -> Svoboda Daniel (24) (STAR)
A44: Humhal Jiří (46) (ČL) | W44: 2:3
L45: =IF(L46="3:0",A44,IF(L46="3:1",A44,IF(L46="3:2",A44,IF(L46="2:3",A46,IF(L46="1:3",A46,IF(L46="0:3",A46,"")))))) -> Svoboda Daniel (24) (STAR)
A46: Svoboda Daniel (24) (STAR) | L46: 2:3
A49: =IF(L34="3:0",A34,IF(L34="3:1",A34,IF(L34="3:2",A34,IF(L34="2:3",A32,IF(L34="1:3",A32,IF(L34="0:3",A32,"")))))) -> Pinc Jonáš (42) (AST) | Z49: o 5.-8. místo
L50: =IF(L51="3:0",A49,IF(L51="3:1",A49,IF(L51="3:2",A49,IF(L51="2:3",A51,IF(L51="1:3",A51,IF(L51="0:3",A51,"")))))) -> Pinc Jonáš (42) (AST)
A51: =IF(L38="3:0",A38,IF(L38="3:1",A38,IF(L38="3:2",A38,IF(L38="2:3",A36,IF(L38="1:3",A36,IF(L38="0:3",A36,"")))))) -> Salaba Marek (47) (Smržovka) | L51: 3:0
...

Sheet div_C
A1: =div_A!A1 -> 1. KBT Libereckého kraje | K1: =div_A!K1 -> Liberec, 28.9.2026 | U1: Divize | X1: C | AA1: Základní skupiny
C4: skupina A | O4: 1 | R4: 2 | U4: 3 | X4: 4 | AA4: v | AB4: p | AC4: sety | AF4: b | AG4: m
A5: 1 | B5: Svoboda Jan (49) (PINK!) | O5: xxx | R5: 1 | S5: : | T5: 3 | U5: 3 | V5: : | W5: 1 | X5: 3 | Y5: : | Z5: 1 | AA5: =IF(B5<>"",SUM(IF(R5>T5,1,0),IF(U5>W5,1,0),IF(X5>Z5,1,0)),"") -> 2 | AB5: =IF(B5<>"",SUM(IF(R5<T5,1,0),IF(U5<W5,1,0),IF(X5<Z5,1,0)),"") -> 1 | AC5: =IF(B5<>"",R5+U5+X5,"") -> 7 | AD5: : | AE5: =IF(B5<>"",T5+W5+Z5,"") -> 5 | AF5: =IF(B5<>"",(AA5*2)+AB5,"") -> 5 | AG5: =IF(B5<>"",RANK(AF5,$AF$5:$AF$8,0)+IF(AI5<>"",RANK(AI5,$AI$5:$AFH$8,0)-1,0),"") -> 2 | AI5: =DIVIDE(4,4) -> 1
A6: 2 | B6: Jaška Petr (60) (AST) | O6: =T5 -> 3 | P6: : | Q6: =R5 -> 1 | R6: xxx | U6: 3 | V6: : | W6: 1 | X6: 0 | Y6: : | Z6: 3 | AA6: =IF(B6<>"",SUM(IF(O6>Q6,1,0),IF(U6>W6,1,0),IF(X6>Z6,1,0)),"") -> 2 | AB6: =IF(B6<>"",SUM(IF(O6<Q6,1,0),IF(U6<W6,1,0),IF(X6<Z6,1,0)),"") -> 1 | AC6: =IF(B6<>"",O6+U6+X6,"") -> 6 | AD6: : | AE6: =IF(B6<>"",Q6+W6+Z6,"") -> 5 | AF6: =IF(B6<>"",(AA6*2)+AB6,"") -> 5 | AG6: =IF(B6<>"",RANK(AF6,$AF$5:$AF$8,0)+IF(AI6<>"",RANK(AI6,$AI$5:$AFH$8,0)-1,0),"") -> 3 | AI6: =DIVIDE(3,4) -> 0.75
A7: 3 | B7: Šulc Adam (83) (PINK!) | O7: =W5 -> 1 | P7: : | Q7: =U5 -> 3 | R7: =W6 -> 1 | S7: : | T7: =U6 -> 3 | U7: xxx | X7: 0 | Y7: : | Z7: 3 | AA7: =IF(B7<>"",SUM(IF(O7>Q7,1,0),IF(R7>T7,1,0),IF(X7>Z7,1,0)),"") -> 0 | AB7: =IF(B7<>"",SUM(IF(O7<Q7,1,0),IF(R7<T7,1,0),IF(X7<Z7,1,0)),"") -> 3 | AC7: =IF(B7<>"",O7+R7+X7,"") -> 2 | AD7: : | AE7: =IF(B7<>"",Q7+T7+Z7,"") -> 9 | AF7: =IF(B7<>"",(AA7*2)+AB7,"") -> 3 | AG7: =IF(B7<>"",RANK(AF7,$AF$5:$AF$8,0)+IF(AI7<>"",RANK(AI7,$AI$5:$AFH$8,0)-1,0),"") -> 4
A8: 4 | B8: Charousek Mikuláš (66) (KMST) | O8: =Z5 -> 1 | P8: : | Q8: =X5 -> 3 | R8: =Z6 -> 3 | S8: : | T8: =X6 -> 0 | U8: =Z7 -> 3 | V8: : | W8: =X7 -> 0 | X8: xxx | AA8: =IF(B8<>"",SUM(IF(O8>Q8,1,0),IF(R8>T8,1,0),IF(U8>W8,1,0)),"") -> 2 | AB8: =IF(B8<>"",SUM(IF(O8<Q8,1,0),IF(R8<T8,1,0),IF(U8<W8,1,0)),"") -> 1 | AC8: =IF(B8<>"",O8+R8+U8,"") -> 7 | AD8: : | AE8: =IF(B8<>"",Q8+T8+W8,"") -> 3 | AF8: =IF(B8<>"",(AA8*2)+AB8,"") -> 5 | AG8: =IF(B8<>"",RANK(AF8,$AF$5:$AF$8,0)+IF(AI8<>"",RANK(AI8,$AI$5:$AFH$8,0)-1,0),"") -> 1 | AI8: =DIVIDE(4,3) -> 1.3333333
C10: skupina B | O10: 1 | R10: 2 | U10: 3 | X10: 4 | AA10: v | AB10: p | AC10: sety | AF10: b | AG10: m
A11: 1 | B11: Trávníčková Tereza (52) (SKST) | O11: xxx | R11: 3 | S11: : | T11: 0 | U11: 3 | V11: : | W11: 0 | X11: 3 | Y11: : | Z11: 0 | AA11: =IF(B11<>"",SUM(IF(R11>T11,1,0),IF(U11>W11,1,0),IF(X11>Z11,1,0)),"") -> 3 | AB11: =IF(B11<>"",SUM(IF(R11<T11,1,0),IF(U11<W11,1,0),IF(X11<Z11,1,0)),"") -> 0 | AC11: =IF(B11<>"",R11+U11+X11,"") -> 9 | AD11: : | AE11: =IF(B11<>"",T11+W11+Z11,"") -> 0 | AF11: =IF(B11<>"",(AA11*2)+AB11,"") -> 6 | AG11: =IF(B11<>"",RANK(AF11,$AF$11:$AF$14,0)+IF(AI11<>"",RANK(AI11,$AI$11:$AI$14,0)-1,0),"") -> 1
A12: 2 | B12: Peřina Jan (61) (PINK!) | O12: =T11 -> 0 | P12: : | Q12: =R11 -> 3 | R12: xxx | U12: 3 | V12: : | W12: 1 | X12: 3 | Y12: : | Z12: 2 | AA12: =IF(B12<>"",SUM(IF(O12>Q12,1,0),IF(U12>W12,1,0),IF(X12>Z12,1,0)),"") -> 2 | AB12: =IF(B12<>"",SUM(IF(O12<Q12,1,0),IF(U12<W12,1,0),IF(X12<Z12,1,0)),"") -> 1 | AC12: =IF(B12<>"",O12+U12+X12,"") -> 6 | AD12: : | AE12: =IF(B12<>"",Q12+W12+Z12,"") -> 6 | AF12: =IF(B12<>"",(AA12*2)+AB12,"") -> 5 | AG12: =IF(B12<>"",RANK(AF12,$AF$11:$AF$14,0)+IF(AI12<>"",RANK(AI12,$AI$11:$AI$14,0)-1,0),"") -> 2
A13: 3 | B13: Dočekal František (79) (PINK!) | O13: =W11 -> 0 | P13: : | Q13: =U11 -> 3 | R13: =W12 -> 1 | S13: : | T13: =U12 -> 3 | U13: xxx | X13: 3 | Y13: : | Z13: 0 | AA13: =IF(B13<>"",SUM(IF(O13>Q13,1,0),IF(R13>T13,1,0),IF(X13>Z13,1,0)),"") -> 1 | AB13: =IF(B13<>"",SUM(IF(O13<Q13,1,0),IF(R13<T13,1,0),IF(X13<Z13,1,0)),"") -> 2 | AC13: =IF(B13<>"",O13+R13+X13,"") -> 4 | AD13: : | AE13: =IF(B13<>"",Q13+T13+Z13,"") -> 6 | AF13: =IF(B13<>"",(AA13*2)+AB13,"") -> 4 | AG13: =IF(B13<>"",RANK(AF13,$AF$11:$AF$14,0)+IF(AI13<>"",RANK(AI13,$AI$11:$AI$14,0)-1,0),"") -> 3
A14: 4 | B14: Louda Štěpán (107) (STAR) | O14: =Z11 -> 0 | P14: : | Q14: =X11 -> 3 | R14: =Z12 -> 2 | S14: : | T14: =X12 -> 3 | U14: =Z13 -> 0 | V14: : | W14: =X13 -> 3 | X14: xxx | AA14: =IF(B14<>"",SUM(IF(O14>Q14,1,0),IF(R14>T14,1,0),IF(U14>W14,1,0)),"") -> 0 | AB14: =IF(B14<>"",SUM(IF(O14<Q14,1,0),IF(R14<T14,1,0),IF(U14<W14,1,0)),"") -> 3 | AC14: =IF(B14<>"",O14+R14+U14,"") -> 2 | AD14: : | AE14: =IF(B14<>"",Q14+T14+W14,"") -> 9 | AF14: =IF(B14<>"",(AA14*2)+AB14,"") -> 3 | AG14: =IF(B14<>"",RANK(AF14,$AF$11:$AF$14,0)+IF(AI14<>"",RANK(AI14,$AI$11:$AI$14,0)-1,0),"") -> 4
C16: skupina C | O16: 1 | R16: 2 | U16: 3 | X16: 4 | AA16: v | AB16: p | AC16: sety | AF16: b | AG16: m
A17: 1 | B17: Ponocný Radek (54) (STAR) | O17: xxx | R17: 3 | S17: : | T17: 1 | U17: 3 | V17: : | W17: 0 | X17: 2 | Y17: : | Z17: 3 | AA17: =IF(B17<>"",SUM(IF(R17>T17,1,0),IF(U17>W17,1,0),IF(X17>Z17,1,0)),"") -> 2 | AB17: =IF(B17<>"",SUM(IF(R17<T17,1,0),IF(U17<W17,1,0),IF(X17<Z17,1,0)),"") -> 1 | AC17: =IF(B17<>"",R17+U17+X17,"") -> 8 | AD17: : | AE17: =IF(B17<>"",T17+W17+Z17,"") -> 4 | AF17: =IF(B17<>"",(AA17*2)+AB17,"") -> 5 | AG17: =IF(B17<>"",RANK(AF17,$AF$17:$AF$20,0),"") -> 2
A18: 2 | B18: Harus Petr (59) (PINK!) | O18: =T17 -> 1 | P18: : | Q18: =R17 -> 3 | R18: xxx | U18: 0 | V18: : | W18: 3 | X18: 0 | Y18: : | Z18: 3 | AA18: =IF(B18<>"",SUM(IF(O18>Q18,1,0),IF(U18>W18,1,0),IF(X18>Z18,1,0)),"") -> 0 | AB18: =IF(B18<>"",SUM(IF(O18<Q18,1,0),IF(U18<W18,1,0),IF(X18<Z18,1,0)),"") -> 3 | AC18: =IF(B18<>"",O18+U18+X18,"") -> 1 | AD18: : | AE18: =IF(B18<>"",Q18+W18+Z18,"") -> 9 | AF18: =IF(B18<>"",(AA18*2)+AB18,"") -> 3 | AG18: =IF(B18<>"",RANK(AF18,$AF$17:$AF$20,0),"") -> 4
A19: 3 | B19: Mach Jiří (77) (Víchová) | O19: =W17 -> 0 | P19: : | Q19: =U17 -> 3 | R19: =W18 -> 3 | S19: : | T19: =U18 -> 0 | U19: xxx | X19: 0 | Y19: : | Z19: 3 | AA19: =IF(B19<>"",SUM(IF(O19>Q19,1,0),IF(R19>T19,1,0),IF(X19>Z19,1,0)),"") -> 1 | AB19: =IF(B19<>"",SUM(IF(O19<Q19,1,0),IF(R19<T19,1,0),IF(X19<Z19,1,0)),"") -> 2 | AC19: =IF(B19<>"",O19+R19+X19,"") -> 3 | AD19: : | AE19: =IF(B19<>"",Q19+T19+Z19,"") -> 6 | AF19: =IF(B19<>"",(AA19*2)+AB19,"") -> 4 | AG19: =IF(B19<>"",RANK(AF19,$AF$17:$AF$20,0),"") -> 3
A20: 4 | B20: Maršík Ondřej (64) (KMST) | O20: =Z17 -> 3 | P20: : | Q20: =X17 -> 2 | R20: =Z18 -> 3 | S20: : | T20: =X18 -> 0 | U20: =Z19 -> 3 | V20: : | W20: =X19 -> 0 | X20: xxx | AA20: =IF(B20<>"",SUM(IF(O20>Q20,1,0),IF(R20>T20,1,0),IF(U20>W20,1,0)),"") -> 3 | AB20: =IF(B20<>"",SUM(IF(O20<Q20,1,0),IF(R20<T20,1,0),IF(U20<W20,1,0)),"") -> 0 | AC20: =IF(B20<>"",O20+R20+U20,"") -> 9 | AD20: : | AE20: =IF(B20<>"",Q20+T20+W20,"") -> 2 | AF20: =IF(B20<>"",(AA20*2)+AB20,"") -> 6 | AG20: =IF(B20<>"",RANK(AF20,$AF$17:$AF$20,0),"") -> 1
C22: skupina D | O22: 1 | R22: 2 | U22: 3 | X22: 4 | AA22: v | AB22: p | AC22: sety | AF22: b | AG22: m
A23: 1 | B23: Doubrava Matyáš (58) (PINK!) | O23: xxx | R23: 3 | S23: : | T23: 0 | U23: 3 | V23: : | W23: 0 | X23: 3 | Y23: : | Z23: 0 | AA23: =IF(B23<>"",SUM(IF(R23>T23,1,0),IF(U23>W23,1,0),IF(X23>Z23,1,0)),"") -> 3 | AB23: =IF(B23<>"",SUM(IF(R23<T23,1,0),IF(U23<W23,1,0),IF(X23<Z23,1,0)),"") -> 0 | AC23: =IF(B23<>"",R23+U23+X23,"") -> 9 | AD23: : | AE23: =IF(B23<>"",T23+W23+Z23,"") -> 0 | AF23: =IF(B23<>"",(AA23*2)+AB23,"") -> 6 | AG23: =IF(B23<>"",RANK(AF23,$AF$23:$AF$26,0)+IF(AI23<>"",RANK(AI23,$AI$23:$AI$26,0)-1,0),"") -> 1
A24: 2 | B24: Hlubuček František (62) (N. Ves) | O24: =T23 -> 0 | P24: : | Q24: =R23 -> 3 | R24: xxx | U24: 3 | V24: : | W24: 2 | X24: 3 | Y24: : | Z24: 0 | AA24: =IF(B24<>"",SUM(IF(O24>Q24,1,0),IF(U24>W24,1,0),IF(X24>Z24,1,0)),"") -> 2 | AB24: =IF(B24<>"",SUM(IF(O24<Q24,1,0),IF(U24<W24,1,0),IF(X24<Z24,1,0)),"") -> 1 | AC24: =IF(B24<>"",O24+U24+X24,"") -> 6 | AD24: : | AE24: =IF(B24<>"",Q24+W24+Z24,"") -> 5 | AF24: =IF(B24<>"",(AA24*2)+AB24,"") -> 5 | AG24: =IF(B24<>"",RANK(AF24,$AF$23:$AF$26,0)+IF(AI24<>"",RANK(AI24,$AI$23:$AI$26,0)-1,0),"") -> 2
A25: 3 | B25: Moravec Matyáš (81) (KMST) | O25: =W23 -> 0 | P25: : | Q25: =U23 -> 3 | R25: =W24 -> 2 | S25: : | T25: =U24 -> 3 | U25: xxx | X25: 0 | Y25: : | Z25: 3 | AA25: =IF(B25<>"",SUM(IF(O25>Q25,1,0),IF(R25>T25,1,0),IF(X25>Z25,1,0)),"") -> 0 | AB25: =IF(B25<>"",SUM(IF(O25<Q25,1,0),IF(R25<T25,1,0),IF(X25<Z25,1,0)),"") -> 3 | AC25: =IF(B25<>"",O25+R25+X25,"") -> 2 | AD25: : | AE25: =IF(B25<>"",Q25+T25+Z25,"") -> 9 | AF25: =IF(B25<>"",(AA25*2)+AB25,"") -> 3 | AG25: =IF(B25<>"",RANK(AF25,$AF$23:$AF$26,0)+IF(AI25<>"",RANK(AI25,$AI$23:$AI$26,0)-1,0),"") -> 4
A26: 4 | B26: Bečková Adéla (75) (STAR) | O26: =Z23 -> 0 | P26: : | Q26: =X23 -> 3 | R26: =Z24 -> 0 | S26: : | T26: =X24 -> 3 | U26: =Z25 -> 3 | V26: : | W26: =X25 -> 0 | X26: xxx | AA26: =IF(B26<>"",SUM(IF(O26>Q26,1,0),IF(R26>T26,1,0),IF(U26>W26,1,0)),"") -> 1 | AB26: =IF(B26<>"",SUM(IF(O26<Q26,1,0),IF(R26<T26,1,0),IF(U26<W26,1,0)),"") -> 2 | AC26: =IF(B26<>"",O26+R26+U26,"") -> 3 | AD26: : | AE26: =IF(B26<>"",Q26+T26+W26,"") -> 6 | AF26: =IF(B26<>"",(AA26*2)+AB26,"") -> 4 | AG26: =IF(B26<>"",RANK(AF26,$AF$23:$AF$26,0)+IF(AI26<>"",RANK(AI26,$AI$23:$AI$26,0)-1,0),"") -> 3
A29: =A1 -> 1. KBT Libereckého kraje | K29: =K1 -> Liberec, 28.9.2026 | U29: =U1 -> Divize | X29: =X1 -> C | AA29: =Z32 -> o 1.-8. místo
A32: Charousek Mikuláš (66) (KMST) | Z32: o 1.-8. místo
L33: =IF(L34="3:0",A32,IF(L34="3:1",A32,IF(L34="3:2",A32,IF(L34="2:3",A34,IF(L34="1:3",A34,IF(L34="0:3",A34,"")))))) -> Charousek Mikuláš (66) (KMST)
A34: Hlubuček František (62) (N. Ves) | L34: 3:2
W35: =IF(W36="3:0",L33,IF(W36="3:1",L33,IF(W36="3:2",L33,IF(W36="2:3",L37,IF(W36="1:3",L37,IF(W36="0:3",L37,"")))))) -> Charousek Mikuláš (66) (KMST)
A36: Peřina Jan (61) (PINK!) | W36: 3:1
L37: =IF(L38="3:0",A36,IF(L38="3:1",A36,IF(L38="3:2",A36,IF(L38="2:3",A38,IF(L38="1:3",A38,IF(L38="0:3",A38,"")))))) -> Peřina Jan (61) (PINK!)
A38: Maršík Ondřej (64) (KMST) | L38: 3:1
W39: =IF(W40="3:0",W35,IF(W40="3:1",W35,IF(W40="3:2",W35,IF(W40="2:3",W43,IF(W40="1:3",W43,IF(W40="0:3",W43,"")))))) -> Trávníčková Tereza (52) (SKST)
A40: Doubrava Matyáš (58) (PINK!) | W40: 1:3
L41: =IF(L42="3:0",A40,IF(L42="3:1",A40,IF(L42="3:2",A40,IF(L42="2:3",A42,IF(L42="1:3",A42,IF(L42="0:3",A42,"")))))) -> Ponocný Radek (54) (STAR)
A42: Ponocný Radek (54) (STAR) | L42: 2:3
W43: =IF(W44="3:0",L41,IF(W44="3:1",L41,IF(W44="3:2",L41,IF(W44="2:3",L45,IF(W44="1:3",L45,IF(W44="0:3",L45,"")))))) -> Trávníčková Tereza (52) (SKST)
A44: Svoboda Jan (49) (PINK!) | W44: 2:3
L45: =IF(L46="3:0",A44,IF(L46="3:1",A44,IF(L46="3:2",A44,IF(L46="2:3",A46,IF(L46="1:3",A46,IF(L46="0:3",A46,"")))))) -> Trávníčková Tereza (52) (SKST)
A46: Trávníčková Tereza (52) (SKST) | L46: 1:3
A49: =IF(L34="3:0",A34,IF(L34="3:1",A34,IF(L34="3:2",A34,IF(L34="2:3",A32,IF(L34="1:3",A32,IF(L34="0:3",A32,"")))))) -> Hlubuček František (62) (N. Ves) | Z49: o 5.-8. místo
L50: =IF(L51="3:0",A49,IF(L51="3:1",A49,IF(L51="3:2",A49,IF(L51="2:3",A51,IF(L51="1:3",A51,IF(L51="0:3",A51,"")))))) -> Maršík Ondřej (64) (KMST)
A51: =IF(L38="3:0",A38,IF(L38="3:1",A38,IF(L38="3:2",A38,IF(L38="2:3",A36,IF(L38="1:3",A36,IF(L38="0:3",A36,"")))))) -> Maršík Ondřej (64) (KMST) | L51: 1:3
...

Sheet div_D
A1: =div_A!A1 -> 1. KBT Libereckého kraje | K1: =div_A!K1 -> Liberec, 28.9.2026 | U1: Divize | X1: D | AA1: Základní skupiny
C4: skupina A | O4: 1 | R4: 2 | U4: 3 | X4: 4 | AA4: v | AB4: p | AC4: sety | AF4: b | AG4: m
A5: 1 | B5: Růžková Stella (65) (PINK!) | O5: xxx | R5: 3 | S5: : | T5: 1 | U5: 3 | V5: : | W5: 0 | X5: 3 | Y5: : | Z5: 1 | AA5: =IF(B5<>"",SUM(IF(R5>T5,1,0),IF(U5>W5,1,0),IF(X5>Z5,1,0)),"") -> 3 | AB5: =IF(B5<>"",SUM(IF(R5<T5,1,0),IF(U5<W5,1,0),IF(X5<Z5,1,0)),"") -> 0 | AC5: =IF(B5<>"",R5+U5+X5,"") -> 9 | AD5: : | AE5: =IF(B5<>"",T5+W5+Z5,"") -> 2 | AF5: =IF(B5<>"",(AA5*2)+AB5,"") -> 6 | AG5: =IF(B5<>"",RANK(AF5,$AF$5:$AF$8,0),"") -> 1
A6: 2 | B6: Helebrant Aleš (89) (KMST) | O6: =T5 -> 1 | P6: : | Q6: =R5 -> 3 | R6: xxx | U6: 1 | V6: : | W6: 3 | X6: 2 | Y6: : | Z6: 3 | AA6: =IF(B6<>"",SUM(IF(O6>Q6,1,0),IF(U6>W6,1,0),IF(X6>Z6,1,0)),"") -> 0 | AB6: =IF(B6<>"",SUM(IF(O6<Q6,1,0),IF(U6<W6,1,0),IF(X6<Z6,1,0)),"") -> 3 | AC6: =IF(B6<>"",O6+U6+X6,"") -> 4 | AD6: : | AE6: =IF(B6<>"",Q6+W6+Z6,"") -> 9 | AF6: =IF(B6<>"",(AA6*2)+AB6,"") -> 3 | AG6: =IF(B6<>"",RANK(AF6,$AF$5:$AF$8,0),"") -> 4
A7: 3 | B7: Mařanová Alena (102) (N. Ves) | O7: =W5 -> 0 | P7: : | Q7: =U5 -> 3 | R7: =W6 -> 3 | S7: : | T7: =U6 -> 1 | U7: xxx | X7: 1 | Y7: : | Z7: 3 | AA7: =IF(B7<>"",SUM(IF(O7>Q7,1,0),IF(R7>T7,1,0),IF(X7>Z7,1,0)),"") -> 1 | AB7: =IF(B7<>"",SUM(IF(O7<Q7,1,0),IF(R7<T7,1,0),IF(X7<Z7,1,0)),"") -> 2 | AC7: =IF(B7<>"",O7+R7+X7,"") -> 4 | AD7: : | AE7: =IF(B7<>"",Q7+T7+Z7,"") -> 7 | AF7: =IF(B7<>"",(AA7*2)+AB7,"") -> 4 | AG7: =IF(B7<>"",RANK(AF7,$AF$5:$AF$8,0),"") -> 3
A8: 4 | B8: Horáčková Dorota (90) (STAR) | O8: =Z5 -> 1 | P8: : | Q8: =X5 -> 3 | R8: =Z6 -> 3 | S8: : | T8: =X6 -> 2 | U8: =Z7 -> 3 | V8: : | W8: =X7 -> 1 | X8: xxx | AA8: =IF(B8<>"",SUM(IF(O8>Q8,1,0),IF(R8>T8,1,0),IF(U8>W8,1,0)),"") -> 2 | AB8: =IF(B8<>"",SUM(IF(O8<Q8,1,0),IF(R8<T8,1,0),IF(U8<W8,1,0)),"") -> 1 | AC8: =IF(B8<>"",O8+R8+U8,"") -> 7 | AD8: : | AE8: =IF(B8<>"",Q8+T8+W8,"") -> 6 | AF8: =IF(B8<>"",(AA8*2)+AB8,"") -> 5 | AG8: =IF(B8<>"",RANK(AF8,$AF$5:$AF$8,0),"") -> 2
C10: skupina B | O10: 1 | R10: 2 | U10: 3 | X10: 4 | AA10: v | AB10: p | AC10: sety | AF10: b | AG10: m
A11: 1 | B11: Kyselová Angelika (73) (STAR) | O11: xxx | R11: 1 | S11: : | T11: 3 | U11: 3 | V11: : | W11: 1 | X11: 3 | Y11: : | Z11: 0 | AA11: =IF(B11<>"",SUM(IF(R11>T11,1,0),IF(U11>W11,1,0),IF(X11>Z11,1,0)),"") -> 2 | AB11: =IF(B11<>"",SUM(IF(R11<T11,1,0),IF(U11<W11,1,0),IF(X11<Z11,1,0)),"") -> 1 | AC11: =IF(B11<>"",R11+U11+X11,"") -> 7 | AD11: : | AE11: =IF(B11<>"",T11+W11+Z11,"") -> 4 | AF11: =IF(B11<>"",(AA11*2)+AB11,"") -> 5 | AG11: =IF(B11<>"",RANK(AF11,$AF$11:$AF$14,0)+IF(AI11<>"",RANK(AI11,$AI$11:$AI$14,0)-1,0),"") -> 2
A12: 2 | B12: Horáček Richard (95) (Brniště) | O12: =T11 -> 3 | P12: : | Q12: =R11 -> 1 | R12: xxx | U12: 3 | V12: : | W12: 0 | X12: 3 | Y12: : | Z12: 1 | AA12: =IF(B12<>"",SUM(IF(O12>Q12,1,0),IF(U12>W12,1,0),IF(X12>Z12,1,0)),"") -> 3 | AB12: =IF(B12<>"",SUM(IF(O12<Q12,1,0),IF(U12<W12,1,0),IF(X12<Z12,1,0)),"") -> 0 | AC12: =IF(B12<>"",O12+U12+X12,"") -> 9 | AD12: : | AE12: =IF(B12<>"",Q12+W12+Z12,"") -> 2 | AF12: =IF(B12<>"",(AA12*2)+AB12,"") -> 6 | AG12: =IF(B12<>"",RANK(AF12,$AF$11:$AF$14,0)+IF(AI12<>"",RANK(AI12,$AI$11:$AI$14,0)-1,0),"") -> 1
A13: 3 | B13: Šimík Max (97) (PINK!) | O13: =W11 -> 1 | P13: : | Q13: =U11 -> 3 | R13: =W12 -> 0 | S13: : | T13: =U12 -> 3 | U13: xxx | X13: 3 | Y13: : | Z13: 1 | AA13: =IF(B13<>"",SUM(IF(O13>Q13,1,0),IF(R13>T13,1,0),IF(X13>Z13,1,0)),"") -> 1 | AB13: =IF(B13<>"",SUM(IF(O13<Q13,1,0),IF(R13<T13,1,0),IF(X13<Z13,1,0)),"") -> 2 | AC13: =IF(B13<>"",O13+R13+X13,"") -> 4 | AD13: : | AE13: =IF(B13<>"",Q13+T13+Z13,"") -> 7 | AF13: =IF(B13<>"",(AA13*2)+AB13,"") -> 4 | AG13: =IF(B13<>"",RANK(AF13,$AF$11:$AF$14,0)+IF(AI13<>"",RANK(AI13,$AI$11:$AI$14,0)-1,0),"") -> 3
A14: 4 | B14: Ešner Filip (88) (ČL) | O14: =Z11 -> 0 | P14: : | Q14: =X11 -> 3 | R14: =Z12 -> 1 | S14: : | T14: =X12 -> 3 | U14: =Z13 -> 1 | V14: : | W14: =X13 -> 3 | X14: xxx | AA14: =IF(B14<>"",SUM(IF(O14>Q14,1,0),IF(R14>T14,1,0),IF(U14>W14,1,0)),"") -> 0 | AB14: =IF(B14<>"",SUM(IF(O14<Q14,1,0),IF(R14<T14,1,0),IF(U14<W14,1,0)),"") -> 3 | AC14: =IF(B14<>"",O14+R14+U14,"") -> 2 | AD14: : | AE14: =IF(B14<>"",Q14+T14+W14,"") -> 9 | AF14: =IF(B14<>"",(AA14*2)+AB14,"") -> 3 | AG14: =IF(B14<>"",RANK(AF14,$AF$11:$AF$14,0)+IF(AI14<>"",RANK(AI14,$AI$11:$AI$14,0)-1,0),"") -> 4
C16: skupina C | O16: 1 | R16: 2 | U16: 3 | X16: 4 | AA16: v | AB16: p | AC16: sety | AF16: b | AG16: m
A17: 1 | B17: Zahn Marek (80) (Bižu) | O17: xxx | R17: 2 | S17: : | T17: 3 | U17: 0 | V17: : | W17: 3 | X17: 3 | Y17: : | Z17: 2 | AA17: =IF(B17<>"",SUM(IF(R17>T17,1,0),IF(U17>W17,1,0),IF(X17>Z17,1,0)),"") -> 1 | AB17: =IF(B17<>"",SUM(IF(R17<T17,1,0),IF(U17<W17,1,0),IF(X17<Z17,1,0)),"") -> 2 | AC17: =IF(B17<>"",R17+U17+X17,"") -> 5 | AD17: : | AE17: =IF(B17<>"",T17+W17+Z17,"") -> 8 | AF17: =IF(B17<>"",(AA17*2)+AB17,"") -> 4 | AG17: =IF(B17<>"",RANK(AF17,$AF$17:$AF$20,0)+IF(AI17<>"",RANK(AI17,$AI$17:$AI$20,0)-1,0),"") -> 3
A18: 2 | B18: Zítko Jindřich (92) (Brniště) | O18: =T17 -> 3 | P18: : | Q18: =R17 -> 2 | R18: xxx | U18: 3 | V18: : | W18: 1 | X18: 3 | Y18: : | Z18: 0 | AA18: =IF(B18<>"",SUM(IF(O18>Q18,1,0),IF(U18>W18,1,0),IF(X18>Z18,1,0)),"") -> 3 | AB18: =IF(B18<>"",SUM(IF(O18<Q18,1,0),IF(U18<W18,1,0),IF(X18<Z18,1,0)),"") -> 0 | AC18: =IF(B18<>"",O18+U18+X18,"") -> 9 | AD18: : | AE18: =IF(B18<>"",Q18+W18+Z18,"") -> 3 | AF18: =IF(B18<>"",(AA18*2)+AB18,"") -> 6 | AG18: =IF(B18<>"",RANK(AF18,$AF$17:$AF$20,0)+IF(AI18<>"",RANK(AI18,$AI$17:$AI$20,0)-1,0),"") -> 1
A19: 3 | B19: Ivanov Matteo (103) (STAR) | O19: =W17 -> 3 | P19: : | Q19: =U17 -> 0 | R19: =W18 -> 1 | S19: : | T19: =U18 -> 3 | U19: xxx | X19: 3 | Y19: : | Z19: 0 | AA19: =IF(B19<>"",SUM(IF(O19>Q19,1,0),IF(R19>T19,1,0),IF(X19>Z19,1,0)),"") -> 2 | AB19: =IF(B19<>"",SUM(IF(O19<Q19,1,0),IF(R19<T19,1,0),IF(X19<Z19,1,0)),"") -> 1 | AC19: =IF(B19<>"",O19+R19+X19,"") -> 7 | AD19: : | AE19: =IF(B19<>"",Q19+T19+Z19,"") -> 3 | AF19: =IF(B19<>"",(AA19*2)+AB19,"") -> 5 | AG19: =IF(B19<>"",RANK(AF19,$AF$17:$AF$20,0)+IF(AI19<>"",RANK(AI19,$AI$17:$AI$20,0)-1,0),"") -> 2
A20: 4 | B20: Veselý Jakub (96) (ČL) | O20: =Z17 -> 2 | P20: : | Q20: =X17 -> 3 | R20: =Z18 -> 0 | S20: : | T20: =X18 -> 3 | U20: =Z19 -> 0 | V20: : | W20: =X19 -> 3 | X20: xxx | AA20: =IF(B20<>"",SUM(IF(O20>Q20,1,0),IF(R20>T20,1,0),IF(U20>W20,1,0)),"") -> 0 | AB20: =IF(B20<>"",SUM(IF(O20<Q20,1,0),IF(R20<T20,1,0),IF(U20<W20,1,0)),"") -> 3 | AC20: =IF(B20<>"",O20+R20+U20,"") -> 2 | AD20: : | AE20: =IF(B20<>"",Q20+T20+W20,"") -> 9 | AF20: =IF(B20<>"",(AA20*2)+AB20,"") -> 3 | AG20: =IF(B20<>"",RANK(AF20,$AF$17:$AF$20,0)+IF(AI20<>"",RANK(AI20,$AI$17:$AI$20,0)-1,0),"") -> 4
C22: skupina D | O22: 1 | R22: 2 | U22: 3 | X22: 4 | AA22: v | AB22: p | AC22: sety | AF22: b | AG22: m
A23: 1 | B23: Hrubý Daniel (86) (Víchová) | O23: xxx | R23: 3 | S23: : | T23: 0 | U23: 3 | V23: : | W23: 2 | X23: 3 | Y23: : | Z23: 1 | AA23: =IF(B23<>"",SUM(IF(R23>T23,1,0),IF(U23>W23,1,0),IF(X23>Z23,1,0)),"") -> 3 | AB23: =IF(B23<>"",SUM(IF(R23<T23,1,0),IF(U23<W23,1,0),IF(X23<Z23,1,0)),"") -> 0 | AC23: =IF(B23<>"",R23+U23+X23,"") -> 9 | AD23: : | AE23: =IF(B23<>"",T23+W23+Z23,"") -> 3 | AF23: =IF(B23<>"",(AA23*2)+AB23,"") -> 6 | AG23: =IF(B23<>"",RANK(AF23,$AF$23:$AF$26,0)+IF(AI23<>"",RANK(AI23,$AI$23:$AI$26,0)-1,0),"") -> 1
A24: 2 | B24: Skála Jan (116) (Bižu) | O24: =T23 -> 0 | P24: : | Q24: =R23 -> 3 | R24: xxx | U24: 0 | V24: : | W24: 3 | X24: 0 | Y24: : | Z24: 3 | AA24: =IF(B24<>"",SUM(IF(O24>Q24,1,0),IF(U24>W24,1,0),IF(X24>Z24,1,0)),"") -> 0 | AB24: =IF(B24<>"",SUM(IF(O24<Q24,1,0),IF(U24<W24,1,0),IF(X24<Z24,1,0)),"") -> 3 | AC24: =IF(B24<>"",O24+U24+X24,"") -> 0 | AD24: : | AE24: =IF(B24<>"",Q24+W24+Z24,"") -> 9 | AF24: =IF(B24<>"",(AA24*2)+AB24,"") -> 3 | AG24: =IF(B24<>"",RANK(AF24,$AF$23:$AF$26,0)+IF(AI24<>"",RANK(AI24,$AI$23:$AI$26,0)-1,0),"") -> 4
A25: 3 | B25: Bartko David (101) (STAR) | O25: =W23 -> 2 | P25: : | Q25: =U23 -> 3 | R25: =W24 -> 3 | S25: : | T25: =U24 -> 0 | U25: xxx | X25: 3 | Y25: : | Z25: 0 | AA25: =IF(B25<>"",SUM(IF(O25>Q25,1,0),IF(R25>T25,1,0),IF(X25>Z25,1,0)),"") -> 2 | AB25: =IF(B25<>"",SUM(IF(O25<Q25,1,0),IF(R25<T25,1,0),IF(X25<Z25,1,0)),"") -> 1 | AC25: =IF(B25<>"",O25+R25+X25,"") -> 8 | AD25: : | AE25: =IF(B25<>"",Q25+T25+Z25,"") -> 3 | AF25: =IF(B25<>"",(AA25*2)+AB25,"") -> 5 | AG25: =IF(B25<>"",RANK(AF25,$AF$23:$AF$26,0)+IF(AI25<>"",RANK(AI25,$AI$23:$AI$26,0)-1,0),"") -> 2
A26: 4 | B26: Sadovskyi Yehor (94) (PINK!) | O26: =Z23 -> 1 | P26: : | Q26: =X23 -> 3 | R26: =Z24 -> 3 | S26: : | T26: =X24 -> 0 | U26: =Z25 -> 0 | V26: : | W26: =X25 -> 3 | X26: xxx | AA26: =IF(B26<>"",SUM(IF(O26>Q26,1,0),IF(R26>T26,1,0),IF(U26>W26,1,0)),"") -> 1 | AB26: =IF(B26<>"",SUM(IF(O26<Q26,1,0),IF(R26<T26,1,0),IF(U26<W26,1,0)),"") -> 2 | AC26: =IF(B26<>"",O26+R26+U26,"") -> 4 | AD26: : | AE26: =IF(B26<>"",Q26+T26+W26,"") -> 6 | AF26: =IF(B26<>"",(AA26*2)+AB26,"") -> 4 | AG26: =IF(B26<>"",RANK(AF26,$AF$23:$AF$26,0)+IF(AI26<>"",RANK(AI26,$AI$23:$AI$26,0)-1,0),"") -> 3
A29: =A1 -> 1. KBT Libereckého kraje | K29: =K1 -> Liberec, 28.9.2026 | U29: =U1 -> Divize | X29: =X1 -> D | AA29: =Z32 -> o 1.-8. místo
A32: Růžková Stella (65) (PINK!) | Z32: o 1.-8. místo
L33: =IF(L34="3:0",A32,IF(L34="3:1",A32,IF(L34="3:2",A32,IF(L34="2:3",A34,IF(L34="1:3",A34,IF(L34="0:3",A34,"")))))) -> Růžková Stella (65) (PINK!)
A34: Bartko David (101) (STAR) | L34: 3:0
W35: =IF(W36="3:0",L33,IF(W36="3:1",L33,IF(W36="3:2",L33,IF(W36="2:3",L37,IF(W36="1:3",L37,IF(W36="0:3",L37,"")))))) -> Růžková Stella (65) (PINK!)
A36: Kyselová Angelika (73) (STAR) | W36: 3:1
L37: =IF(L38="3:0",A36,IF(L38="3:1",A36,IF(L38="3:2",A36,IF(L38="2:3",A38,IF(L38="1:3",A38,IF(L38="0:3",A38,"")))))) -> Zítko Jindřich (92) (Brniště)
A38: Zítko Jindřich (92) (Brniště) | L38: 0:3
W39: =IF(W40="3:0",W35,IF(W40="3:1",W35,IF(W40="3:2",W35,IF(W40="2:3",W43,IF(W40="1:3",W43,IF(W40="0:3",W43,"")))))) -> Ivanov Matteo (103) (STAR)
A40: Hrubý Daniel (86) (Víchová) | W40: 0:3
L41: =IF(L42="3:0",A40,IF(L42="3:1",A40,IF(L42="3:2",A40,IF(L42="2:3",A42,IF(L42="1:3",A42,IF(L42="0:3",A42,"")))))) -> Ivanov Matteo (103) (STAR)
A42: Ivanov Matteo (103) (STAR) | L42: 2:3
W43: =IF(W44="3:0",L41,IF(W44="3:1",L41,IF(W44="3:2",L41,IF(W44="2:3",L45,IF(W44="1:3",L45,IF(W44="0:3",L45,"")))))) -> Ivanov Matteo (103) (STAR)
A44: Horáčková Dorota (90) (STAR) | W44: 3:0
L45: =IF(L46="3:0",A44,IF(L46="3:1",A44,IF(L46="3:2",A44,IF(L46="2:3",A46,IF(L46="1:3",A46,IF(L46="0:3",A46,"")))))) -> Horáček Richard (95) (Brniště)
A46: Horáček Richard (95) (Brniště) | L46: 1:3
A49: =IF(L34="3:0",A34,IF(L34="3:1",A34,IF(L34="3:2",A34,IF(L34="2:3",A32,IF(L34="1:3",A32,IF(L34="0:3",A32,"")))))) -> Bartko David (101) (STAR) | Z49: o 5.-8. místo
L50: =IF(L51="3:0",A49,IF(L51="3:1",A49,IF(L51="3:2",A49,IF(L51="2:3",A51,IF(L51="1:3",A51,IF(L51="0:3",A51,"")))))) -> Kyselová Angelika (73) (STAR)
A51: =IF(L38="3:0",A38,IF(L38="3:1",A38,IF(L38="3:2",A38,IF(L38="2:3",A36,IF(L38="1:3",A36,IF(L38="0:3",A36,"")))))) -> Kyselová Angelika (73) (STAR) | L51: 1:3
...

Sheet div_E
A1: =div_A!A1 -> 1. KBT Libereckého kraje | K1: =div_A!K1 -> Liberec, 28.9.2026 | U1: Divize | X1: E | AA1: Základní skupiny
C4: skupina A | O4: 1 | R4: 2 | U4: 3 | X4: 4 | AA4: v | AB4: p | AC4: sety | AF4: b | AG4: m
A5: 1 | B5: Dajčar Martin (106) (PINK!) | O5: xxx | R5: 3 | S5: : | T5: 1 | U5: 3 | V5: : | W5: 1 | X5: 3 | Y5: : | Z5: 0 | AA5: =IF(B5<>"",SUM(IF(R5>T5,1,0),IF(U5>W5,1,0),IF(X5>Z5,1,0)),"") -> 3 | AB5: =IF(B5<>"",SUM(IF(R5<T5,1,0),IF(U5<W5,1,0),IF(X5<Z5,1,0)),"") -> 0 | AC5: =IF(B5<>"",R5+U5+X5,"") -> 9 | AD5: : | AE5: =IF(B5<>"",T5+W5+Z5,"") -> 2 | AF5: =IF(B5<>"",(AA5*2)+AB5,"") -> 6 | AG5: =IF(B5<>"",RANK(AF5,$AF$5:$AF$8,0)+IF(AI5<>"",RANK(AI5,$AI$5:$AI$8,0)-1,0),"") -> 1
A6: 2 | B6: Vojtíšek Efe (120) (Smržovka) | O6: =T5 -> 1 | P6: : | Q6: =R5 -> 3 | R6: xxx | U6: 3 | V6: : | W6: 1 | X6: 3 | Y6: : | Z6: 0 | AA6: =IF(B6<>"",SUM(IF(O6>Q6,1,0),IF(U6>W6,1,0),IF(X6>Z6,1,0)),"") -> 2 | AB6: =IF(B6<>"",SUM(IF(O6<Q6,1,0),IF(U6<W6,1,0),IF(X6<Z6,1,0)),"") -> 1 | AC6: =IF(B6<>"",O6+U6+X6,"") -> 7 | AD6: : | AE6: =IF(B6<>"",Q6+W6+Z6,"") -> 4 | AF6: =IF(B6<>"",(AA6*2)+AB6,"") -> 5 | AG6: =IF(B6<>"",RANK(AF6,$AF$5:$AF$8,0)+IF(AI6<>"",RANK(AI6,$AI$5:$AI$8,0)-1,0),"") -> 2
A7: 3 | B7: Popov Martin (141) (PINK!) | O7: =W5 -> 1 | P7: : | Q7: =U5 -> 3 | R7: =W6 -> 1 | S7: : | T7: =U6 -> 3 | U7: xxx | X7: 3 | Y7: : | Z7: 2 | AA7: =IF(B7<>"",SUM(IF(O7>Q7,1,0),IF(R7>T7,1,0),IF(X7>Z7,1,0)),"") -> 1 | AB7: =IF(B7<>"",SUM(IF(O7<Q7,1,0),IF(R7<T7,1,0),IF(X7<Z7,1,0)),"") -> 2 | AC7: =IF(B7<>"",O7+R7+X7,"") -> 5 | AD7: : | AE7: =IF(B7<>"",Q7+T7+Z7,"") -> 8 | AF7: =IF(B7<>"",(AA7*2)+AB7,"") -> 4 | AG7: =IF(B7<>"",RANK(AF7,$AF$5:$AF$8,0)+IF(AI7<>"",RANK(AI7,$AI$5:$AI$8,0)-1,0),"") -> 3
A8: 4 | B8: Košnar Jakub (130) (Semily) | O8: =Z5 -> 0 | P8: : | Q8: =X5 -> 3 | R8: =Z6 -> 0 | S8: : | T8: =X6 -> 3 | U8: =Z7 -> 2 | V8: : | W8: =X7 -> 3 | X8: xxx | AA8: =IF(B8<>"",SUM(IF(O8>Q8,1,0),IF(R8>T8,1,0),IF(U8>W8,1,0)),"") -> 0 | AB8: =IF(B8<>"",SUM(IF(O8<Q8,1,0),IF(R8<T8,1,0),IF(U8<W8,1,0)),"") -> 3 | AC8: =IF(B8<>"",O8+R8+U8,"") -> 2 | AD8: : | AE8: =IF(B8<>"",Q8+T8+W8,"") -> 9 | AF8: =IF(B8<>"",(AA8*2)+AB8,"") -> 3 | AG8: =IF(B8<>"",RANK(AF8,$AF$5:$AF$8,0)+IF(AI8<>"",RANK(AI8,$AI$5:$AI$8,0)-1,0),"") -> 4
C10: skupina B | O10: 1 | R10: 2 | U10: 3 | X10: 4 | AA10: v | AB10: p | AC10: sety | AF10: b | AG10: m
A11: 1 | B11: Vejvoda Sebastián (113) (PINK!) | O11: xxx | R11: 3 | S11: : | T11: 0 | U11: 3 | V11: : | W11: 0 | X11: 3 | Y11: : | Z11: 2 | AA11: =IF(B11<>"",SUM(IF(R11>T11,1,0),IF(U11>W11,1,0),IF(X11>Z11,1,0)),"") -> 3 | AB11: =IF(B11<>"",SUM(IF(R11<T11,1,0),IF(U11<W11,1,0),IF(X11<Z11,1,0)),"") -> 0 | AC11: =IF(B11<>"",R11+U11+X11,"") -> 9 | AD11: : | AE11: =IF(B11<>"",T11+W11+Z11,"") -> 2 | AF11: =IF(B11<>"",(AA11*2)+AB11,"") -> 6 | AG11: =IF(B11<>"",RANK(AF11,$AF$11:$AF$14,0)+IF(AI11<>"",RANK(AI11,$AI$11:$AI$14,0)-1,0),"") -> 1
A12: 2 | B12: Procházka Eduard (119) (Bižu) | O12: =T11 -> 0 | P12: : | Q12: =R11 -> 3 | R12: xxx | U12: 1 | V12: : | W12: 3 | X12: 3 | Y12: : | Z12: 1 | AA12: =IF(B12<>"",SUM(IF(O12>Q12,1,0),IF(U12>W12,1,0),IF(X12>Z12,1,0)),"") -> 1 | AB12: =IF(B12<>"",SUM(IF(O12<Q12,1,0),IF(U12<W12,1,0),IF(X12<Z12,1,0)),"") -> 2 | AC12: =IF(B12<>"",O12+U12+X12,"") -> 4 | AD12: : | AE12: =IF(B12<>"",Q12+W12+Z12,"") -> 7 | AF12: =IF(B12<>"",(AA12*2)+AB12,"") -> 4 | AG12: =IF(B12<>"",RANK(AF12,$AF$11:$AF$14,0)+IF(AI12<>"",RANK(AI12,$AI$11:$AI$14,0)-1,0),"") -> 3
A13: 3 | B13: Šárovec Patrik (134) (ČL) | O13: =W11 -> 0 | P13: : | Q13: =U11 -> 3 | R13: =W12 -> 3 | S13: : | T13: =U12 -> 1 | U13: xxx | X13: 3 | Y13: : | Z13: 0 | AA13: =IF(B13<>"",SUM(IF(O13>Q13,1,0),IF(R13>T13,1,0),IF(X13>Z13,1,0)),"") -> 2 | AB13: =IF(B13<>"",SUM(IF(O13<Q13,1,0),IF(R13<T13,1,0),IF(X13<Z13,1,0)),"") -> 1 | AC13: =IF(B13<>"",O13+R13+X13,"") -> 6 | AD13: : | AE13: =IF(B13<>"",Q13+T13+Z13,"") -> 4 | AF13: =IF(B13<>"",(AA13*2)+AB13,"") -> 5 | AG13: =IF(B13<>"",RANK(AF13,$AF$11:$AF$14,0)+IF(AI13<>"",RANK(AI13,$AI$11:$AI$14,0)-1,0),"") -> 2
A14: 4 | B14: Martiš Jan (128) (KMST) | O14: =Z11 -> 2 | P14: : | Q14: =X11 -> 3 | R14: =Z12 -> 1 | S14: : | T14: =X12 -> 3 | U14: =Z13 -> 0 | V14: : | W14: =X13 -> 3 | X14: xxx | AA14: =IF(B14<>"",SUM(IF(O14>Q14,1,0),IF(R14>T14,1,0),IF(U14>W14,1,0)),"") -> 0 | AB14: =IF(B14<>"",SUM(IF(O14<Q14,1,0),IF(R14<T14,1,0),IF(U14<W14,1,0)),"") -> 3 | AC14: =IF(B14<>"",O14+R14+U14,"") -> 3 | AD14: : | AE14: =IF(B14<>"",Q14+T14+W14,"") -> 9 | AF14: =IF(B14<>"",(AA14*2)+AB14,"") -> 3 | AG14: =IF(B14<>"",RANK(AF14,$AF$11:$AF$14,0)+IF(AI14<>"",RANK(AI14,$AI$11:$AI$14,0)-1,0),"") -> 4
C16: skupina C | O16: 1 | R16: 2 | U16: 3 | X16: 4 | AA16: v | AB16: p | AC16: sety | AF16: b | AG16: m
A17: 1 | B17: Fejtek Vojtěch (129) (Vesec) | O17: xxx | R17: 3 | S17: : | T17: 0 | U17: 3 | V17: : | W17: 0 | X17: 3 | Y17: : | Z17: 0 | AA17: =IF(B17<>"",SUM(IF(R17>T17,1,0),IF(U17>W17,1,0),IF(X17>Z17,1,0)),"") -> 3 | AB17: =IF(B17<>"",SUM(IF(R17<T17,1,0),IF(U17<W17,1,0),IF(X17<Z17,1,0)),"") -> 0 | AC17: =IF(B17<>"",R17+U17+X17,"") -> 9 | AD17: : | AE17: =IF(B17<>"",T17+W17+Z17,"") -> 0 | AF17: =IF(B17<>"",(AA17*2)+AB17,"") -> 6 | AG17: =IF(B17<>"",RANK(AF17,$AF$17:$AF$20,0)+IF(AI17<>"",RANK(AI17,$AI$17:$AI$20,0)-1,0),"") -> 1
A18: 2 | B18: Farský Jan (126) (PINK!) | O18: =T17 -> 0 | P18: : | Q18: =R17 -> 3 | R18: xxx | U18: 1 | V18: : | W18: 3 | X18: 0 | Y18: : | Z18: 3 | AA18: =IF(B18<>"",SUM(IF(O18>Q18,1,0),IF(U18>W18,1,0),IF(X18>Z18,1,0)),"") -> 0 | AB18: =IF(B18<>"",SUM(IF(O18<Q18,1,0),IF(U18<W18,1,0),IF(X18<Z18,1,0)),"") -> 3 | AC18: =IF(B18<>"",O18+U18+X18,"") -> 1 | AD18: : | AE18: =IF(B18<>"",Q18+W18+Z18,"") -> 9 | AF18: =IF(B18<>"",(AA18*2)+AB18,"") -> 3 | AG18: =IF(B18<>"",RANK(AF18,$AF$17:$AF$20,0)+IF(AI18<>"",RANK(AI18,$AI$17:$AI$20,0)-1,0),"") -> 4
A19: 3 | B19: Froněk Lukáš (140) (ST Fr.) | O19: =W17 -> 0 | P19: : | Q19: =U17 -> 3 | R19: =W18 -> 3 | S19: : | T19: =U18 -> 1 | U19: xxx | X19: 2 | Y19: : | Z19: 3 | AA19: =IF(B19<>"",SUM(IF(O19>Q19,1,0),IF(R19>T19,1,0),IF(X19>Z19,1,0)),"") -> 1 | AB19: =IF(B19<>"",SUM(IF(O19<Q19,1,0),IF(R19<T19,1,0),IF(X19<Z19,1,0)),"") -> 2 | AC19: =IF(B19<>"",O19+R19+X19,"") -> 5 | AD19: : | AE19: =IF(B19<>"",Q19+T19+Z19,"") -> 7 | AF19: =IF(B19<>"",(AA19*2)+AB19,"") -> 4 | AG19: =IF(B19<>"",RANK(AF19,$AF$17:$AF$20,0)+IF(AI19<>"",RANK(AI19,$AI$17:$AI$20,0)-1,0),"") -> 3
A20: 4 | B20: Martiš Jakub (131) (KMST) | O20: =Z17 -> 0 | P20: : | Q20: =X17 -> 3 | R20: =Z18 -> 3 | S20: : | T20: =X18 -> 0 | U20: =Z19 -> 3 | V20: : | W20: =X19 -> 2 | X20: xxx | AA20: =IF(B20<>"",SUM(IF(O20>Q20,1,0),IF(R20>T20,1,0),IF(U20>W20,1,0)),"") -> 2 | AB20: =IF(B20<>"",SUM(IF(O20<Q20,1,0),IF(R20<T20,1,0),IF(U20<W20,1,0)),"") -> 1 | AC20: =IF(B20<>"",O20+R20+U20,"") -> 6 | AD20: : | AE20: =IF(B20<>"",Q20+T20+W20,"") -> 5 | AF20: =IF(B20<>"",(AA20*2)+AB20,"") -> 5 | AG20: =IF(B20<>"",RANK(AF20,$AF$17:$AF$20,0)+IF(AI20<>"",RANK(AI20,$AI$17:$AI$20,0)-1,0),"") -> 2
C22: skupina D | O22: 1 | R22: 2 | U22: 3 | X22: 4 | AA22: v | AB22: p | AC22: sety | AF22: b | AG22: m
A23: 1 | B23: Sluka Antonín (147) (PINK!) | O23: xxx | R23: 2 | S23: : | T23: 3 | U23: 3 | V23: : | W23: 1 | X23: 0 | Y23: : | Z23: 3 | AA23: =IF(B23<>"",SUM(IF(R23>T23,1,0),IF(U23>W23,1,0),IF(X23>Z23,1,0)),"") -> 1 | AB23: =IF(B23<>"",SUM(IF(R23<T23,1,0),IF(U23<W23,1,0),IF(X23<Z23,1,0)),"") -> 2 | AC23: =IF(B23<>"",R23+U23+X23,"") -> 5 | AD23: : | AE23: =IF(B23<>"",T23+W23+Z23,"") -> 7 | AF23: =IF(B23<>"",(AA23*2)+AB23,"") -> 4 | AG23: =IF(B23<>"",RANK(AF23,$AF$23:$AF$26,0)+IF(AI23<>"",RANK(AI23,$AI$23:$AI$26,0)-1,0),"") -> 3
A24: 2 | B24: Pěničková Jana (115) (N. Ves) | O24: =T23 -> 3 | P24: : | Q24: =R23 -> 2 | R24: xxx | U24: 3 | V24: : | W24: 0 | X24: 0 | Y24: : | Z24: 3 | AA24: =IF(B24<>"",SUM(IF(O24>Q24,1,0),IF(U24>W24,1,0),IF(X24>Z24,1,0)),"") -> 2 | AB24: =IF(B24<>"",SUM(IF(O24<Q24,1,0),IF(U24<W24,1,0),IF(X24<Z24,1,0)),"") -> 1 | AC24: =IF(B24<>"",O24+U24+X24,"") -> 6 | AD24: : | AE24: =IF(B24<>"",Q24+W24+Z24,"") -> 5 | AF24: =IF(B24<>"",(AA24*2)+AB24,"") -> 5 | AG24: =IF(B24<>"",RANK(AF24,$AF$23:$AF$26,0)+IF(AI24<>"",RANK(AI24,$AI$23:$AI$26,0)-1,0),"") -> 2
A25: 3 | B25: Tichá Amálie (137) (KMST) | O25: =W23 -> 1 | P25: : | Q25: =U23 -> 3 | R25: =W24 -> 0 | S25: : | T25: =U24 -> 3 | U25: xxx | X25: 0 | Y25: : | Z25: 3 | AA25: =IF(B25<>"",SUM(IF(O25>Q25,1,0),IF(R25>T25,1,0),IF(X25>Z25,1,0)),"") -> 0 | AB25: =IF(B25<>"",SUM(IF(O25<Q25,1,0),IF(R25<T25,1,0),IF(X25<Z25,1,0)),"") -> 3 | AC25: =IF(B25<>"",O25+R25+X25,"") -> 1 | AD25: : | AE25: =IF(B25<>"",Q25+T25+Z25,"") -> 9 | AF25: =IF(B25<>"",(AA25*2)+AB25,"") -> 3 | AG25: =IF(B25<>"",RANK(AF25,$AF$23:$AF$26,0)+IF(AI25<>"",RANK(AI25,$AI$23:$AI$26,0)-1,0),"") -> 4
A26: 4 | B26: Havlíček Adam (131) (Smržovka) | O26: =Z23 -> 3 | P26: : | Q26: =X23 -> 0 | R26: =Z24 -> 3 | S26: : | T26: =X24 -> 0 | U26: =Z25 -> 3 | V26: : | W26: =X25 -> 0 | X26: xxx | AA26: =IF(B26<>"",SUM(IF(O26>Q26,1,0),IF(R26>T26,1,0),IF(U26>W26,1,0)),"") -> 3 | AB26: =IF(B26<>"",SUM(IF(O26<Q26,1,0),IF(R26<T26,1,0),IF(U26<W26,1,0)),"") -> 0 | AC26: =IF(B26<>"",O26+R26+U26,"") -> 9 | AD26: : | AE26: =IF(B26<>"",Q26+T26+W26,"") -> 0 | AF26: =IF(B26<>"",(AA26*2)+AB26,"") -> 6 | AG26: =IF(B26<>"",RANK(AF26,$AF$23:$AF$26,0)+IF(AI26<>"",RANK(AI26,$AI$23:$AI$26,0)-1,0),"") -> 1
A29: =A1 -> 1. KBT Libereckého kraje | K29: =K1 -> Liberec, 28.9.2026 | U29: =U1 -> Divize | X29: =X1 -> E | AA29: =Z32 -> o 1.-8. místo
A32: Dajčar Martin (106) (PINK!) | Z32: o 1.-8. místo
L33: =IF(L34="3:0",A32,IF(L34="3:1",A32,IF(L34="3:2",A32,IF(L34="2:3",A34,IF(L34="1:3",A34,IF(L34="0:3",A34,"")))))) -> Šárovec Patrik (134) (ČL)
A34: Šárovec Patrik (134) (ČL) | L34: 2:3
W35: =IF(W36="3:0",L33,IF(W36="3:1",L33,IF(W36="3:2",L33,IF(W36="2:3",L37,IF(W36="1:3",L37,IF(W36="0:3",L37,"")))))) -> Fejtek Vojtěch (129) (Vesec)
A36: Pěničková Jana (115) (N. Ves) | W36: 1:3
L37: =IF(L38="3:0",A36,IF(L38="3:1",A36,IF(L38="3:2",A36,IF(L38="2:3",A38,IF(L38="1:3",A38,IF(L38="0:3",A38,"")))))) -> Fejtek Vojtěch (129) (Vesec)
A38: Fejtek Vojtěch (129) (Vesec) | L38: 0:3
W39: =IF(W40="3:0",W35,IF(W40="3:1",W35,IF(W40="3:2",W35,IF(W40="2:3",W43,IF(W40="1:3",W43,IF(W40="0:3",W43,"")))))) -> Fejtek Vojtěch (129) (Vesec)
A40: Havlíček Adam (131) (Smržovka) | W40: 3:0
L41: =IF(L42="3:0",A40,IF(L42="3:1",A40,IF(L42="3:2",A40,IF(L42="2:3",A42,IF(L42="1:3",A42,IF(L42="0:3",A42,"")))))) -> Havlíček Adam (131) (Smržovka)
A42: Martiš Jakub (131) (KMST) | L42: 3:0
W43: =IF(W44="3:0",L41,IF(W44="3:1",L41,IF(W44="3:2",L41,IF(W44="2:3",L45,IF(W44="1:3",L45,IF(W44="0:3",L45,"")))))) -> Havlíček Adam (131) (Smržovka)
A44: Vojtíšek Efe (120) (Smržovka) | W44: 3:0
L45: =IF(L46="3:0",A44,IF(L46="3:1",A44,IF(L46="3:2",A44,IF(L46="2:3",A46,IF(L46="1:3",A46,IF(L46="0:3",A46,"")))))) -> Vejvoda Sebastián (113) (PINK!)
A46: Vejvoda Sebastián (113) (PINK!) | L46: 0:3
A49: =IF(L34="3:0",A34,IF(L34="3:1",A34,IF(L34="3:2",A34,IF(L34="2:3",A32,IF(L34="1:3",A32,IF(L34="0:3",A32,"")))))) -> Dajčar Martin (106) (PINK!) | Z49: o 5.-8. místo
L50: =IF(L51="3:0",A49,IF(L51="3:1",A49,IF(L51="3:2",A49,IF(L51="2:3",A51,IF(L51="1:3",A51,IF(L51="0:3",A51,"")))))) -> Dajčar Martin (106) (PINK!)
A51: =IF(L38="3:0",A38,IF(L38="3:1",A38,IF(L38="3:2",A38,IF(L38="2:3",A36,IF(L38="1:3",A36,IF(L38="0:3",A36,"")))))) -> Pěničková Jana (115) (N. Ves) | L51: 3:0
...

Sheet div_F
A1: =div_A!A1 -> 1. KBT Libereckého kraje | K1: =div_A!K1 -> Liberec, 28.9.2026 | U1: Divize | X1: F | AD1: Základní skupiny
C4: skupina A | O4: 1 | R4: 2 | U4: 3 | X4: 4 | AA4: v | AB4: p | AC4: sety | AF4: b | AG4: m
A5: 1 | B5: Zítko Roman (122) (Brniště) | O5: xxx | R5: 3 | S5: : | T5: 0 | U5: 1 | V5: : | W5: 3 | X5: 3 | Y5: : | Z5: 0 | AA5: =IF(B5<>"",SUM(IF(R5>T5,1,0),IF(U5>W5,1,0),IF(X5>Z5,1,0)),"") -> 2 | AB5: =IF(B5<>"",SUM(IF(R5<T5,1,0),IF(U5<W5,1,0),IF(X5<Z5,1,0)),"") -> 1 | AC5: =IF(B5<>"",R5+U5+X5,"") -> 7 | AD5: : | AE5: =IF(B5<>"",T5+W5+Z5,"") -> 3 | AF5: =IF(B5<>"",(AA5*2)+AB5,"") -> 5 | AG5: =IF(B5<>"",RANK(AF5,$AF$5:$AF$8,0)+IF(AI5<>"",RANK(AI5,$AI$5:$AI$8,0)-1,0),"") -> 2
A6: 2 | B6: Hušek Martin (153) (KMST) | O6: =T5 -> 0 | P6: : | Q6: =R5 -> 3 | R6: xxx | U6: 2 | V6: : | W6: 3 | X6: 3 | Y6: : | Z6: 1 | AA6: =IF(B6<>"",SUM(IF(O6>Q6,1,0),IF(U6>W6,1,0),IF(X6>Z6,1,0)),"") -> 1 | AB6: =IF(B6<>"",SUM(IF(O6<Q6,1,0),IF(U6<W6,1,0),IF(X6<Z6,1,0)),"") -> 2 | AC6: =IF(B6<>"",O6+U6+X6,"") -> 5 | AD6: : | AE6: =IF(B6<>"",Q6+W6+Z6,"") -> 7 | AF6: =IF(B6<>"",(AA6*2)+AB6,"") -> 4 | AG6: =IF(B6<>"",RANK(AF6,$AF$5:$AF$8,0)+IF(AI6<>"",RANK(AI6,$AI$5:$AI$8,0)-1,0),"") -> 3
A7: 3 | B7: Loukota Tomáš (167) (STAR) | O7: =W5 -> 3 | P7: : | Q7: =U5 -> 1 | R7: =W6 -> 3 | S7: : | T7: =U6 -> 2 | U7: xxx | X7: 3 | Y7: : | Z7: 0 | AA7: =IF(B7<>"",SUM(IF(O7>Q7,1,0),IF(R7>T7,1,0),IF(X7>Z7,1,0)),"") -> 3 | AB7: =IF(B7<>"",SUM(IF(O7<Q7,1,0),IF(R7<T7,1,0),IF(X7<Z7,1,0)),"") -> 0 | AC7: =IF(B7<>"",O7+R7+X7,"") -> 9 | AD7: : | AE7: =IF(B7<>"",Q7+T7+Z7,"") -> 3 | AF7: =IF(B7<>"",(AA7*2)+AB7,"") -> 6 | AG7: =IF(B7<>"",RANK(AF7,$AF$5:$AF$8,0)+IF(AI7<>"",RANK(AI7,$AI$5:$AI$8,0)-1,0),"") -> 1
A8: 4 | B8: Turecký David (164) (PINK!) | O8: =Z5 -> 0 | P8: : | Q8: =X5 -> 3 | R8: =Z6 -> 1 | S8: : | T8: =X6 -> 3 | U8: =Z7 -> 0 | V8: : | W8: =X7 -> 3 | X8: xxx | AA8: =IF(B8<>"",SUM(IF(O8>Q8,1,0),IF(R8>T8,1,0),IF(U8>W8,1,0)),"") -> 0 | AB8: =IF(B8<>"",SUM(IF(O8<Q8,1,0),IF(R8<T8,1,0),IF(U8<W8,1,0)),"") -> 3 | AC8: =IF(B8<>"",O8+R8+U8,"") -> 1 | AD8: : | AE8: =IF(B8<>"",Q8+T8+W8,"") -> 9 | AF8: =IF(B8<>"",(AA8*2)+AB8,"") -> 3 | AG8: =IF(B8<>"",RANK(AF8,$AF$5:$AF$8,0)+IF(AI8<>"",RANK(AI8,$AI$5:$AI$8,0)-1,0),"") -> 4
C10: skupina B | O10: 1 | R10: 2 | U10: 3 | X10: 4 | AA10: v | AB10: p | AC10: sety | AF10: b | AG10: m
A11: 1 | B11: Huk Pavel (148) (KMST) | O11: xxx | R11: 3 | S11: : | T11: 2 | U11: 3 | V11: : | W11: 1 | X11: 2 | Y11: : | Z11: 3 | AA11: =IF(B11<>"",SUM(IF(R11>T11,1,0),IF(U11>W11,1,0),IF(X11>Z11,1,0)),"") -> 2 | AB11: =IF(B11<>"",SUM(IF(R11<T11,1,0),IF(U11<W11,1,0),IF(X11<Z11,1,0)),"") -> 1 | AC11: =IF(B11<>"",R11+U11+X11,"") -> 8 | AD11: : | AE11: =IF(B11<>"",T11+W11+Z11,"") -> 6 | AF11: =IF(B11<>"",(AA11*2)+AB11,"") -> 5 | AG11: =IF(B11<>"",RANK(AF11,$AF$11:$AF$14,0)+IF(AI11<>"",RANK(AI11,$AI$11:$AI$14,0)-1,0),"") -> 2
A12: 2 | B12: Liška Daniel (159) (PINK!) | O12: =T11 -> 2 | P12: : | Q12: =R11 -> 3 | R12: xxx | U12: 2 | V12: : | W12: 3 | X12: 0 | Y12: : | Z12: 3 | AA12: =IF(B12<>"",SUM(IF(O12>Q12,1,0),IF(U12>W12,1,0),IF(X12>Z12,1,0)),"") -> 0 | AB12: =IF(B12<>"",SUM(IF(O12<Q12,1,0),IF(U12<W12,1,0),IF(X12<Z12,1,0)),"") -> 3 | AC12: =IF(B12<>"",O12+U12+X12,"") -> 4 | AD12: : | AE12: =IF(B12<>"",Q12+W12+Z12,"") -> 9 | AF12: =IF(B12<>"",(AA12*2)+AB12,"") -> 3 | AG12: =IF(B12<>"",RANK(AF12,$AF$11:$AF$14,0)+IF(AI12<>"",RANK(AI12,$AI$11:$AI$14,0)-1,0),"") -> 4
A13: 3 | B13: Sýkora Maximilian (172) (STAR) | O13: =W11 -> 1 | P13: : | Q13: =U11 -> 3 | R13: =W12 -> 3 | S13: : | T13: =U12 -> 2 | U13: xxx | X13: 0 | Y13: : | Z13: 3 | AA13: =IF(B13<>"",SUM(IF(O13>Q13,1,0),IF(R13>T13,1,0),IF(X13>Z13,1,0)),"") -> 1 | AB13: =IF(B13<>"",SUM(IF(O13<Q13,1,0),IF(R13<T13,1,0),IF(X13<Z13,1,0)),"") -> 2 | AC13: =IF(B13<>"",O13+R13+X13,"") -> 4 | AD13: : | AE13: =IF(B13<>"",Q13+T13+Z13,"") -> 8 | AF13: =IF(B13<>"",(AA13*2)+AB13,"") -> 4 | AG13: =IF(B13<>"",RANK(AF13,$AF$11:$AF$14,0)+IF(AI13<>"",RANK(AI13,$AI$11:$AI$14,0)-1,0),"") -> 3
