Workbook

Sheet div_A
A1: 1. KBT Libereckého kraje | K1: Liberec, 28.9.2026 | U1: Divize | X1: A | AA1: Základní skupiny
C4: skupina A | O4: 1 | R4: 2 | U4: 3 | X4: 4 | AA4: v | AB4: p | AC4: sety | AF4: b | AG4: m
A5: 1 | B5: Jungmann Matěj (3) (SKST) | O5: xxx | R5: 3 | S5: : | T5: 2 | U5: 3 | V5: : | W5: 2 | X5: 3 | Y5: : | Z5: 0 | AA5: =IF(B5<>"",SUM(IF(R5>T5,1,0),IF(U5>W5,1,0),IF(X5>Z5,1,0)),"") -> 3 | AB5: =IF(B5<>"",SUM(IF(R5<T5,1,0),IF(U5<W5,1,0),IF(X5<Z5,1,0)),"") -> 0 | AC5: =IF(B5<>"",R5+U5+X5,"") -> 9 | AD5: : | AE5: =IF(B5<>"",T5+W5+Z5,"") -> 4 | AF5: =IF(B5<>"",(AA5*2)+AB5,"") -> 6 | AG5: =IF(B5<>"",RANK(AF5,$AF$5:$AF$8,0)+IF(AI5<>"",RANK(AI5,$AI$5:$AFH$8,0)-1,0),"") -> 1
A6: 2 | B6: Kout Matěj (18) (KMST) | O6: =T5 -> 2 | P6: : | Q6: =R5 -> 3 | R6: xxx | U6: 1 | V6: : | W6: 3 | X6: 3 | Y6: : | Z6: 1 | AA6: =IF(B6<>"",SUM(IF(O6>Q6,1,0),IF(U6>W6,1,0),IF(X6>Z6,1,0)),"") -> 1 | AB6: =IF(B6<>"",SUM(IF(O6<Q6,1,0),IF(U6<W6,1,0),IF(X6<Z6,1,0)),"") -> 2 | AC6: =IF(B6<>"",O6+U6+X6,"") -> 6 | AD6: : | AE6: =IF(B6<>"",Q6+W6+Z6,"") -> 7 | AF6: =IF(B6<>"",(AA6*2)+AB6,"") -> 4 | AG6: =IF(B6<>"",RANK(AF6,$AF$5:$AF$8,0)+IF(AI6<>"",RANK(AI6,$AI$5:$AFH$8,0)-1,0),"") -> 3 | AI6: =DIVIDE(4,4) -> 1
A7: 3 | B7: Nohejl Vojtěch (27) (ST Fr.) | O7: =W5 -> 2 | P7: : | Q7: =U5 -> 3 | R7: =W6 -> 3 | S7: : | T7: =U6 -> 1 | U7: xxx | X7: 0 | Y7: : | Z7: 3 | AA7: =IF(B7<>"",SUM(IF(O7>Q7,1,0),IF(R7>T7,1,0),IF(X7>Z7,1,0)),"") -> 1 | AB7: =IF(B7<>"",SUM(IF(O7<Q7,1,0),IF(R7<T7,1,0),IF(X7<Z7,1,0)),"") -> 2 | AC7: =IF(B7<>"",O7+R7+X7,"") -> 5 | AD7: : | AE7: =IF(B7<>"",Q7+T7+Z7,"") -> 7 | AF7: =IF(B7<>"",(AA7*2)+AB7,"") -> 4 | AG7: =IF(B7<>"",RANK(AF7,$AF$5:$AF$8,0)+IF(AI7<>"",RANK(AI7,$AI$5:$AFH$8,0)-1,0),"") -> 4 | AI7: =DIVIDE(3,4) -> 0.75
A8: 4 | B8: Hrníčko Matyáš (28) (PINK!) | O8: =Z5 -> 0 | P8: : | Q8: =X5 -> 3 | R8: =Z6 -> 1 | S8: : | T8: =X6 -> 3 | U8: =Z7 -> 3 | V8: : | W8: =X7 -> 0 | X8: xxx | AA8: =IF(B8<>"",SUM(IF(O8>Q8,1,0),IF(R8>T8,1,0),IF(U8>W8,1,0)),"") -> 1 | AB8: =IF(B8<>"",SUM(IF(O8<Q8,1,0),IF(R8<T8,1,0),IF(U8<W8,1,0)),"") -> 2 | AC8: =IF(B8<>"",O8+R8+U8,"") -> 4 | AD8: : | AE8: =IF(B8<>"",Q8+T8+W8,"") -> 6 | AF8: =IF(B8<>"",(AA8*2)+AB8,"") -> 4 | AG8: =IF(B8<>"",RANK(AF8,$AF$5:$AF$8,0)+IF(AI8<>"",RANK(AI8,$AI$5:$AFH$8,0)-1,0),"") -> 2 | AI8: =DIVIDE(4,3) -> 1.3333333
C10: skupina B | O10: 1 | R10: 2 | U10: 3 | X10: 4 | AA10: v | AB10: p | AC10: sety | AF10: b | AG10: m
A11: 1 | B11: Polívka Matyáš (6) (PINK!) | O11: xxx | R11: 3 | S11: : | T11: 1 | U11: 3 | V11: : | W11: 0 | X11: 3 | Y11: : | Z11: 1 | AA11: =IF(B11<>"",SUM(IF(R11>T11,1,0),IF(U11>W11,1,0),IF(X11>Z11,1,0)),"") -> 3 | AB11: =IF(B11<>"",SUM(IF(R11<T11,1,0),IF(U11<W11,1,0),IF(X11<Z11,1,0)),"") -> 0 | AC11: =IF(B11<>"",R11+U11+X11,"") -> 9 | AD11: : | AE11: =IF(B11<>"",T11+W11+Z11,"") -> 2 | AF11: =IF(B11<>"",(AA11*2)+AB11,"") -> 6 | AG11: =IF(B11<>"",RANK(AF11,$AF$11:$AF$14,0)+IF(AI11<>"",RANK(AI11,$AI$11:$AI$14,0)-1,0),"") -> 1
A12: 2 | B12: Čupcová Viktorie (12) (SKST) | O12: =T11 -> 1 | P12: : | Q12: =R11 -> 3 | R12: xxx | U12: 3 | V12: : | W12: 0 | X12: 3 | Y12: : | Z12: 0 | AA12: =IF(B12<>"",SUM(IF(O12>Q12,1,0),IF(U12>W12,1,0),IF(X12>Z12,1,0)),"") -> 2 | AB12: =IF(B12<>"",SUM(IF(O12<Q12,1,0),IF(U12<W12,1,0),IF(X12<Z12,1,0)),"") -> 1 | AC12: =IF(B12<>"",O12+U12+X12,"") -> 7 | AD12: : | AE12: =IF(B12<>"",Q12+W12+Z12,"") -> 3 | AF12: =IF(B12<>"",(AA12*2)+AB12,"") -> 5 | AG12: =IF(B12<>"",RANK(AF12,$AF$11:$AF$14,0)+IF(AI12<>"",RANK(AI12,$AI$11:$AI$14,0)-1,0),"") -> 2
A13: 3 | B13: Křivánek Viktor (30) (Ji KŠ) | O13: =W11 -> 0 | P13: : | Q13: =U11 -> 3 | R13: =W12 -> 0 | S13: : | T13: =U12 -> 3 | U13: xxx | X13: 3 | Y13: : | Z13: 1 | AA13: =IF(B13<>"",SUM(IF(O13>Q13,1,0),IF(R13>T13,1,0),IF(X13>Z13,1,0)),"") -> 1 | AB13: =IF(B13<>"",SUM(IF(O13<Q13,1,0),IF(R13<T13,1,0),IF(X13<Z13,1,0)),"") -> 2 | AC13: =IF(B13<>"",O13+R13+X13,"") -> 3 | AD13: : | AE13: =IF(B13<>"",Q13+T13+Z13,"") -> 7 | AF13: =IF(B13<>"",(AA13*2)+AB13,"") -> 4 | AG13: =IF(B13<>"",RANK(AF13,$AF$11:$AF$14,0)+IF(AI13<>"",RANK(AI13,$AI$11:$AI$14,0)-1,0),"") -> 3
A14: 4 | B14: Škorpil Jaroslav (22) (ČL) | O14: =Z11 -> 1 | P14: : | Q14: =X11 -> 3 | R14: =Z12 -> 0 | S14: : | T14: =X12 -> 3 | U14: =Z13 -> 1 | V14: : | W14: =X13 -> 3 | X14: xxx | AA14: =IF(B14<>"",SUM(IF(O14>Q14,1,0),IF(R14>T14,1,0),IF(U14>W14,1,0)),"") -> 0 | AB14: =IF(B14<>"",SUM(IF(O14<Q14,1,0),IF(R14<T14,1,0),IF(U14<W14,1,0)),"") -> 3 | AC14: =IF(B14<>"",O14+R14+U14,"") -> 2 | AD14: : | AE14: =IF(B14<>"",Q14+T14+W14,"") -> 9 | AF14: =IF(B14<>"",(AA14*2)+AB14,"") -> 3 | AG14: =IF(B14<>"",RANK(AF14,$AF$11:$AF$14,0)+IF(AI14<>"",RANK(AI14,$AI$11:$AI$14,0)-1,0),"") -> 4
C16: skupina C | O16: 1 | R16: 2 | U16: 3 | X16: 4 | AA16: v | AB16: p | AC16: sety | AF16: b | AG16: m
A17: 1 | B17: Němec Štěpán (7) (SKST) | O17: xxx | R17: 3 | S17: : | T17: 0 | U17: 3 | V17: : | W17: 0 | X17: 3 | Y17: : | Z17: 2 | AA17: =IF(B17<>"",SUM(IF(R17>T17,1,0),IF(U17>W17,1,0),IF(X17>Z17,1,0)),"") -> 3 | AB17: =IF(B17<>"",SUM(IF(R17<T17,1,0),IF(U17<W17,1,0),IF(X17<Z17,1,0)),"") -> 0 | AC17: =IF(B17<>"",R17+U17+X17,"") -> 9 | AD17: : | AE17: =IF(B17<>"",T17+W17+Z17,"") -> 2 | AF17: =IF(B17<>"",(AA17*2)+AB17,"") -> 6 | AG17: =IF(B17<>"",RANK(AF17,$AF$17:$AF$20,0)+IF(AI17<>"",RANK(AI17,$AI$17:$AI$20,0)-1,0),"") -> 1
A18: 2 | B18: Provazníková Alena (21) (Bižu) | O18: =T17 -> 0 | P18: : | Q18: =R17 -> 3 | R18: xxx | U18: 3 | V18: : | W18: 1 | X18: 3 | Y18: : | Z18: 0 | AA18: =IF(B18<>"",SUM(IF(O18>Q18,1,0),IF(U18>W18,1,0),IF(X18>Z18,1,0)),"") -> 2 | AB18: =IF(B18<>"",SUM(IF(O18<Q18,1,0),IF(U18<W18,1,0),IF(X18<Z18,1,0)),"") -> 1 | AC18: =IF(B18<>"",O18+U18+X18,"") -> 6 | AD18: : | AE18: =IF(B18<>"",Q18+W18+Z18,"") -> 4 | AF18: =IF(B18<>"",(AA18*2)+AB18,"") -> 5 | AG18: =IF(B18<>"",RANK(AF18,$AF$17:$AF$20,0)+IF(AI18<>"",RANK(AI18,$AI$17:$AI$20,0)-1,0),"") -> 2
A19: 3 | B19: Louda Ondřej (35) (PINK!) | O19: =W17 -> 0 | P19: : | Q19: =U17 -> 3 | R19: =W18 -> 1 | S19: : | T19: =U18 -> 3 | U19: xxx | X19: 0 | Y19: : | Z19: 3 | AA19: =IF(B19<>"",SUM(IF(O19>Q19,1,0),IF(R19>T19,1,0),IF(X19>Z19,1,0)),"") -> 0 | AB19: =IF(B19<>"",SUM(IF(O19<Q19,1,0),IF(R19<T19,1,0),IF(X19<Z19,1,0)),"") -> 3 | AC19: =IF(B19<>"",O19+R19+X19,"") -> 1 | AD19: : | AE19: =IF(B19<>"",Q19+T19+Z19,"") -> 9 | AF19: =IF(B19<>"",(AA19*2)+AB19,"") -> 3 | AG19: =IF(B19<>"",RANK(AF19,$AF$17:$AF$20,0)+IF(AI19<>"",RANK(AI19,$AI$17:$AI$20,0)-1,0),"") -> 4
A20: 4 | B20: Havel Lukáš (34) (ST Fr.) | O20: =Z17 -> 2 | P20: : | Q20: =X17 -> 3 | R20: =Z18 -> 0 | S20: : | T20: =X18 -> 3 | U20: =Z19 -> 3 | V20: : | W20: =X19 -> 0 | X20: xxx | AA20: =IF(B20<>"",SUM(IF(O20>Q20,1,0),IF(R20>T20,1,0),IF(U20>W20,1,0)),"") -> 1 | AB20: =IF(B20<>"",SUM(IF(O20<Q20,1,0),IF(R20<T20,1,0),IF(U20<W20,1,0)),"") -> 2 | AC20: =IF(B20<>"",O20+R20+U20,"") -> 5 | AD20: : | AE20: =IF(B20<>"",Q20+T20+W20,"") -> 6 | AF20: =IF(B20<>"",(AA20*2)+AB20,"") -> 4 | AG20: =IF(B20<>"",RANK(AF20,$AF$17:$AF$20,0)+IF(AI20<>"",RANK(AI20,$AI$17:$AI$20,0)-1,0),"") -> 3
C22: skupina D | O22: 1 | R22: 2 | U22: 3 | X22: 4 | AA22: v | AB22: p | AC22: sety | AF22: b | AG22: m
A23: 1 | B23: Perlík Josef (8) (SKST) | O23: xxx | R23: 2 | S23: : | T23: 3 | U23: 3 | V23: : | W23: 0 | X23: 3 | Y23: : | Z23: 2 | AA23: =IF(B23<>"",SUM(IF(R23>T23,1,0),IF(U23>W23,1,0),IF(X23>Z23,1,0)),"") -> 2 | AB23: =IF(B23<>"",SUM(IF(R23<T23,1,0),IF(U23<W23,1,0),IF(X23<Z23,1,0)),"") -> 1 | AC23: =IF(B23<>"",R23+U23+X23,"") -> 8 | AD23: : | AE23: =IF(B23<>"",T23+W23+Z23,"") -> 5 | AF23: =IF(B23<>"",(AA23*2)+AB23,"") -> 5 | AG23: =IF(B23<>"",RANK(AF23,$AF$23:$AF$26,0)+IF(AI23<>"",RANK(AI23,$AI$23:$AI$26,0)-1,0),"") -> 2
A24: 2 | B24: Tuma Theodor (9) (PINK!) | O24: =T23 -> 3 | P24: : | Q24: =R23 -> 2 | R24: xxx | U24: 3 | V24: : | W24: 0 | X24: 3 | Y24: : | Z24: 1 | AA24: =IF(B24<>"",SUM(IF(O24>Q24,1,0),IF(U24>W24,1,0),IF(X24>Z24,1,0)),"") -> 3 | AB24: =IF(B24<>"",SUM(IF(O24<Q24,1,0),IF(U24<W24,1,0),IF(X24<Z24,1,0)),"") -> 0 | AC24: =IF(B24<>"",O24+U24+X24,"") -> 9 | AD24: : | AE24: =IF(B24<>"",Q24+W24+Z24,"") -> 3 | AF24: =IF(B24<>"",(AA24*2)+AB24,"") -> 6 | AG24: =IF(B24<>"",RANK(AF24,$AF$23:$AF$26,0)+IF(AI24<>"",RANK(AI24,$AI$23:$AI$26,0)-1,0),"") -> 1
A25: 3 | B25: Krob Vojtěch (26) (ČL) | O25: =W23 -> 0 | P25: : | Q25: =U23 -> 3 | R25: =W24 -> 0 | S25: : | T25: =U24 -> 3 | U25: xxx | X25: 0 | Y25: : | Z25: 3 | AA25: =IF(B25<>"",SUM(IF(O25>Q25,1,0),IF(R25>T25,1,0),IF(X25>Z25,1,0)),"") -> 0 | AB25: =IF(B25<>"",SUM(IF(O25<Q25,1,0),IF(R25<T25,1,0),IF(X25<Z25,1,0)),"") -> 3 | AC25: =IF(B25<>"",O25+R25+X25,"") -> 0 | AD25: : | AE25: =IF(B25<>"",Q25+T25+Z25,"") -> 9 | AF25: =IF(B25<>"",(AA25*2)+AB25,"") -> 3 | AG25: =IF(B25<>"",RANK(AF25,$AF$23:$AF$26,0)+IF(AI25<>"",RANK(AI25,$AI$23:$AI$26,0)-1,0),"") -> 4
A26: 4 | B26: Kvapil Tomáš (24) (ST Fr.) | O26: =Z23 -> 2 | P26: : | Q26: =X23 -> 3 | R26: =Z24 -> 1 | S26: : | T26: =X24 -> 3 | U26: =Z25 -> 3 | V26: : | W26: =X25 -> 0 | X26: xxx | AA26: =IF(B26<>"",SUM(IF(O26>Q26,1,0),IF(R26>T26,1,0),IF(U26>W26,1,0)),"") -> 1 | AB26: =IF(B26<>"",SUM(IF(O26<Q26,1,0),IF(R26<T26,1,0),IF(U26<W26,1,0)),"") -> 2 | AC26: =IF(B26<>"",O26+R26+U26,"") -> 6 | AD26: : | AE26: =IF(B26<>"",Q26+T26+W26,"") -> 6 | AF26: =IF(B26<>"",(AA26*2)+AB26,"") -> 4 | AG26: =IF(B26<>"",RANK(AF26,$AF$23:$AF$26,0)+IF(AI26<>"",RANK(AI26,$AI$23:$AI$26,0)-1,0),"") -> 3
A29: =A1 -> 1. KBT Libereckého kraje | K29: =K1 -> Liberec, 28.9.2026 | U29: =U1 -> Divize | X29: =X1 -> A | AA29: =Z32 -> o 1.-8. místo
A32: Jungmann Matěj (3) (SKST) | Z32: o 1.-8. místo
L33: =IF(L34="3:0",A32,IF(L34="3:1",A32,IF(L34="3:2",A32,IF(L34="2:3",A34,IF(L34="1:3",A34,IF(L34="0:3",A34,"")))))) -> Provazníková Alena (21) (Bižu)
A34: Provazníková Alena (21) (Bižu) | L34: 2:3
W35: =IF(W36="3:0",L33,IF(W36="3:1",L33,IF(W36="3:2",L33,IF(W36="2:3",L37,IF(W36="1:3",L37,IF(W36="0:3",L37,"")))))) -> Čupcová Viktorie (12) (SKST)
A36: Čupcová Viktorie (12) (SKST) | W36: 0:3
L37: =IF(L38="3:0",A36,IF(L38="3:1",A36,IF(L38="3:2",A36,IF(L38="2:3",A38,IF(L38="1:3",A38,IF(L38="0:3",A38,"")))))) -> Čupcová Viktorie (12) (SKST)
A38: Tuma Theodor (9) (PINK!) | L38: 3:0
W39: =IF(W40="3:0",W35,IF(W40="3:1",W35,IF(W40="3:2",W35,IF(W40="2:3",W43,IF(W40="1:3",W43,IF(W40="0:3",W43,"")))))) -> Němec Štěpán (7) (SKST)
A40: Němec Štěpán (7) (SKST) | W40: 1:3
L41: =IF(L42="3:0",A40,IF(L42="3:1",A40,IF(L42="3:2",A40,IF(L42="2:3",A42,IF(L42="1:3",A42,IF(L42="0:3",A42,"")))))) -> Němec Štěpán (7) (SKST)
A42: Hrníčko Matyáš (28) (PINK!) | L42: 3:2
W43: =IF(W44="3:0",L41,IF(W44="3:1",L41,IF(W44="3:2",L41,IF(W44="2:3",L45,IF(W44="1:3",L45,IF(W44="0:3",L45,"")))))) -> Němec Štěpán (7) (SKST)
A44: Perlík Josef (8) (SKST) | W44: 3:2
L45: =IF(L46="3:0",A44,IF(L46="3:1",A44,IF(L46="3:2",A44,IF(L46="2:3",A46,IF(L46="1:3",A46,IF(L46="0:3",A46,"")))))) -> Polívka Matyáš (6) (PINK!)
A46: Polívka Matyáš (6) (PINK!) | L46: 2:3
A49: =IF(L34="3:0",A34,IF(L34="3:1",A34,IF(L34="3:2",A34,IF(L34="2:3",A32,IF(L34="1:3",A32,IF(L34="0:3",A32,"")))))) -> Jungmann Matěj (3) (SKST) | Z49: o 5.-8. místo
L50: =IF(L51="3:0",A49,IF(L51="3:1",A49,IF(L51="3:2",A49,IF(L51="2:3",A51,IF(L51="1:3",A51,IF(L51="0:3",A51,"")))))) -> Tuma Theodor (9) (PINK!)
A51: =IF(L38="3:0",A38,IF(L38="3:1",A38,IF(L38="3:2",A38,IF(L38="2:3",A36,IF(L38="1:3",A36,IF(L38="0:3",A36,"")))))) -> Tuma Theodor (9) (PINK!) | L51: 2:3
W52: =IF(W53="3:0",L50,IF(W53="3:1",L50,IF(W53="3:2",L50,IF(W53="2:3",L54,IF(W53="1:3",L54,IF(W53="0:3",L54,"")))))) -> Hrníčko Matyáš (28) (PINK!)
A53: =IF(L42="3:0",A42,IF(L42="3:1",A42,IF(L42="3:2",A42,IF(L42="2:3",A40,IF(L42="1:3",A40,IF(L42="0:3",A40,"")))))) -> Hrníčko Matyáš (28) (PINK!) | W53: 2:3
L54: =IF(L55="3:0",A53,IF(L55="3:1",A53,IF(L55="3:2",A53,IF(L55="2:3",A55,IF(L55="1:3",A55,IF(L55="0:3",A55,"")))))) -> Hrníčko Matyáš (28) (PINK!)
A55: =IF(L46="3:0",A46,IF(L46="3:1",A46,IF(L46="3:2",A46,IF(L46="2:3",A44,IF(L46="1:3",A44,IF(L46="0:3",A44,"")))))) -> Perlík Josef (8) (SKST) | L55: 3:2
Z57: o 3.-4. místo
L58: =IF(W36="3:0",L37,IF(W36="3:1",L37,IF(W36="3:2",L37,IF(W36="2:3",L33,IF(W36="1:3",L33,IF(W36="0:3",L33,"")))))) -> Provazníková Alena (21) (Bižu)
W59: =IF(W60="3:0",L58,IF(W60="3:1",L58,IF(W60="3:2",L58,IF(W60="2:3",L60,IF(W60="1:3",L60,IF(W60="0:3",L60,"")))))) -> Polívka Matyáš (6) (PINK!)
L60: =IF(W44="3:0",L45,IF(W44="3:1",L45,IF(W44="3:2",L45,IF(W44="2:3",L41,IF(W44="1:3",L41,IF(W44="0:3",L41,"")))))) -> Polívka Matyáš (6) (PINK!) | W60: 2:3
Z62: o 7.-8. místo
L63: =IF(L51="3:0",A51,IF(L51="3:1",A51,IF(L51="3:2",A51,IF(L51="2:3",A49,IF(L51="1:3",A49,IF(L51="0:3",A49,"")))))) -> Jungmann Matěj (3) (SKST)
W64: =IF(W65="3:0",L63,IF(W65="3:1",L63,IF(W65="3:2",L63,IF(W65="2:3",L65,IF(W65="1:3",L65,IF(W65="0:3",L65,"")))))) -> Jungmann Matěj (3) (SKST)
L65: =IF(L55="3:0",A55,IF(L55="3:1",A55,IF(L55="3:2",A55,IF(L55="2:3",A53,IF(L55="1:3",A53,IF(L55="0:3",A53,"")))))) -> Perlík Josef (8) (SKST) | W65: 3:2
A70: =A1 -> 1. KBT Libereckého kraje | K70: =K1 -> Liberec, 28.9.2026 | U70: =U1 -> Divize | X70: =X1 -> A | AA70: =Z73 -> o 9.-16.místo
A73: Kout Matěj (18) (KMST) | Z73: o 9.-16.místo
L74: =IF(L75="3:0",A73,IF(L75="3:1",A73,IF(L75="3:2",A73,IF(L75="2:3",A75,IF(L75="1:3",A75,IF(L75="0:3",A75,"")))))) -> Kout Matěj (18) (KMST)
A75: Krob Vojtěch (26) (ČL) | L75: 3:2
W76: =IF(W77="3:0",L74,IF(W77="3:1",L74,IF(W77="3:2",L74,IF(W77="2:3",L78,IF(W77="1:3",L78,IF(W77="0:3",L78,"")))))) -> Kout Matěj (18) (KMST)
A77: Škorpil Jaroslav (22) (ČL) | W77: 3:0
L78: =IF(L79="3:0",A77,IF(L79="3:1",A77,IF(L79="3:2",A77,IF(L79="2:3",A79,IF(L79="1:3",A79,IF(L79="0:3",A79,"")))))) -> Havel Lukáš (34) (ST Fr.)
A79: Havel Lukáš (34) (ST Fr.) | L79: 2:3
W80: =IF(W81="3:0",W76,IF(W81="3:1",W76,IF(W81="3:2",W76,IF(W81="2:3",W84,IF(W81="1:3",W84,IF(W81="0:3",W84,"")))))) -> Kout Matěj (18) (KMST)
A81: Křivánek Viktor (30) (Ji KŠ) | W81: 3:1
L82: =IF(L83="3:0",A81,IF(L83="3:1",A81,IF(L83="3:2",A81,IF(L83="2:3",A83,IF(L83="1:3",A83,IF(L83="0:3",A83,"")))))) -> Nohejl Vojtěch (27) (ST Fr.)
A83: Nohejl Vojtěch (27) (ST Fr.) | L83: 1:3
W84: =IF(W85="3:0",L82,IF(W85="3:1",L82,IF(W85="3:2",L82,IF(W85="2:3",L86,IF(W85="1:3",L86,IF(W85="0:3",L86,"")))))) -> Kvapil Tomáš (24) (ST Fr.)
A85: Louda Ondřej (35) (PINK!) | W85: 0:3
L86: =IF(L87="3:0",A85,IF(L87="3:1",A85,IF(L87="3:2",A85,IF(L87="2:3",A87,IF(L87="1:3",A87,IF(L87="0:3",A87,"")))))) -> Kvapil Tomáš (24) (ST Fr.)
A87: Kvapil Tomáš (24) (ST Fr.) | L87: 2:3
A90: =IF(L75="3:0",A75,IF(L75="3:1",A75,IF(L75="3:2",A75,IF(L75="2:3",A73,IF(L75="1:3",A73,IF(L75="0:3",A73,"")))))) -> Krob Vojtěch (26) (ČL) | Z90: o 13.-16.místo
L91: =IF(L92="3:0",A90,IF(L92="3:1",A90,IF(L92="3:2",A90,IF(L92="2:3",A92,IF(L92="1:3",A92,IF(L92="0:3",A92,"")))))) -> Krob Vojtěch (26) (ČL)
A92: =IF(L79="3:0",A79,IF(L79="3:1",A79,IF(L79="3:2",A79,IF(L79="2:3",A77,IF(L79="1:3",A77,IF(L79="0:3",A77,"")))))) -> Škorpil Jaroslav (22) (ČL) | L92: 3:1
W93: =IF(W94="3:0",L91,IF(W94="3:1",L91,IF(W94="3:2",L91,IF(W94="2:3",L95,IF(W94="1:3",L95,IF(W94="0:3",L95,"")))))) -> Krob Vojtěch (26) (ČL)
A94: =IF(L83="3:0",A83,IF(L83="3:1",A83,IF(L83="3:2",A83,IF(L83="2:3",A81,IF(L83="1:3",A81,IF(L83="0:3",A81,"")))))) -> Křivánek Viktor (30) (Ji KŠ) | W94: 3:2
L95: =IF(L96="3:0",A94,IF(L96="3:1",A94,IF(L96="3:2",A94,IF(L96="2:3",A96,IF(L96="1:3",A96,IF(L96="0:3",A96,"")))))) -> Křivánek Viktor (30) (Ji KŠ)
A96: =IF(L87="3:0",A87,IF(L87="3:1",A87,IF(L87="3:2",A87,IF(L87="2:3",A85,IF(L87="1:3",A85,IF(L87="0:3",A85,"")))))) -> Louda Ondřej (35) (PINK!) | L96: 3:2
Z98: o 11.-12. místo
L99: =IF(W77="3:0",L78,IF(W77="3:1",L78,IF(W77="3:2",L78,IF(W77="2:3",L74,IF(W77="1:3",L74,IF(W77="0:3",L74,"")))))) -> Havel Lukáš (34) (ST Fr.)
W100: =IF(W101="3:0",L99,IF(W101="3:1",L99,IF(W101="3:2",L99,IF(W101="2:3",L101,IF(W101="1:3",L101,IF(W101="0:3",L101,"")))))) -> Nohejl Vojtěch (27) (ST Fr.)
L101: =IF(W85="3:0",L86,IF(W85="3:1",L86,IF(W85="3:2",L86,IF(W85="2:3",L82,IF(W85="1:3",L82,IF(W85="0:3",L82,"")))))) -> Nohejl Vojtěch (27) (ST Fr.) | W101: 2:3
Z103: o 15.-16.místo
L104: =IF(L92="3:0",A92,IF(L92="3:1",A92,IF(L92="3:2",A92,IF(L92="2:3",A90,IF(L92="1:3",A90,IF(L92="0:3",A90,"")))))) -> Škorpil Jaroslav (22) (ČL)
W105: =IF(W106="3:0",L104,IF(W106="3:1",L104,IF(W106="3:2",L104,IF(W106="2:3",L106,IF(W106="1:3",L106,IF(W106="0:3",L106,"")))))) -> Louda Ondřej (35) (PINK!)
L106: =IF(L96="3:0",A96,IF(L96="3:1",A96,IF(L96="3:2",A96,IF(L96="2:3",A94,IF(L96="1:3",A94,IF(L96="0:3",A94,"")))))) -> Louda Ondřej (35) (PINK!) | W106: 1:3

Sheet div_B
A1: =div_A!A1 -> 1. KBT Libereckého kraje | K1: =div_A!K1 -> Liberec, 28.9.2026 | U1: Divize | X1: B | AA1: Základní skupiny
C4: skupina A | O4: 1 | R4: 2 | U4: 3 | X4: 4 | AA4: v | AB4: p | AC4: sety | AF4: b | AG4: m
A5: 1 | B5: Korpová Tereza (16) (PINK!) | O5: xxx | R5: 2 | S5: : | T5: 3 | U5: 3 | V5: : | W5: 0 | X5: 1 | Y5: : | Z5: 3 | AA5: =IF(B5<>"",SUM(IF(R5>T5,1,0),IF(U5>W5,1,0),IF(X5>Z5,1,0)),"") -> 1 | AB5: =IF(B5<>"",SUM(IF(R5<T5,1,0),IF(U5<W5,1,0),IF(X5<Z5,1,0)),"") -> 2 | AC5: =IF(B5<>"",R5+U5+X5,"") -> 6 | AD5: : | AE5: =IF(B5<>"",T5+W5+Z5,"") -> 6 | AF5: =IF(B5<>"",(AA5*2)+AB5,"") -> 4 | AG5: =IF(B5<>"",RANK(AF5,$AF$5:$AF$8,0)+IF(AI5<>"",RANK(AI5,$AI$5:$AI$8,0)-1,0),"") -> 3
A6: 2 | B6: Pinc Jonáš (42) (AST) | O6: =T5 -> 3 | P6: : | Q6: =R5 -> 2 | R6: xxx | U6: 3 | V6: : | W6: 2 | X6: 3 | Y6: : | Z6: 1 | AA6: =IF(B6<>"",SUM(IF(O6>Q6,1,0),IF(U6>W6,1,0),IF(X6>Z6,1,0)),"") -> 3 | AB6: =IF(B6<>"",SUM(IF(O6<Q6,1,0),IF(U6<W6,1,0),IF(X6<Z6,1,0)),"") -> 0 | AC6: =IF(B6<>"",O6+U6+X6,"") -> 9 | AD6: : | AE6: =IF(B6<>"",Q6+W6+Z6,"") -> 5 | AF6: =IF(B6<>"",(AA6*2)+AB6,"") -> 6 | AG6: =IF(B6<>"",RANK(AF6,$AF$5:$AF$8,0)+IF(AI6<>"",RANK(AI6,$AI$5:$AI$8,0)-1,0),"") -> 1
A7: 3 | B7: Leksa Michal (57) (STAR) | O7: =W5 -> 0 | P7: : | Q7: =U5 -> 3 | R7: =W6 -> 2 | S7: : | T7: =U6 -> 3 | U7: xxx | X7: 0 | Y7: : | Z7: 3 | AA7: =IF(B7<>"",SUM(IF(O7>Q7,1,0),IF(R7>T7,1,0),IF(X7>Z7,1,0)),"") -> 0 | AB7: =IF(B7<>"",SUM(IF(O7<Q7,1,0),IF(R7<T7,1,0),IF(X7<Z7,1,0)),"") -> 3 | AC7: =IF(B7<>"",O7+R7+X7,"") -> 2 | AD7: : | AE7: =IF(B7<>"",Q7+T7+Z7,"") -> 9 | AF7: =IF(B7<>"",(AA7*2)+AB7,"") -> 3 | AG7: =IF(B7<>"",RANK(AF7,$AF$5:$AF$8,0)+IF(AI7<>"",RANK(AI7,$AI$5:$AI$8,0)-1,0),"") -> 4
A8: 4 | B8: Humhal Jiří (46) (ČL) | O8: =Z5 -> 3 | P8: : | Q8: =X5 -> 1 | R8: =Z6 -> 1 | S8: : | T8: =X6 -> 3 | U8: =Z7 -> 3 | V8: : | W8: =X7 -> 0 | X8: xxx | AA8: =IF(B8<>"",SUM(IF(O8>Q8,1,0),IF(R8>T8,1,0),IF(U8>W8,1,0)),"") -> 2 | AB8: =IF(B8<>"",SUM(IF(O8<Q8,1,0),IF(R8<T8,1,0),IF(U8<W8,1,0)),"") -> 1 | AC8: =IF(B8<>"",O8+R8+U8,"") -> 7 | AD8: : | AE8: =IF(B8<>"",Q8+T8+W8,"") -> 4 | AF8: =IF(B8<>"",(AA8*2)+AB8,"") -> 5 | AG8: =IF(B8<>"",RANK(AF8,$AF$5:$AF$8,0)+IF(AI8<>"",RANK(AI8,$AI$5:$AI$8,0)-1,0),"") -> 2
C10: skupina B | O10: 1 | R10: 2 | U10: 3 | X10: 4 | AA10: v | AB10: p | AC10: sety | AF10: b | AG10: m
A11: 1 | B11: Svoboda Daniel (24) (STAR) | O11: xxx | R11: 3 | S11: : | T11: 2 | U11: 3 | V11: : | W11: 2 | X11: 3 | Y11: : | Z11: 0 | AA11: =IF(B11<>"",SUM(IF(R11>T11,1,0),IF(U11>W11,1,0),IF(X11>Z11,1,0)),"") -> 3 | AB11: =IF(B11<>"",SUM(IF(R11<T11,1,0),IF(U11<W11,1,0),IF(X11<Z11,1,0)),"") -> 0 | AC11: =IF(B11<>"",R11+U11+X11,"") -> 9 | AD11: : | AE11: =IF(B11<>"",T11+W11+Z11,"") -> 4 | AF11: =IF(B11<>"",(AA11*2)+AB11,"") -> 6 | AG11: =IF(B11<>"",RANK(AF11,$AF$11:$AF$14,0)+IF(AI11<>"",RANK(AI11,$AI$11:$AI$14,0)-1,0),"") -> 1
A12: 2 | B12: Švarc Dominik (39) (Bižu) | O12: =T11 -> 2 | P12: : | Q12: =R11 -> 3 | R12: xxx | U12: 1 | V12: : | W12: 3 | X12: 3 | Y12: : | Z12: 2 | AA12: =IF(B12<>"",SUM(IF(O12>Q12,1,0),IF(U12>W12,1,0),IF(X12>Z12,1,0)),"") -> 1 | AB12: =IF(B12<>"",SUM(IF(O12<Q12,1,0),IF(U12<W12,1,0),IF(X12<Z12,1,0)),"") -> 2 | AC12: =IF(B12<>"",O12+U12+X12,"") -> 6 | AD12: : | AE12: =IF(B12<>"",Q12+W12+Z12,"") -> 8 | AF12: =IF(B12<>"",(AA12*2)+AB12,"") -> 4 | AG12: =IF(B12<>"",RANK(AF12,$AF$11:$AF$14,0)+IF(AI12<>"",RANK(AI12,$AI$11:$AI$14,0)-1,0),"") -> 3
A13: 3 | B13: Salaba Marek (47) (Smržovka) | O13: =W11 -> 2 | P13: : | Q13: =U11 -> 3 | R13: =W12 -> 3 | S13: : | T13: =U12 -> 1 | U13: xxx | X13: 3 | Y13: : | Z13: 1 | AA13: =IF(B13<>"",SUM(IF(O13>Q13,1,0),IF(R13>T13,1,0),IF(X13>Z13,1,0)),"") -> 2 | AB13: =IF(B13<>"",SUM(IF(O13<Q13,1,0),IF(R13<T13,1,0),IF(X13<Z13,1,0)),"") -> 1 | AC13: =IF(B13<>"",O13+R13+X13,"") -> 8 | AD13: : | AE13: =IF(B13<>"",Q13+T13+Z13,"") -> 5 | AF13: =IF(B13<>"",(AA13*2)+AB13,"") -> 5 | AG13: =IF(B13<>"",RANK(AF13,$AF$11:$AF$14,0)+IF(AI13<>"",RANK(AI13,$AI$11:$AI$14,0)-1,0),"") -> 2
A14: 4 | B14: Johanová Sofie (50) (PINK!) | O14: =Z11 -> 0 | P14: : | Q14: =X11 -> 3 | R14: =Z12 -> 2 | S14: : | T14: =X12 -> 3 | U14: =Z13 -> 1 | V14: : | W14: =X13 -> 3 | X14: xxx | AA14: =IF(B14<>"",SUM(IF(O14>Q14,1,0),IF(R14>T14,1,0),IF(U14>W14,1,0)),"") -> 0 | AB14: =IF(B14<>"",SUM(IF(O14<Q14,1,0),IF(R14<T14,1,0),IF(U14<W14,1,0)),"") -> 3 | AC14: =IF(B14<>"",O14+R14+U14,"") -> 3 | AD14: : | AE14: =IF(B14<>"",Q14+T14+W14,"") -> 9 | AF14: =IF(B14<>"",(AA14*2)+AB14,"") -> 3 | AG14: =IF(B14<>"",RANK(AF14,$AF$11:$AF$14,0)+IF(AI14<>"",RANK(AI14,$AI$11:$AI$14,0)-1,0),"") -> 4
C16: skupina C | O16: 1 | R16: 2 | U16: 3 | X16: 4 | AA16: v | AB16: p | AC16: sety | AF16: b | AG16: m
A17: 1 | B17: Kuchyňa Josef (31) (Bižu) | O17: xxx | R17: 3 | S17: : | T17: 0 | U17: 3 | V17: : | W17: 1 | X17: 3 | Y17: : | Z17: 0 | AA17: =IF(B17<>"",SUM(IF(R17>T17,1,0),IF(U17>W17,1,0),IF(X17>Z17,1,0)),"") -> 3 | AB17: =IF(B17<>"",SUM(IF(R17<T17,1,0),IF(U17<W17,1,0),IF(X17<Z17,1,0)),"") -> 0 | AC17: =IF(B17<>"",R17+U17+X17,"") -> 9 | AD17: : | AE17: =IF(B17<>"",T17+W17+Z17,"") -> 1 | AF17: =IF(B17<>"",(AA17*2)+AB17,"") -> 6 | AG17: =IF(B17<>"",RANK(AF17,$AF$17:$AF$20,0)+IF(AI17<>"",RANK(AI17,$AI$17:$AI$20,0)-1,0),"") -> 1
A18: 2 | B18: Čupcová Valerie (36) (SKST) | O18: =T17 -> 0 | P18: : | Q18: =R17 -> 3 | R18: xxx | U18: 3 | V18: : | W18: 0 | X18: 3 | Y18: : | Z18: 1 | AA18: =IF(B18<>"",SUM(IF(O18>Q18,1,0),IF(U18>W18,1,0),IF(X18>Z18,1,0)),"") -> 2 | AB18: =IF(B18<>"",SUM(IF(O18<Q18,1,0),IF(U18<W18,1,0),IF(X18<Z18,1,0)),"") -> 1 | AC18: =IF(B18<>"",O18+U18+X18,"") -> 6 | AD18: : | AE18: =IF(B18<>"",Q18+W18+Z18,"") -> 4 | AF18: =IF(B18<>"",(AA18*2)+AB18,"") -> 5 | AG18: =IF(B18<>"",RANK(AF18,$AF$17:$AF$20,0)+IF(AI18<>"",RANK(AI18,$AI$17:$AI$20,0)-1,0),"") -> 2
A19: 3 | B19: Vorel Jan (56) (PINK!) | O19: =W17 -> 1 | P19: : | Q19: =U17 -> 3 | R19: =W18 -> 0 | S19: : | T19: =U18 -> 3 | U19: xxx | X19: 3 | Y19: : | Z19: 1 | AA19: =IF(B19<>"",SUM(IF(O19>Q19,1,0),IF(R19>T19,1,0),IF(X19>Z19,1,0)),"") -> 1 | AB19: =IF(B19<>"",SUM(IF(O19<Q19,1,0),IF(R19<T19,1,0),IF(X19<Z19,1,0)),"") -> 2 | AC19: =IF(B19<>"",O19+R19+X19,"") -> 4 | AD19: : | AE19: =IF(B19<>"",Q19+T19+Z19,"") -> 7 | AF19: =IF(B19<>"",(AA19*2)+AB19,"") -> 4 | AG19: =IF(B19<>"",RANK(AF19,$AF$17:$AF$20,0)+IF(AI19<>"",RANK(AI19,$AI$17:$AI$20,0)-1,0),"") -> 3
A20: 4 | B20: Janatka Adam (43) (ČL) | O20: =Z17 -> 0 | P20: : | Q20: =X17 -> 3 | R20: =Z18 -> 1 | S20: : | T20: =X18 -> 3 | U20: =Z19 -> 1 | V20: : | W20: =X19 -> 3 | X20: xxx | AA20: =IF(B20<>"",SUM(IF(O20>Q20,1,0),IF(R20>T20,1,0),IF(U20>W20,1,0)),"") -> 0 | AB20: =IF(B20<>"",SUM(IF(O20<Q20,1,0),IF(R20<T20,1,0),IF(U20<W20,1,0)),"") -> 3 | AC20: =IF(B20<>"",O20+R20+U20,"") -> 2 | AD20: : | AE20: =IF(B20<>"",Q20+T20+W20,"") -> 9 | AF20: =IF(B20<>"",(AA20*2)+AB20,"") -> 3 | AG20: =IF(B20<>"",RANK(AF20,$AF$17:$AF$20,0)+IF(AI20<>"",RANK(AI20,$AI$17:$AI$20,0)-1,0),"") -> 4
C22: skupina D | O22: 1 | R22: 2 | U22: 3 | X22: 4 | AA22: v | AB22: p | AC22: sety | AF22: b | AG22: m
A23: 1 | B23: Hudák František (36) (Bižu) | O23: xxx | R23: 1 | S23: : | T23: 3 | U23: 1 | V23: : | W23: 3 | X23: 0 | Y23: : | Z23: 3 | AA23: =IF(B23<>"",SUM(IF(R23>T23,1,0),IF(U23>W23,1,0),IF(X23>Z23,1,0)),"") -> 0 | AB23: =IF(B23<>"",SUM(IF(R23<T23,1,0),IF(U23<W23,1,0),IF(X23<Z23,1,0)),"") -> 3 | AC23: =IF(B23<>"",R23+U23+X23,"") -> 2 | AD23: : | AE23: =IF(B23<>"",T23+W23+Z23,"") -> 9 | AF23: =IF(B23<>"",(AA23*2)+AB23,"") -> 3 | AG23: =IF(B23<>"",RANK(AF23,$AF$23:$AF$26,0)+IF(AI23<>"",RANK(AI23,$AI$23:$AI$26,0)-1,0),"") -> 4
A24: 2 | B24: Vargová Stella (40) (PINK!) | O24: =T23 -> 3 | P24: : | Q24: =R23 -> 1 | R24: xxx | U24: 3 | V24: : | W24: 0 | X24: 2 | Y24: : | Z24: 3 | AA24: =IF(B24<>"",SUM(IF(O24>Q24,1,0),IF(U24>W24,1,0),IF(X24>Z24,1,0)),"") -> 2 | AB24: =IF(B24<>"",SUM(IF(O24<Q24,1,0),IF(U24<W24,1,0),IF(X24<Z24,1,0)),"") -> 1 | AC24: =IF(B24<>"",O24+U24+X24,"") -> 8 | AD24: : | AE24: =IF(B24<>"",Q24+W24+Z24,"") -> 4 | AF24: =IF(B24<>"",(AA24*2)+AB24,"") -> 5 | AG24: =IF(B24<>"",RANK(AF24,$AF$23:$AF$26,0)+IF(AI24<>"",RANK(AI24,$AI$23:$AI$26,0)-1,0),"") -> 2
A25: 3 | B25: Trojan Jáchym (53) (KMST) | O25: =W23 -> 3 | P25: : | Q25: =U23 -> 1 | R25: =W24 -> 0 | S25: : | T25: =U24 -> 3 | U25: xxx | X25: 0 | Y25: : | Z25: 3 | AA25: =IF(B25<>"",SUM(IF(O25>Q25,1,0),IF(R25>T25,1,0),IF(X25>Z25,1,0)),"") -> 1 | AB25: =IF(B25<>"",SUM(IF(O25<Q25,1,0),IF(R25<T25,1,0),IF(X25<Z25,1,0)),"") -> 2 | AC25: =IF(B25<>"",O25+R25+X25,"") -> 3 | AD25: : | AE25: =IF(B25<>"",Q25+T25+Z25,"") -> 7 | AF25: =IF(B25<>"",(AA25*2)+AB25,"") -> 4 | AG25: =IF(B25<>"",RANK(AF25,$AF$23:$AF$26,0)+IF(AI25<>"",RANK(AI25,$AI$23:$AI$26,0)-1,0),"") -> 3
A26: 4 | B26: Rachač Daniel (44) (ČL) | O26: =Z23 -> 3 | P26: : | Q26: =X23 -> 0 | R26: =Z24 -> 3 | S26: : | T26: =X24 -> 2 | U26: =Z25 -> 3 | V26: : | W26: =X25 -> 0 | X26: xxx | AA26: =IF(B26<>"",SUM(IF(O26>Q26,1,0),IF(R26>T26,1,0),IF(U26>W26,1,0)),"") -> 3 | AB26: =IF(B26<>"",SUM(IF(O26<Q26,1,0),IF(R26<T26,1,0),IF(U26<W26,1,0)),"") -> 0 | AC26: =IF(B26<>"",O26+R26+U26,"") -> 9 | AD26: : | AE26: =IF(B26<>"",Q26+T26+W26,"") -> 2 | AF26: =IF(B26<>"",(AA26*2)+AB26,"") -> 6 | AG26: =IF(B26<>"",RANK(AF26,$AF$23:$AF$26,0)+IF(AI26<>"",RANK(AI26,$AI$23:$AI$26,0)-1,0),"") -> 1
A29: =A1 -> 1. KBT Libereckého kraje | K29: =K1 -> Liberec, 28.9.2026 | U29: =U1 -> Divize | X29: =X1 -> B | AA29: =Z32 -> o 1.-8. místo
A32: Pinc Jonáš (42) (AST) | Z32: o 1.-8. místo
L33: =IF(L34="3:0",A32,IF(L34="3:1",A32,IF(L34="3:2",A32,IF(L34="2:3",A34,IF(L34="1:3",A34,IF(L34="0:3",A34,"")))))) -> Vargová Stella (40) (PINK!)
A34: Vargová Stella (40) (PINK!) | L34: 1:3
W35: =IF(W36="3:0",L33,IF(W36="3:1",L33,IF(W36="3:2",L33,IF(W36="2:3",L37,IF(W36="1:3",L37,IF(W36="0:3",L37,"")))))) -> Kuchyňa Josef (31) (Bižu)
A36: Salaba Marek (47) (Smržovka) | W36: 2:3
L37: =IF(L38="3:0",A36,IF(L38="3:1",A36,IF(L38="3:2",A36,IF(L38="2:3",A38,IF(L38="1:3",A38,IF(L38="0:3",A38,"")))))) -> Kuchyňa Josef (31) (Bižu)
A38: Kuchyňa Josef (31) (Bižu) | L38: 2:3
W39: =IF(W40="3:0",W35,IF(W40="3:1",W35,IF(W40="3:2",W35,IF(W40="2:3",W43,IF(W40="1:3",W43,IF(W40="0:3",W43,"")))))) -> Kuchyňa Josef (31) (Bižu)
A40: Rachač Daniel (44) (ČL) | W40: 3:0
L41: =IF(L42="3:0",A40,IF(L42="3:1",A40,IF(L42="3:2",A40,IF(L42="2:3",A42,IF(L42="1:3",A42,IF(L42="0:3",A42,"")))))) -> Čupcová Valerie (36) (SKST)
A42: Čupcová Valerie (36) (SKST) | L42: 2:3
W43: =IF(W44="3:0",L41,IF(W44="3:1",L41,IF(W44="3:2",L41,IF(W44="2:3",L45,IF(W44="1:3",L45,IF(W44="0:3",L45,"")))))) -> Svoboda Daniel (24) (STAR)
A44: Humhal Jiří (46) (ČL) | W44: 2:3
L45: =IF(L46="3:0",A44,IF(L46="3:1",A44,IF(L46="3:2",A44,IF(L46="2:3",A46,IF(L46="1:3",A46,IF(L46="0:3",A46,"")))))) -> Svoboda Daniel (24) (STAR)
A46: Svoboda Daniel (24) (STAR) | L46: 2:3
A49: =IF(L34="3:0",A34,IF(L34="3:1",A34,IF(L34="3:2",A34,IF(L34="2:3",A32,IF(L34="1:3",A32,IF(L34="0:3",A32,"")))))) -> Pinc Jonáš (42) (AST) | Z49: o 5.-8. místo
L50: =IF(L51="3:0",A49,IF(L51="3:1",A49,IF(L51="3:2",A49,IF(L51="2:3",A51,IF(L51="1:3",A51,IF(L51="0:3",A51,"")))))) -> Pinc Jonáš (42) (AST)
A51: =IF(L38="3:0",A38,IF(L38="3:1",A38,IF(L38="3:2",A38,IF(L38="2:3",A36,IF(L38="1:3",A36,IF(L38="0:3",A36,"")))))) -> Salaba Marek (47) (Smržovka) | L51: 3:0
W52: =IF(W53="3:0",L50,IF(W53="3:1",L50,IF(W53="3:2",L50,IF(W53="2:3",L54,IF(W53="1:3",L54,IF(W53="0:3",L54,"")))))) -> Pinc Jonáš (42) (AST)
A53: =IF(L42="3:0",A42,IF(L42="3:1",A42,IF(L42="3:2",A42,IF(L42="2:3",A40,IF(L42="1:3",A40,IF(L42="0:3",A40,"")))))) -> Rachač Daniel (44) (ČL) | W53: 3:1
L54: =IF(L55="3:0",A53,IF(L55="3:1",A53,IF(L55="3:2",A53,IF(L55="2:3",A55,IF(L55="1:3",A55,IF(L55="0:3",A55,"")))))) -> Rachač Daniel (44) (ČL)
A55: =IF(L46="3:0",A46,IF(L46="3:1",A46,IF(L46="3:2",A46,IF(L46="2:3",A44,IF(L46="1:3",A44,IF(L46="0:3",A44,"")))))) -> Humhal Jiří (46) (ČL) | L55: 3:1
Z57: o 3.-4. místo
L58: =IF(W36="3:0",L37,IF(W36="3:1",L37,IF(W36="3:2",L37,IF(W36="2:3",L33,IF(W36="1:3",L33,IF(W36="0:3",L33,"")))))) -> Vargová Stella (40) (PINK!)
W59: =IF(W60="3:0",L58,IF(W60="3:1",L58,IF(W60="3:2",L58,IF(W60="2:3",L60,IF(W60="1:3",L60,IF(W60="0:3",L60,"")))))) -> Vargová Stella (40) (PINK!)
L60: =IF(W44="3:0",L45,IF(W44="3:1",L45,IF(W44="3:2",L45,IF(W44="2:3",L41,IF(W44="1:3",L41,IF(W44="0:3",L41,"")))))) -> Čupcová Valerie (36) (SKST) | W60: 3:2
Z62: o 7.-8. místo
L63: =IF(L51="3:0",A51,IF(L51="3:1",A51,IF(L51="3:2",A51,IF(L51="2:3",A49,IF(L51="1:3",A49,IF(L51="0:3",A49,"")))))) -> Salaba Marek (47) (Smržovka)
W64: =IF(W65="3:0",L63,IF(W65="3:1",L63,IF(W65="3:2",L63,IF(W65="2:3",L65,IF(W65="1:3",L65,IF(W65="0:3",L65,"")))))) -> Salaba Marek (47) (Smržovka)
L65: =IF(L55="3:0",A55,IF(L55="3:1",A55,IF(L55="3:2",A55,IF(L55="2:3",A53,IF(L55="1:3",A53,IF(L55="0:3",A53,"")))))) -> Humhal Jiří (46) (ČL) | W65: 3:2
A70: =A1 -> 1. KBT Libereckého kraje | K70: =K1 -> Liberec, 28.9.2026 | U70: =U1 -> Divize | X70: =X1 -> B | AA70: =Z73 -> o 9.-16.místo
A73: Korpová Tereza (16) (PINK!) | Z73: o 9.-16.místo
L74: =IF(L75="3:0",A73,IF(L75="3:1",A73,IF(L75="3:2",A73,IF(L75="2:3",A75,IF(L75="1:3",A75,IF(L75="0:3",A75,"")))))) -> Korpová Tereza (16) (PINK!)
A75: Janatka Adam (43) (ČL) | L75: 3:1
W76: =IF(W77="3:0",L74,IF(W77="3:1",L74,IF(W77="3:2",L74,IF(W77="2:3",L78,IF(W77="1:3",L78,IF(W77="0:3",L78,"")))))) -> Korpová Tereza (16) (PINK!)
A77: Johanová Sofie (50) (PINK!) | W77: 3:0
L78: =IF(L79="3:0",A77,IF(L79="3:1",A77,IF(L79="3:2",A77,IF(L79="2:3",A79,IF(L79="1:3",A79,IF(L79="0:3",A79,"")))))) -> Trojan Jáchym (53) (KMST)
A79: Trojan Jáchym (53) (KMST) | L79: 1:3
W80: =IF(W81="3:0",W76,IF(W81="3:1",W76,IF(W81="3:2",W76,IF(W81="2:3",W84,IF(W81="1:3",W84,IF(W81="0:3",W84,"")))))) -> Korpová Tereza (16) (PINK!)
A81: Vorel Jan (56) (PINK!) | W81: 3:0
L82: =IF(L83="3:0",A81,IF(L83="3:1",A81,IF(L83="3:2",A81,IF(L83="2:3",A83,IF(L83="1:3",A83,IF(L83="0:3",A83,"")))))) -> Hudák František (36) (Bižu)
A83: Hudák František (36) (Bižu) | L83: 2:3
W84: =IF(W85="3:0",L82,IF(W85="3:1",L82,IF(W85="3:2",L82,IF(W85="2:3",L86,IF(W85="1:3",L86,IF(W85="0:3",L86,"")))))) -> Hudák František (36) (Bižu)
A85: Leksa Michal (57) (STAR) | W85: 3:2
L86: =IF(L87="3:0",A85,IF(L87="3:1",A85,IF(L87="3:2",A85,IF(L87="2:3",A87,IF(L87="1:3",A87,IF(L87="0:3",A87,"")))))) -> Švarc Dominik (39) (Bižu)
A87: Švarc Dominik (39) (Bižu) | L87: 2:3
A90: =IF(L75="3:0",A75,IF(L75="3:1",A75,IF(L75="3:2",A75,IF(L75="2:3",A73,IF(L75="1:3",A73,IF(L75="0:3",A73,"")))))) -> Janatka Adam (43) (ČL) | Z90: o 13.-16.místo
L91: =IF(L92="3:0",A90,IF(L92="3:1",A90,IF(L92="3:2",A90,IF(L92="2:3",A92,IF(L92="1:3",A92,IF(L92="0:3",A92,"")))))) -> Janatka Adam (43) (ČL)
A92: =IF(L79="3:0",A79,IF(L79="3:1",A79,IF(L79="3:2",A79,IF(L79="2:3",A77,IF(L79="1:3",A77,IF(L79="0:3",A77,"")))))) -> Johanová Sofie (50) (PINK!) | L92: 3:1
W93: =IF(W94="3:0",L91,IF(W94="3:1",L91,IF(W94="3:2",L91,IF(W94="2:3",L95,IF(W94="1:3",L95,IF(W94="0:3",L95,"")))))) -> Janatka Adam (43) (ČL)
A94: =IF(L83="3:0",A83,IF(L83="3:1",A83,IF(L83="3:2",A83,IF(L83="2:3",A81,IF(L83="1:3",A81,IF(L83="0:3",A81,"")))))) -> Vorel Jan (56) (PINK!) | W94: 3:2
L95: =IF(L96="3:0",A94,IF(L96="3:1",A94,IF(L96="3:2",A94,IF(L96="2:3",A96,IF(L96="1:3",A96,IF(L96="0:3",A96,"")))))) -> Leksa Michal (57) (STAR)
A96: =IF(L87="3:0",A87,IF(L87="3:1",A87,IF(L87="3:2",A87,IF(L87="2:3",A85,IF(L87="1:3",A85,IF(L87="0:3",A85,"")))))) -> Leksa Michal (57) (STAR) | L96: 2:3
Z98: o 11.-12. místo
L99: =IF(W77="3:0",L78,IF(W77="3:1",L78,IF(W77="3:2",L78,IF(W77="2:3",L74,IF(W77="1:3",L74,IF(W77="0:3",L74,"")))))) -> Trojan Jáchym (53) (KMST)
W100: =IF(W101="3:0",L99,IF(W101="3:1",L99,IF(W101="3:2",L99,IF(W101="2:3",L101,IF(W101="1:3",L101,IF(W101="0:3",L101,"")))))) -> Švarc Dominik (39) (Bižu)
L101: =IF(W85="3:0",L86,IF(W85="3:1",L86,IF(W85="3:2",L86,IF(W85="2:3",L82,IF(W85="1:3",L82,IF(W85="0:3",L82,"")))))) -> Švarc Dominik (39) (Bižu) | W101: 2:3
Z103: o 15.-16.místo
L104: =IF(L92="3:0",A92,IF(L92="3:1",A92,IF(L92="3:2",A92,IF(L92="2:3",A90,IF(L92="1:3",A90,IF(L92="0:3",A90,"")))))) -> Johanová Sofie (50) (PINK!)
W105: =IF(W106="3:0",L104,IF(W106="3:1",L104,IF(W106="3:2",L104,IF(W106="2:3",L106,IF(W106="1:3",L106,IF(W106="0:3",L106,"")))))) -> Vorel Jan (56) (PINK!)
L106: =IF(L96="3:0",A96,IF(L96="3:1",A96,IF(L96="3:2",A96,IF(L96="2:3",A94,IF(L96="1:3",A94,IF(L96="0:3",A94,"")))))) -> Vorel Jan (56) (PINK!) | W106: 1:3

Sheet div_C
A1: =div_A!A1 -> 1. KBT Libereckého kraje | K1: =div_A!K1 -> Liberec, 28.9.2026 | U1: Divize | X1: C | AA1: Základní skupiny
C4: skupina A | O4: 1 | R4: 2 | U4: 3 | X4: 4 | AA4: v | AB4: p | AC4: sety | AF4: b | AG4: m
A5: 1 | B5: Svoboda Jan (49) (PINK!) | O5: xxx | R5: 1 | S5: : | T5: 3 | U5: 3 | V5: : | W5: 1 | X5: 3 | Y5: : | Z5: 1 | AA5: =IF(B5<>"",SUM(IF(R5>T5,1,0),IF(U5>W5,1,0),IF(X5>Z5,1,0)),"") -> 2 | AB5: =IF(B5<>"",SUM(IF(R5<T5,1,0),IF(U5<W5,1,0),IF(X5<Z5,1,0)),"") -> 1 | AC5: =IF(B5<>"",R5+U5+X5,"") -> 7 | AD5: : | AE5: =IF(B5<>"",T5+W5+Z5,"") -> 5 | AF5: =IF(B5<>"",(AA5*2)+AB5,"") -> 5 | AG5: =IF(B5<>"",RANK(AF5,$AF$5:$AF$8,0)+IF(AI5<>"",RANK(AI5,$AI$5:$AFH$8,0)-1,0),"") -> 2 | AI5: =DIVIDE(4,4) -> 1
A6: 2 | B6: Jaška Petr (60) (AST) | O6: =T5 -> 3 | P6: : | Q6: =R5 -> 1 | R6: xxx | U6: 3 | V6: : | W6: 1 | X6: 0 | Y6: : | Z6: 3 | AA6: =IF(B6<>"",SUM(IF(O6>Q6,1,0),IF(U6>W6,1,0),IF(X6>Z6,1,0)),"") -> 2 | AB6: =IF(B6<>"",SUM(IF(O6<Q6,1,0),IF(U6<W6,1,0),IF(X6<Z6,1,0)),"") -> 1 | AC6: =IF(B6<>"",O6+U6+X6,"") -> 6 | AD6: : | AE6: =IF(B6<>"",Q6+W6+Z6,"") -> 5 | AF6: =IF(B6<>"",(AA6*2)+AB6,"") -> 5 | AG6: =IF(B6<>"",RANK(AF6,$AF$5:$AF$8,0)+IF(AI6<>"",RANK(AI6,$AI$5:$AFH$8,0)-1,0),"") -> 3 | AI6: =DIVIDE(3,4) -> 0.75
A7: 3 | B7: Šulc Adam (83) (PINK!) | O7: =W5 -> 1 | P7: : | Q7: =U5 -> 3 | R7: =W6 -> 1 | S7: : | T7: =U6 -> 3 | U7: xxx | X7: 0 | Y7: : | Z7: 3 | AA7: =IF(B7<>"",SUM(IF(O7>Q7,1,0),IF(R7>T7,1,0),IF(X7>Z7,1,0)),"") -> 0 | AB7: =IF(B7<>"",SUM(IF(O7<Q7,1,0),IF(R7<T7,1,0),IF(X7<Z7,1,0)),"") -> 3 | AC7: =IF(B7<>"",O7+R7+X7,"") -> 2 | AD7: : | AE7: =IF(B7<>"",Q7+T7+Z7,"") -> 9 | AF7: =IF(B7<>"",(AA7*2)+AB7,"") -> 3 | AG7: =IF(B7<>"",RANK(AF7,$AF$5:$AF$8,0)+IF(AI7<>"",RANK(AI7,$AI$5:$AFH$8,0)-1,0),"") -> 4
A8: 4 | B8: Charousek Mikuláš (66) (KMST) | O8: =Z5 -> 1 | P8: : | Q8: =X5 -> 3 | R8: =Z6 -> 3 | S8: : | T8: =X6 -> 0 | U8: =Z7 -> 3 | V8: : | W8: =X7 -> 0 | X8: xxx | AA8: =IF(B8<>"",SUM(IF(O8>Q8,1,0),IF(R8>T8,1,0),IF(U8>W8,1,0)),"") -> 2 | AB8: =IF(B8<>"",SUM(IF(O8<Q8,1,0),IF(R8<T8,1,0),IF(U8<W8,1,0)),"") -> 1 | AC8: =IF(B8<>"",O8+R8+U8,"") -> 7 | AD8: : | AE8: =IF(B8<>"",Q8+T8+W8,"") -> 3 | AF8: =IF(B8<>"",(AA8*2)+AB8,"") -> 5 | AG8: =IF(B8<>"",RANK(AF8,$AF$5:$AF$8,0)+IF(AI8<>"",RANK(AI8,$AI$5:$AFH$8,0)-1,0),"") -> 1 | AI8: =DIVIDE(4,3) -> 1.3333333
C10: skupina B | O10: 1 | R10: 2 | U10: 3 | X10: 4 | AA10: v | AB10: p | AC10: sety | AF10: b | AG10: m
A11: 1 | B11: Trávníčková Tereza (52) (SKST) | O11: xxx | R11: 3 | S11: : | T11: 0 | U11: 3 | V11: : | W11: 0 | X11: 3 | Y11: : | Z11: 0 | AA11: =IF(B11<>"",SUM(IF(R11>T11,1,0),IF(U11>W11,1,0),IF(X11>Z11,1,0)),"") -> 3 | AB11: =IF(B11<>"",SUM(IF(R11<T11,1,0),IF(U11<W11,1,0),IF(X11<Z11,1,0)),"") -> 0 | AC11: =IF(B11<>"",R11+U11+X11,"") -> 9 | AD11: : | AE11: =IF(B11<>"",T11+W11+Z11,"") -> 0 | AF11: =IF(B11<>"",(AA11*2)+AB11,"") -> 6 | AG11: =IF(B11<>"",RANK(AF11,$AF$11:$AF$14,0)+IF(AI11<>"",RANK(AI11,$AI$11:$AI$14,0)-1,0),"") -> 1
A12: 2 | B12: Peřina Jan (61) (PINK!) | O12: =T11 -> 0 | P12: : | Q12: =R11 -> 3 | R12: xxx | U12: 3 | V12: : | W12: 1 | X12: 3 | Y12: : | Z12: 2 | AA12: =IF(B12<>"",SUM(IF(O12>Q12,1,0),IF(U12>W12,1,0),IF(X12>Z12,1,0)),"") -> 2 | AB12: =IF(B12<>"",SUM(IF(O12<Q12,1,0),IF(U12<W12,1,0),IF(X12<Z12,1,0)),"") -> 1 | AC12: =IF(B12<>"",O12+U12+X12,"") -> 6 | AD12: : | AE12: =IF(B12<>"",Q12+W12+Z12,"") -> 6 | AF12: =IF(B12<>"",(AA12*2)+AB12,"") -> 5 | AG12: =IF(B12<>"",RANK(AF12,$AF$11:$AF$14,0)+IF(AI12<>"",RANK(AI12,$AI$11:$AI$14,0)-1,0),"") -> 2
A13: 3 | B13: Dočekal František (79) (PINK!) | O13: =W11 -> 0 | P13: : | Q13: =U11 -> 3 | R13: =W12 -> 1 | S13: : | T13: =U12 -> 3 | U13: xxx | X13: 3 | Y13: : | Z13: 0 | AA13: =IF(B13<>"",SUM(IF(O13>Q13,1,0),IF(R13>T13,1,0),IF(X13>Z13,1,0)),"") -> 1 | AB13: =IF(B13<>"",SUM(IF(O13<Q13,1,0),IF(R13<T13,1,0),IF(X13<Z13,1,0)),"") -> 2 | AC13: =IF(B13<>"",O13+R13+X13,"") -> 4 | AD13: : | AE13: =IF(B13<>"",Q13+T13+Z13,"") -> 6 | AF13: =IF(B13<>"",(AA13*2)+AB13,"") -> 4 | AG13: =IF(B13<>"",RANK(AF13,$AF$11:$AF$14,0)+IF(AI13<>"",RANK(AI13,$AI$11:$AI$14,0)-1,0),"") -> 3
A14: 4 | B14: Louda Štěpán (107) (STAR) | O14: =Z11 -> 0 | P14: : | Q14: =X11 -> 3 | R14: =Z12 -> 2 | S14: : | T14: =X12 -> 3 | U14: =Z13 -> 0 | V14: : | W14: =X13 -> 3 | X14: xxx | AA14: =IF(B14<>"",SUM(IF(O14>Q14,1,0),IF(R14>T14,1,0),IF(U14>W14,1,0)),"") -> 0 | AB14: =IF(B14<>"",SUM(IF(O14<Q14,1,0),IF(R14<T14,1,0),IF(U14<W14,1,0)),"") -> 3 | AC14: =IF(B14<>"",O14+R14+U14,"") -> 2 | AD14: : | AE14: =IF(B14<>"",Q14+T14+W14,"") -> 9 | AF14: =IF(B14<>"",(AA14*2)+AB14,"") -> 3 | AG14: =IF(B14<>"",RANK(AF14,$AF$11:$AF$14,0)+IF(AI14<>"",RANK(AI14,$AI$11:$AI$14,0)-1,0),"") -> 4
C16: skupina C | O16: 1 | R16: 2 | U16: 3 | X16: 4 | AA16: v | AB16: p | AC16: sety | AF16: b | AG16: m
A17: 1 | B17: Ponocný Radek (54) (STAR) | O17: xxx | R17: 3 | S17: : | T17: 1 | U17: 3 | V17: : | W17: 0 | X17: 2 | Y17: : | Z17: 3 | AA17: =IF(B17<>"",SUM(IF(R17>T17,1,0),IF(U17>W17,1,0),IF(X17>Z17,1,0)),"") -> 2 | AB17: =IF(B17<>"",SUM(IF(R17<T17,1,0),IF(U17<W17,1,0),IF(X17<Z17,1,0)),"") -> 1 | AC17: =IF(B17<>"",R17+U17+X17,"") -> 8 | AD17: : | AE17: =IF(B17<>"",T17+W17+Z17,"") -> 4 | AF17: =IF(B17<>"",(AA17*2)+AB17,"") -> 5 | AG17: =IF(B17<>"",RANK(AF17,$AF$17:$AF$20,0),"") -> 2
A18: 2 | B18: Harus Petr (59) (PINK!) | O18: =T17 -> 1 | P18: : | Q18: =R17 -> 3 | R18: xxx | U18: 0 | V18: : | W18: 3 | X18: 0 | Y18: : | Z18: 3 | AA18: =IF(B18<>"",SUM(IF(O18>Q18,1,0),IF(U18>W18,1,0),IF(X18>Z18,1,0)),"") -> 0 | AB18: =IF(B18<>"",SUM(IF(O18<Q18,1,0),IF(U18<W18,1,0),IF(X18<Z18,1,0)),"") -> 3 | AC18: =IF(B18<>"",O18+U18+X18,"") -> 1 | AD18: : | AE18: =IF(B18<>"",Q18+W18+Z18,"") -> 9 | AF18: =IF(B18<>"",(AA18*2)+AB18,"") -> 3 | AG18: =IF(B18<>"",RANK(AF18,$AF$17:$AF$20,0),"") -> 4
A19: 3 | B19: Mach Jiří (77) (Víchová) | O19: =W17 -> 0 | P19: : | Q19: =U17 -> 3 | R19: =W18 -> 3 | S19: : | T19: =U18 -> 0 | U19: xxx | X19: 0 | Y19: : | Z19: 3 | AA19: =IF(B19<>"",SUM(IF(O19>Q19,1,0),IF(R19>T19,1,0),IF(X19>Z19,1,0)),"") -> 1 | AB19: =IF(B19<>"",SUM(IF(O19<Q19,1,0),IF(R19<T19,1,0),IF(X19<Z19,1,0)),"") -> 2 | AC19: =IF(B19<>"",O19+R19+X19,"") -> 3 | AD19: : | AE19: =IF(B19<>"",Q19+T19+Z19,"") -> 6 | AF19: =IF(B19<>"",(AA19*2)+AB19,"") -> 4 | AG19: =IF(B19<>"",RANK(AF19,$AF$17:$AF$20,0),"") -> 3
A20: 4 | B20: Maršík Ondřej (64) (KMST) | O20: =Z17 -> 3 | P20: : | Q20: =X17 -> 2 | R20: =Z18 -> 3 | S20: : | T20: =X18 -> 0 | U20: =Z19 -> 3 | V20: : | W20: =X19 -> 0 | X20: xxx | AA20: =IF(B20<>"",SUM(IF(O20>Q20,1,0),IF(R20>T20,1,0),IF(U20>W20,1,0)),"") -> 3 | AB20: =IF(B20<>"",SUM(IF(O20<Q20,1,0),IF(R20<T20,1,0),IF(U20<W20,1,0)),"") -> 0 | AC20: =IF(B20<>"",O20+R20+U20,"") -> 9 | AD20: : | AE20: =IF(B20<>"",Q20+T20+W20,"") -> 2 | AF20: =IF(B20<>"",(AA20*2)+AB20,"") -> 6 | AG20: =IF(B20<>"",RANK(AF20,$AF$17:$AF$20,0),"") -> 1
C22: skupina D | O22: 1 | R22: 2 | U22: 3 | X22: 4 | AA22: v | AB22: p | AC22: sety | AF22: b | AG22: m
A23: 1 | B23: Doubrava Matyáš (58) (PINK!) | O23: xxx | R23: 3 | S23: : | T23: 0 | U23: 3 | V23: : | W23: 0 | X23: 3 | Y23: : | Z23: 0 | AA23: =IF(B23<>"",SUM(IF(R23>T23,1,0),IF(U23>W23,1,0),IF(X23>Z23,1,0)),"") -> 3 | AB23: =IF(B23<>"",SUM(IF(R23<T23,1,0),IF(U23<W23,1,0),IF(X23<Z23,1,0)),"") -> 0 | AC23: =IF(B23<>"",R23+U23+X23,"") -> 9 | AD23: : | AE23: =IF(B23<>"",T23+W23+Z23,"") -> 0 | AF23: =IF(B23<>"",(AA23*2)+AB23,"") -> 6 | AG23: =IF(B23<>"",RANK(AF23,$AF$23:$AF$26,0)+IF(AI23<>"",RANK(AI23,$AI$23:$AI$26,0)-1,0),"") -> 1
A24: 2 | B24: Hlubuček František (62) (N. Ves) | O24: =T23 -> 0 | P24: : | Q24: =R23 -> 3 | R24: xxx | U24: 3 | V24: : | W24: 2 | X24: 3 | Y24: : | Z24: 0 | AA24: =IF(B24<>"",SUM(IF(O24>Q24,1,0),IF(U24>W24,1,0),IF(X24>Z24,1,0)),"") -> 2 | AB24: =IF(B24<>"",SUM(IF(O24<Q24,1,0),IF(U24<W24,1,0),IF(X24<Z24,1,0)),"") -> 1 | AC24: =IF(B24<>"",O24+U24+X24,"") -> 6 | AD24: : | AE24: =IF(B24<>"",Q24+W24+Z24,"") -> 5 | AF24: =IF(B24<>"",(AA24*2)+AB24,"") -> 5 | AG24: =IF(B24<>"",RANK(AF24,$AF$23:$AF$26,0)+IF(AI24<>"",RANK(AI24,$AI$23:$AI$26,0)-1,0),"") -> 2
A25: 3 | B25: Moravec Matyáš (81) (KMST) | O25: =W23 -> 0 | P25: : | Q25: =U23 -> 3 | R25: =W24 -> 2 | S25: : | T25: =U24 -> 3 | U25: xxx | X25: 0 | Y25: : | Z25: 3 | AA25: =IF(B25<>"",SUM(IF(O25>Q25,1,0),IF(R25>T25,1,0),IF(X25>Z25,1,0)),"") -> 0 | AB25: =IF(B25<>"",SUM(IF(O25<Q25,1,0),IF(R25<T25,1,0),IF(X25<Z25,1,0)),"") -> 3 | AC25: =IF(B25<>"",O25+R25+X25,"") -> 2 | AD25: : | AE25: =IF(B25<>"",Q25+T25+Z25,"") -> 9 | AF25: =IF(B25<>"",(AA25*2)+AB25,"") -> 3 | AG25: =IF(B25<>"",RANK(AF25,$AF$23:$AF$26,0)+IF(AI25<>"",RANK(AI25,$AI$23:$AI$26,0)-1,0),"") -> 4
A26: 4 | B26: Bečková Adéla (75) (STAR) | O26: =Z23 -> 0 | P26: : | Q26: =X23 -> 3 | R26: =Z24 -> 0 | S26: : | T26: =X24 -> 3 | U26: =Z25 -> 3 | V26: : | W26: =X25 -> 0 | X26: xxx | AA26: =IF(B26<>"",SUM(IF(O26>Q26,1,0),IF(R26>T26,1,0),IF(U26>W26,1,0)),"") -> 1 | AB26: =IF(B26<>"",SUM(IF(O26<Q26,1,0),IF(R26<T26,1,0),IF(U26<W26,1,0)),"") -> 2 | AC26: =IF(B26<>"",O26+R26+U26,"") -> 3 | AD26: : | AE26: =IF(B26<>"",Q26+T26+W26,"") -> 6 | AF26: =IF(B26<>"",(AA26*2)+AB26,"") -> 4 | AG26: =IF(B26<>"",RANK(AF26,$AF$23:$AF$26,0)+IF(AI26<>"",RANK(AI26,$AI$23:$AI$26,0)-1,0),"") -> 3
A29: =A1 -> 1. KBT Libereckého kraje | K29: =K1 -> Liberec, 28.9.2026 | U29: =U1 -> Divize | X29: =X1 -> C | AA29: =Z32 -> o 1.-8. místo
A32: Charousek Mikuláš (66) (KMST) | Z32: o 1.-8. místo
L33: =IF(L34="3:0",A32,IF(L34="3:1",A32,IF(L34="3:2",A32,IF(L34="2:3",A34,IF(L34="1:3",A34,IF(L34="0:3",A34,"")))))) -> Charousek Mikuláš (66) (KMST)
A34: Hlubuček František (62) (N. Ves) | L34: 3:2
W35: =IF(W36="3:0",L33,IF(W36="3:1",L33,IF(W36="3:2",L33,IF(W36="2:3",L37,IF(W36="1:3",L37,IF(W36="0:3",L37,"")))))) -> Charousek Mikuláš (66) (KMST)
A36: Peřina Jan (61) (PINK!) | W36: 3:1
L37: =IF(L38="3:0",A36,IF(L38="3:1",A36,IF(L38="3:2",A36,IF(L38="2:3",A38,IF(L38="1:3",A38,IF(L38="0:3",A38,"")))))) -> Peřina Jan (61) (PINK!)
A38: Maršík Ondřej (64) (KMST) | L38: 3:1
W39: =IF(W40="3:0",W35,IF(W40="3:1",W35,IF(W40="3:2",W35,IF(W40="2:3",W43,IF(W40="1:3",W43,IF(W40="0:3",W43,"")))))) -> Trávníčková Tereza (52) (SKST)
A40: Doubrava Matyáš (58) (PINK!) | W40: 1:3
L41: =IF(L42="3:0",A40,IF(L42="3:1",A40,IF(L42="3:2",A40,IF(L42="2:3",A42,IF(L42="1:3",A42,IF(L42="0:3",A42,"")))))) -> Ponocný Radek (54) (STAR)
A42: Ponocný Radek (54) (STAR) | L42: 2:3
W43: =IF(W44="3:0",L41,IF(W44="3:1",L41,IF(W44="3:2",L41,IF(W44="2:3",L45,IF(W44="1:3",L45,IF(W44="0:3",L45,"")))))) -> Trávníčková Tereza (52) (SKST)
A44: Svoboda Jan (49) (PINK!) | W44: 2:3
L45: =IF(L46="3:0",A44,IF(L46="3:1",A44,IF(L46="3:2",A44,IF(L46="2:3",A46,IF(L46="1:3",A46,IF(L46="0:3",A46,"")))))) -> Trávníčková Tereza (52) (SKST)
A46: Trávníčková Tereza (52) (SKST) | L46: 1:3
A49: =IF(L34="3:0",A34,IF(L34="3:1",A34,IF(L34="3:2",A34,IF(L34="2:3",A32,IF(L34="1:3",A32,IF(L34="0:3",A32,"")))))) -> Hlubuček František (62) (N. Ves) | Z49: o 5.-8. místo
L50: =IF(L51="3:0",A49,IF(L51="3:1",A49,IF(L51="3:2",A49,IF(L51="2:3",A51,IF(L51="1:3",A51,IF(L51="0:3",A51,"")))))) -> Maršík Ondřej (64) (KMST)
A51: =IF(L38="3:0",A38,IF(L38="3:1",A38,IF(L38="3:2",A38,IF(L38="2:3",A36,IF(L38="1:3",A36,IF(L38="0:3",A36,"")))))) -> Maršík Ondřej (64) (KMST) | L51: 1:3
W52: =IF(W53="3:0",L50,IF(W53="3:1",L50,IF(W53="3:2",L50,IF(W53="2:3",L54,IF(W53="1:3",L54,IF(W53="0:3",L54,"")))))) -> Svoboda Jan (49) (PINK!)
A53: =IF(L42="3:0",A42,IF(L42="3:1",A42,IF(L42="3:2",A42,IF(L42="2:3",A40,IF(L42="1:3",A40,IF(L42="0:3",A40,"")))))) -> Doubrava Matyáš (58) (PINK!) | W53: 1:3
L54: =IF(L55="3:0",A53,IF(L55="3:1",A53,IF(L55="3:2",A53,IF(L55="2:3",A55,IF(L55="1:3",A55,IF(L55="0:3",A55,"")))))) -> Svoboda Jan (49) (PINK!)
A55: =IF(L46="3:0",A46,IF(L46="3:1",A46,IF(L46="3:2",A46,IF(L46="2:3",A44,IF(L46="1:3",A44,IF(L46="0:3",A44,"")))))) -> Svoboda Jan (49) (PINK!) | L55: 0:3
Z57: o 3.-4. místo
L58: =IF(W36="3:0",L37,IF(W36="3:1",L37,IF(W36="3:2",L37,IF(W36="2:3",L33,IF(W36="1:3",L33,IF(W36="0:3",L33,"")))))) -> Peřina Jan (61) (PINK!)
W59: =IF(W60="3:0",L58,IF(W60="3:1",L58,IF(W60="3:2",L58,IF(W60="2:3",L60,IF(W60="1:3",L60,IF(W60="0:3",L60,"")))))) -> Peřina Jan (61) (PINK!)
L60: =IF(W44="3:0",L45,IF(W44="3:1",L45,IF(W44="3:2",L45,IF(W44="2:3",L41,IF(W44="1:3",L41,IF(W44="0:3",L41,"")))))) -> Ponocný Radek (54) (STAR) | W60: 3:0
Z62: o 7.-8. místo
L63: =IF(L51="3:0",A51,IF(L51="3:1",A51,IF(L51="3:2",A51,IF(L51="2:3",A49,IF(L51="1:3",A49,IF(L51="0:3",A49,"")))))) -> Hlubuček František (62) (N. Ves)
W64: =IF(W65="3:0",L63,IF(W65="3:1",L63,IF(W65="3:2",L63,IF(W65="2:3",L65,IF(W65="1:3",L65,IF(W65="0:3",L65,"")))))) -> Doubrava Matyáš (58) (PINK!)
L65: =IF(L55="3:0",A55,IF(L55="3:1",A55,IF(L55="3:2",A55,IF(L55="2:3",A53,IF(L55="1:3",A53,IF(L55="0:3",A53,"")))))) -> Doubrava Matyáš (58) (PINK!) | W65: 0:3
A70: =A1 -> 1. KBT Libereckého kraje | K70: =K1 -> Liberec, 28.9.2026 | U70: =U1 -> Divize | X70: =X1 -> C | AA70: =Z73 -> o 9.-16.místo
A73: Jaška Petr (60) (AST) | Z73: o 9.-16.místo
L74: =IF(L75="3:0",A73,IF(L75="3:1",A73,IF(L75="3:2",A73,IF(L75="2:3",A75,IF(L75="1:3",A75,IF(L75="0:3",A75,"")))))) -> Jaška Petr (60) (AST)
A75: Moravec Matyáš (81) (KMST) | L75: 3:0
W76: =IF(W77="3:0",L74,IF(W77="3:1",L74,IF(W77="3:2",L74,IF(W77="2:3",L78,IF(W77="1:3",L78,IF(W77="0:3",L78,"")))))) -> Jaška Petr (60) (AST)
A77: Louda Štěpán (107) (STAR) | W77: 3:0
L78: =IF(L79="3:0",A77,IF(L79="3:1",A77,IF(L79="3:2",A77,IF(L79="2:3",A79,IF(L79="1:3",A79,IF(L79="0:3",A79,"")))))) -> Mach Jiří (77) (Víchová)
A79: Mach Jiří (77) (Víchová) | L79: 0:3
W80: =IF(W81="3:0",W76,IF(W81="3:1",W76,IF(W81="3:2",W76,IF(W81="2:3",W84,IF(W81="1:3",W84,IF(W81="0:3",W84,"")))))) -> Jaška Petr (60) (AST)
A81: Dočekal František (79) (PINK!) | W81: 3:0
L82: =IF(L83="3:0",A81,IF(L83="3:1",A81,IF(L83="3:2",A81,IF(L83="2:3",A83,IF(L83="1:3",A83,IF(L83="0:3",A83,"")))))) -> Harus Petr (59) (PINK!)
A83: Harus Petr (59) (PINK!) | L83: 2:3
W84: =IF(W85="3:0",L82,IF(W85="3:1",L82,IF(W85="3:2",L82,IF(W85="2:3",L86,IF(W85="1:3",L86,IF(W85="0:3",L86,"")))))) -> Harus Petr (59) (PINK!)
A85: Šulc Adam (83) (PINK!) | W85: 3:0
L86: =IF(L87="3:0",A85,IF(L87="3:1",A85,IF(L87="3:2",A85,IF(L87="2:3",A87,IF(L87="1:3",A87,IF(L87="0:3",A87,"")))))) -> Šulc Adam (83) (PINK!)
A87: Bečková Adéla (75) (STAR) | L87: 3:1
A90: =IF(L75="3:0",A75,IF(L75="3:1",A75,IF(L75="3:2",A75,IF(L75="2:3",A73,IF(L75="1:3",A73,IF(L75="0:3",A73,"")))))) -> Moravec Matyáš (81) (KMST) | Z90: o 13.-16.místo
L91: =IF(L92="3:0",A90,IF(L92="3:1",A90,IF(L92="3:2",A90,IF(L92="2:3",A92,IF(L92="1:3",A92,IF(L92="0:3",A92,"")))))) -> Moravec Matyáš (81) (KMST)
A92: =IF(L79="3:0",A79,IF(L79="3:1",A79,IF(L79="3:2",A79,IF(L79="2:3",A77,IF(L79="1:3",A77,IF(L79="0:3",A77,"")))))) -> Louda Štěpán (107) (STAR) | L92: 3:1
W93: =IF(W94="3:0",L91,IF(W94="3:1",L91,IF(W94="3:2",L91,IF(W94="2:3",L95,IF(W94="1:3",L95,IF(W94="0:3",L95,"")))))) -> Moravec Matyáš (81) (KMST)
A94: =IF(L83="3:0",A83,IF(L83="3:1",A83,IF(L83="3:2",A83,IF(L83="2:3",A81,IF(L83="1:3",A81,IF(L83="0:3",A81,"")))))) -> Dočekal František (79) (PINK!) | W94: 3:2
L95: =IF(L96="3:0",A94,IF(L96="3:1",A94,IF(L96="3:2",A94,IF(L96="2:3",A96,IF(L96="1:3",A96,IF(L96="0:3",A96,"")))))) -> Dočekal František (79) (PINK!)
A96: =IF(L87="3:0",A87,IF(L87="3:1",A87,IF(L87="3:2",A87,IF(L87="2:3",A85,IF(L87="1:3",A85,IF(L87="0:3",A85,"")))))) -> Bečková Adéla (75) (STAR) | L96: 3:1
Z98: o 11.-12. místo
L99: =IF(W77="3:0",L78,IF(W77="3:1",L78,IF(W77="3:2",L78,IF(W77="2:3",L74,IF(W77="1:3",L74,IF(W77="0:3",L74,"")))))) -> Mach Jiří (77) (Víchová)
W100: =IF(W101="3:0",L99,IF(W101="3:1",L99,IF(W101="3:2",L99,IF(W101="2:3",L101,IF(W101="1:3",L101,IF(W101="0:3",L101,"")))))) -> Mach Jiří (77) (Víchová)
L101: =IF(W85="3:0",L86,IF(W85="3:1",L86,IF(W85="3:2",L86,IF(W85="2:3",L82,IF(W85="1:3",L82,IF(W85="0:3",L82,"")))))) -> Šulc Adam (83) (PINK!) | W101: 3:0
Z103: o 15.-16.místo
L104: =IF(L92="3:0",A92,IF(L92="3:1",A92,IF(L92="3:2",A92,IF(L92="2:3",A90,IF(L92="1:3",A90,IF(L92="0:3",A90,"")))))) -> Louda Štěpán (107) (STAR)
W105: =IF(W106="3:0",L104,IF(W106="3:1",L104,IF(W106="3:2",L104,IF(W106="2:3",L106,IF(W106="1:3",L106,IF(W106="0:3",L106,"")))))) -> Louda Štěpán (107) (STAR)
L106: =IF(L96="3:0",A96,IF(L96="3:1",A96,IF(L96="3:2",A96,IF(L96="2:3",A94,IF(L96="1:3",A94,IF(L96="0:3",A94,"")))))) -> Bečková Adéla (75) (STAR) | W106: 3:0

Sheet div_D
A1: =div_A!A1 -> 1. KBT Libereckého kraje | K1: =div_A!K1 -> Liberec, 28.9.2026 | U1: Divize | X1: D | AA1: Základní skupiny
C4: skupina A | O4: 1 | R4: 2 | U4: 3 | X4: 4 | AA4: v | AB4: p | AC4: sety | AF4: b | AG4: m
A5: 1 | B5: Růžková Stella (65) (PINK!) | O5: xxx | R5: 3 | S5: : | T5: 1 | U5: 3 | V5: : | W5: 0 | X5: 3 | Y5: : | Z5: 1 | AA5: =IF(B5<>"",SUM(IF(R5>T5,1,0),IF(U5>W5,1,0),IF(X5>Z5,1,0)),"") -> 3 | AB5: =IF(B5<>"",SUM(IF(R5<T5,1,0),IF(U5<W5,1,0),IF(X5<Z5,1,0)),"") -> 0 | AC5: =IF(B5<>"",R5+U5+X5,"") -> 9 | AD5: : | AE5: =IF(B5<>"",T5+W5+Z5,"") -> 2 | AF5: =IF(B5<>"",(AA5*2)+AB5,"") -> 6 | AG5: =IF(B5<>"",RANK(AF5,$AF$5:$AF$8,0),"") -> 1
A6: 2 | B6: Helebrant Aleš (89) (KMST) | O6: =T5 -> 1 | P6: : | Q6: =R5 -> 3 | R6: xxx | U6: 1 | V6: : | W6: 3 | X6: 2 | Y6: : | Z6: 3 | AA6: =IF(B6<>"",SUM(IF(O6>Q6,1,0),IF(U6>W6,1,0),IF(X6>Z6,1,0)),"") -> 0 | AB6: =IF(B6<>"",SUM(IF(O6<Q6,1,0),IF(U6<W6,1,0),IF(X6<Z6,1,0)),"") -> 3 | AC6: =IF(B6<>"",O6+U6+X6,"") -> 4 | AD6: : | AE6: =IF(B6<>"",Q6+W6+Z6,"") -> 9 | AF6: =IF(B6<>"",(AA6*2)+AB6,"") -> 3 | AG6: =IF(B6<>"",RANK(AF6,$AF$5:$AF$8,0),"") -> 4
A7: 3 | B7: Mařanová Alena (102) (N. Ves) | O7: =W5 -> 0 | P7: : | Q7: =U5 -> 3 | R7: =W6 -> 3 | S7: : | T7: =U6 -> 1 | U7: xxx | X7: 1 | Y7: : | Z7: 3 | AA7: =IF(B7<>"",SUM(IF(O7>Q7,1,0),IF(R7>T7,1,0),IF(X7>Z7,1,0)),"") -> 1 | AB7: =IF(B7<>"",SUM(IF(O7<Q7,1,0),IF(R7<T7,1,0),IF(X7<Z7,1,0)),"") -> 2 | AC7: =IF(B7<>"",O7+R7+X7,"") -> 4 | AD7: : | AE7: =IF(B7<>"",Q7+T7+Z7,"") -> 7 | AF7: =IF(B7<>"",(AA7*2)+AB7,"") -> 4 | AG7: =IF(B7<>"",RANK(AF7,$AF$5:$AF$8,0),"") -> 3
A8: 4 | B8: Horáčková Dorota (90) (STAR) | O8: =Z5 -> 1 | P8: : | Q8: =X5 -> 3 | R8: =Z6 -> 3 | S8: : | T8: =X6 -> 2 | U8: =Z7 -> 3 | V8: : | W8: =X7 -> 1 | X8: xxx | AA8: =IF(B8<>"",SUM(IF(O8>Q8,1,0),IF(R8>T8,1,0),IF(U8>W8,1,0)),"") -> 2 | AB8: =IF(B8<>"",SUM(IF(O8<Q8,1,0),IF(R8<T8,1,0),IF(U8<W8,1,0)),"") -> 1 | AC8: =IF(B8<>"",O8+R8+U8,"") -> 7 | AD8: : | AE8: =IF(B8<>"",Q8+T8+W8,"") -> 6 | AF8: =IF(B8<>"",(AA8*2)+AB8,"") -> 5 | AG8: =IF(B8<>"",RANK(AF8,$AF$5:$AF$8,0),"") -> 2
C10: skupina B | O10: 1 | R10: 2 | U10: 3 | X10: 4 | AA10: v | AB10: p | AC10: sety | AF10: b | AG10: m
A11: 1 | B11: Kyselová Angelika (73) (STAR) | O11: xxx | R11: 1 | S11: : | T11: 3 | U11: 3 | V11: : | W11: 1 | X11: 3 | Y11: : | Z11: 0 | AA11: =IF(B11<>"",SUM(IF(R11>T11,1,0),IF(U11>W11,1,0),IF(X11>Z11,1,0)),"") -> 2 | AB11: =IF(B11<>"",SUM(IF(R11<T11,1,0),IF(U11<W11,1,0),IF(X11<Z11,1,0)),"") -> 1 | AC11: =IF(B11<>"",R11+U11+X11,"") -> 7 | AD11: : | AE11: =IF(B11<>"",T11+W11+Z11,"") -> 4 | AF11: =IF(B11<>"",(AA11*2)+AB11,"") -> 5 | AG11: =IF(B11<>"",RANK(AF11,$AF$11:$AF$14,0)+IF(AI11<>"",RANK(AI11,$AI$11:$AI$14,0)-1,0),"") -> 2
A12: 2 | B12: Horáček Richard (95) (Brniště) | O12: =T11 -> 3 | P12: : | Q12: =R11 -> 1 | R12: xxx | U12: 3 | V12: : | W12: 0 | X12: 3 | Y12: : | Z12: 1 | AA12: =IF(B12<>"",SUM(IF(O12>Q12,1,0),IF(U12>W12,1,0),IF(X12>Z12,1,0)),"") -> 3 | AB12: =IF(B12<>"",SUM(IF(O12<Q12,1,0),IF(U12<W12,1,0),IF(X12<Z12,1,0)),"") -> 0 | AC12: =IF(B12<>"",O12+U12+X12,"") -> 9 | AD12: : | AE12: =IF(B12<>"",Q12+W12+Z12,"") -> 2 | AF12: =IF(B12<>"",(AA12*2)+AB12,"") -> 6 | AG12: =IF(B12<>"",RANK(AF12,$AF$11:$AF$14,0)+IF(AI12<>"",RANK(AI12,$AI$11:$AI$14,0)-1,0),"") -> 1
A13: 3 | B13: Šimík Max (97) (PINK!) | O13: =W11 -> 1 | P13: : | Q13: =U11 -> 3 | R13: =W12 -> 0 | S13: : | T13: =U12 -> 3 | U13: xxx | X13: 3 | Y13: : | Z13: 1 | AA13: =IF(B13<>"",SUM(IF(O13>Q13,1,0),IF(R13>T13,1,0),IF(X13>Z13,1,0)),"") -> 1 | AB13: =IF(B13<>"",SUM(IF(O13<Q13,1,0),IF(R13<T13,1,0),IF(X13<Z13,1,0)),"") -> 2 | AC13: =IF(B13<>"",O13+R13+X13,"") -> 4 | AD13: : | AE13: =IF(B13<>"",Q13+T13+Z13,"") -> 7 | AF13: =IF(B13<>"",(AA13*2)+AB13,"") -> 4 | AG13: =IF(B13<>"",RANK(AF13,$AF$11:$AF$14,0)+IF(AI13<>"",RANK(AI13,$AI$11:$AI$14,0)-1,0),"") -> 3
A14: 4 | B14: Ešner Filip (88) (ČL) | O14: =Z11 -> 0 | P14: : | Q14: =X11 -> 3 | R14: =Z12 -> 1 | S14: : | T14: =X12 -> 3 | U14: =Z13 -> 1 | V14: : | W14: =X13 -> 3 | X14: xxx | AA14: =IF(B14<>"",SUM(IF(O14>Q14,1,0),IF(R14>T14,1,0),IF(U14>W14,1,0)),"") -> 0 | AB14: =IF(B14<>"",SUM(IF(O14<Q14,1,0),IF(R14<T14,1,0),IF(U14<W14,1,0)),"") -> 3 | AC14: =IF(B14<>"",O14+R14+U14,"") -> 2 | AD14: : | AE14: =IF(B14<>"",Q14+T14+W14,"") -> 9 | AF14: =IF(B14<>"",(AA14*2)+AB14,"") -> 3 | AG14: =IF(B14<>"",RANK(AF14,$AF$11:$AF$14,0)+IF(AI14<>"",RANK(AI14,$AI$11:$AI$14,0)-1,0),"") -> 4
C16: skupina C | O16: 1 | R16: 2 | U16: 3 | X16: 4 | AA16: v | AB16: p | AC16: sety | AF16: b | AG16: m
A17: 1 | B17: Zahn Marek (80) (Bižu) | O17: xxx | R17: 2 | S17: : | T17: 3 | U17: 0 | V17: : | W17: 3 | X17: 3 | Y17: : | Z17: 2 | AA17: =IF(B17<>"",SUM(IF(R17>T17,1,0),IF(U17>W17,1,0),IF(X17>Z17,1,0)),"") -> 1 | AB17: =IF(B17<>"",SUM(IF(R17<T17,1,0),IF(U17<W17,1,0),IF(X17<Z17,1,0)),"") -> 2 | AC17: =IF(B17<>"",R17+U17+X17,"") -> 5 | AD17: : | AE17: =IF(B17<>"",T17+W17+Z17,"") -> 8 | AF17: =IF(B17<>"",(AA17*2)+AB17,"") -> 4 | AG17: =IF(B17<>"",RANK(AF17,$AF$17:$AF$20,0)+IF(AI17<>"",RANK(AI17,$AI$17:$AI$20,0)-1,0),"") -> 3
A18: 2 | B18: Zítko Jindřich (92) (Brniště) | O18: =T17 -> 3 | P18: : | Q18: =R17 -> 2 | R18: xxx | U18: 3 | V18: : | W18: 1 | X18: 3 | Y18: : | Z18: 0 | AA18: =IF(B18<>"",SUM(IF(O18>Q18,1,0),IF(U18>W18,1,0),IF(X18>Z18,1,0)),"") -> 3 | AB18: =IF(B18<>"",SUM(IF(O18<Q18,1,0),IF(U18<W18,1,0),IF(X18<Z18,1,0)),"") -> 0 | AC18: =IF(B18<>"",O18+U18+X18,"") -> 9 | AD18: : | AE18: =IF(B18<>"",Q18+W18+Z18,"") -> 3 | AF18: =IF(B18<>"",(AA18*2)+AB18,"") -> 6 | AG18: =IF(B18<>"",RANK(AF18,$AF$17:$AF$20,0)+IF(AI18<>"",RANK(AI18,$AI$17:$AI$20,0)-1,0),"") -> 1
A19: 3 | B19: Ivanov Matteo (103) (STAR) | O19: =W17 -> 3 | P19: : | Q19: =U17 -> 0 | R19: =W18 -> 1 | S19: : | T19: =U18 -> 3 | U19: xxx | X19: 3 | Y19: : | Z19: 0 | AA19: =IF(B19<>"",SUM(IF(O19>Q19,1,0),IF(R19>T19,1,0),IF(X19>Z19,1,0)),"") -> 2 | AB19: =IF(B19<>"",SUM(IF(O19<Q19,1,0),IF(R19<T19,1,0),IF(X19<Z19,1,0)),"") -> 1 | AC19: =IF(B19<>"",O19+R19+X19,"") -> 7 | AD19: : | AE19: =IF(B19<>"",Q19+T19+Z19,"") -> 3 | AF19: =IF(B19<>"",(AA19*2)+AB19,"") -> 5 | AG19: =IF(B19<>"",RANK(AF19,$AF$17:$AF$20,0)+IF(AI19<>"",RANK(AI19,$AI$17:$AI$20,0)-1,0),"") -> 2
A20: 4 | B20: Veselý Jakub (96) (ČL) | O20: =Z17 -> 2 | P20: : | Q20: =X17 -> 3 | R20: =Z18 -> 0 | S20: : | T20: =X18 -> 3 | U20: =Z19 -> 0 | V20: : | W20: =X19 -> 3 | X20: xxx | AA20: =IF(B20<>"",SUM(IF(O20>Q20,1,0),IF(R20>T20,1,0),IF(U20>W20,1,0)),"") -> 0 | AB20: =IF(B20<>"",SUM(IF(O20<Q20,1,0),IF(R20<T20,1,0),IF(U20<W20,1,0)),"") -> 3 | AC20: =IF(B20<>"",O20+R20+U20,"") -> 2 | AD20: : | AE20: =IF(B20<>"",Q20+T20+W20,"") -> 9 | AF20: =IF(B20<>"",(AA20*2)+AB20,"") -> 3 | AG20: =IF(B20<>"",RANK(AF20,$AF$17:$AF$20,0)+IF(AI20<>"",RANK(AI20,$AI$17:$AI$20,0)-1,0),"") -> 4
C22: skupina D | O22: 1 | R22: 2 | U22: 3 | X22: 4 | AA22: v | AB22: p | AC22: sety | AF22: b | AG22: m
A23: 1 | B23: Hrubý Daniel (86) (Víchová) | O23: xxx | R23: 3 | S23: : | T23: 0 | U23: 3 | V23: : | W23: 2 | X23: 3 | Y23: : | Z23: 1 | AA23: =IF(B23<>"",SUM(IF(R23>T23,1,0),IF(U23>W23,1,0),IF(X23>Z23,1,0)),"") -> 3 | AB23: =IF(B23<>"",SUM(IF(R23<T23,1,0),IF(U23<W23,1,0),IF(X23<Z23,1,0)),"") -> 0 | AC23: =IF(B23<>"",R23+U23+X23,"") -> 9 | AD23: : | AE23: =IF(B23<>"",T23+W23+Z23,"") -> 3 | AF23: =IF(B23<>"",(AA23*2)+AB23,"") -> 6 | AG23: =IF(B23<>"",RANK(AF23,$AF$23:$AF$26,0)+IF(AI23<>"",RANK(AI23,$AI$23:$AI$26,0)-1,0),"") -> 1
A24: 2 | B24: Skála Jan (116) (Bižu) | O24: =T23 -> 0 | P24: : | Q24: =R23 -> 3 | R24: xxx | U24: 0 | V24: : | W24: 3 | X24: 0 | Y24: : | Z24: 3 | AA24: =IF(B24<>"",SUM(IF(O24>Q24,1,0),IF(U24>W24,1,0),IF(X24>Z24,1,0)),"") -> 0 | AB24: =IF(B24<>"",SUM(IF(O24<Q24,1,0),IF(U24<W24,1,0),IF(X24<Z24,1,0)),"") -> 3 | AC24: =IF(B24<>"",O24+U24+X24,"") -> 0 | AD24: : | AE24: =IF(B24<>"",Q24+W24+Z24,"") -> 9 | AF24: =IF(B24<>"",(AA24*2)+AB24,"") -> 3 | AG24: =IF(B24<>"",RANK(AF24,$AF$23:$AF$26,0)+IF(AI24<>"",RANK(AI24,$AI$23:$AI$26,0)-1,0),"") -> 4
A25: 3 | B25: Bartko David (101) (STAR) | O25: =W23 -> 2 | P25: : | Q25: =U23 -> 3 | R25: =W24 -> 3 | S25: : | T25: =U24 -> 0 | U25: xxx | X25: 3 | Y25: : | Z25: 0 | AA25: =IF(B25<>"",SUM(IF(O25>Q25,1,0),IF(R25>T25,1,0),IF(X25>Z25,1,0)),"") -> 2 | AB25: =IF(B25<>"",SUM(IF(O25<Q25,1,0),IF(R25<T25,1,0),IF(X25<Z25,1,0)),"") -> 1 | AC25: =IF(B25<>"",O25+R25+X25,"") -> 8 | AD25: : | AE25: =IF(B25<>"",Q25+T25+Z25,"") -> 3 | AF25: =IF(B25<>"",(AA25*2)+AB25,"") -> 5 | AG25: =IF(B25<>"",RANK(AF25,$AF$23:$AF$26,0)+IF(AI25<>"",RANK(AI25,$AI$23:$AI$26,0)-1,0),"") -> 2
A26: 4 | B26: Sadovskyi Yehor (94) (PINK!) | O26: =Z23 -> 1 | P26: : | Q26: =X23 -> 3 | R26: =Z24 -> 3 | S26: : | T26: =X24 -> 0 | U26: =Z25 -> 0 | V26: : | W26: =X25 -> 3 | X26: xxx | AA26: =IF(B26<>"",SUM(IF(O26>Q26,1,0),IF(R26>T26,1,0),IF(U26>W26,1,0)),"") -> 1 | AB26: =IF(B26<>"",SUM(IF(O26<Q26,1,0),IF(R26<T26,1,0),IF(U26<W26,1,0)),"") -> 2 | AC26: =IF(B26<>"",O26+R26+U26,"") -> 4 | AD26: : | AE26: =IF(B26<>"",Q26+T26+W26,"") -> 6 | AF26: =IF(B26<>"",(AA26*2)+AB26,"") -> 4 | AG26: =IF(B26<>"",RANK(AF26,$AF$23:$AF$26,0)+IF(AI26<>"",RANK(AI26,$AI$23:$AI$26,0)-1,0),"") -> 3
A29: =A1 -> 1. KBT Libereckého kraje | K29: =K1 -> Liberec, 28.9.2026 | U29: =U1 -> Divize | X29: =X1 -> D | AA29: =Z32 -> o 1.-8. místo
A32: Růžková Stella (65) (PINK!) | Z32: o 1.-8. místo
L33: =IF(L34="3:0",A32,IF(L34="3:1",A32,IF(L34="3:2",A32,IF(L34="2:3",A34,IF(L34="1:3",A34,IF(L34="0:3",A34,"")))))) -> Růžková Stella (65) (PINK!)
A34: Bartko David (101) (STAR) | L34: 3:0
W35: =IF(W36="3:0",L33,IF(W36="3:1",L33,IF(W36="3:2",L33,IF(W36="2:3",L37,IF(W36="1:3",L37,IF(W36="0:3",L37,"")))))) -> Růžková Stella (65) (PINK!)
A36: Kyselová Angelika (73) (STAR) | W36: 3:1
L37: =IF(L38="3:0",A36,IF(L38="3:1",A36,IF(L38="3:2",A36,IF(L38="2:3",A38,IF(L38="1:3",A38,IF(L38="0:3",A38,"")))))) -> Zítko Jindřich (92) (Brniště)
A38: Zítko Jindřich (92) (Brniště) | L38: 0:3
W39: =IF(W40="3:0",W35,IF(W40="3:1",W35,IF(W40="3:2",W35,IF(W40="2:3",W43,IF(W40="1:3",W43,IF(W40="0:3",W43,"")))))) -> Ivanov Matteo (103) (STAR)
A40: Hrubý Daniel (86) (Víchová) | W40: 0:3
L41: =IF(L42="3:0",A40,IF(L42="3:1",A40,IF(L42="3:2",A40,IF(L42="2:3",A42,IF(L42="1:3",A42,IF(L42="0:3",A42,"")))))) -> Ivanov Matteo (103) (STAR)
A42: Ivanov Matteo (103) (STAR) | L42: 2:3
W43: =IF(W44="3:0",L41,IF(W44="3:1",L41,IF(W44="3:2",L41,IF(W44="2:3",L45,IF(W44="1:3",L45,IF(W44="0:3",L45,"")))))) -> Ivanov Matteo (103) (STAR)
A44: Horáčková Dorota (90) (STAR) | W44: 3:0
L45: =IF(L46="3:0",A44,IF(L46="3:1",A44,IF(L46="3:2",A44,IF(L46="2:3",A46,IF(L46="1:3",A46,IF(L46="0:3",A46,"")))))) -> Horáček Richard (95) (Brniště)
A46: Horáček Richard (95) (Brniště) | L46: 1:3
A49: =IF(L34="3:0",A34,IF(L34="3:1",A34,IF(L34="3:2",A34,IF(L34="2:3",A32,IF(L34="1:3",A32,IF(L34="0:3",A32,"")))))) -> Bartko David (101) (STAR) | Z49: o 5.-8. místo
L50: =IF(L51="3:0",A49,IF(L51="3:1",A49,IF(L51="3:2",A49,IF(L51="2:3",A51,IF(L51="1:3",A51,IF(L51="0:3",A51,"")))))) -> Kyselová Angelika (73) (STAR)
A51: =IF(L38="3:0",A38,IF(L38="3:1",A38,IF(L38="3:2",A38,IF(L38="2:3",A36,IF(L38="1:3",A36,IF(L38="0:3",A36,"")))))) -> Kyselová Angelika (73) (STAR) | L51: 1:3
W52: =IF(W53="3:0",L50,IF(W53="3:1",L50,IF(W53="3:2",L50,IF(W53="2:3",L54,IF(W53="1:3",L54,IF(W53="0:3",L54,"")))))) -> Hrubý Daniel (86) (Víchová)
A53: =IF(L42="3:0",A42,IF(L42="3:1",A42,IF(L42="3:2",A42,IF(L42="2:3",A40,IF(L42="1:3",A40,IF(L42="0:3",A40,"")))))) -> Hrubý Daniel (86) (Víchová) | W53: 0:3
L54: =IF(L55="3:0",A53,IF(L55="3:1",A53,IF(L55="3:2",A53,IF(L55="2:3",A55,IF(L55="1:3",A55,IF(L55="0:3",A55,"")))))) -> Hrubý Daniel (86) (Víchová)
A55: =IF(L46="3:0",A46,IF(L46="3:1",A46,IF(L46="3:2",A46,IF(L46="2:3",A44,IF(L46="1:3",A44,IF(L46="0:3",A44,"")))))) -> Horáčková Dorota (90) (STAR) | L55: 3:2
Z57: o 3.-4. místo
L58: =IF(W36="3:0",L37,IF(W36="3:1",L37,IF(W36="3:2",L37,IF(W36="2:3",L33,IF(W36="1:3",L33,IF(W36="0:3",L33,"")))))) -> Zítko Jindřich (92) (Brniště)
W59: =IF(W60="3:0",L58,IF(W60="3:1",L58,IF(W60="3:2",L58,IF(W60="2:3",L60,IF(W60="1:3",L60,IF(W60="0:3",L60,"")))))) -> Horáček Richard (95) (Brniště)
L60: =IF(W44="3:0",L45,IF(W44="3:1",L45,IF(W44="3:2",L45,IF(W44="2:3",L41,IF(W44="1:3",L41,IF(W44="0:3",L41,"")))))) -> Horáček Richard (95) (Brniště) | W60: 2:3
Z62: o 7.-8. místo
L63: =IF(L51="3:0",A51,IF(L51="3:1",A51,IF(L51="3:2",A51,IF(L51="2:3",A49,IF(L51="1:3",A49,IF(L51="0:3",A49,"")))))) -> Bartko David (101) (STAR)
W64: =IF(W65="3:0",L63,IF(W65="3:1",L63,IF(W65="3:2",L63,IF(W65="2:3",L65,IF(W65="1:3",L65,IF(W65="0:3",L65,"")))))) -> Horáčková Dorota (90) (STAR)
L65: =IF(L55="3:0",A55,IF(L55="3:1",A55,IF(L55="3:2",A55,IF(L55="2:3",A53,IF(L55="1:3",A53,IF(L55="0:3",A53,"")))))) -> Horáčková Dorota (90) (STAR) | W65: 2:3
A70: =A1 -> 1. KBT Libereckého kraje | K70: =K1 -> Liberec, 28.9.2026 | U70: =U1 -> Divize | X70: =X1 -> D | AA70: =Z73 -> o 9.-16.místo
A73: Zahn Marek (80) (Bižu) | Z73: o 9.-16.místo
L74: =IF(L75="3:0",A73,IF(L75="3:1",A73,IF(L75="3:2",A73,IF(L75="2:3",A75,IF(L75="1:3",A75,IF(L75="0:3",A75,"")))))) -> Helebrant Aleš (89) (KMST)
A75: Helebrant Aleš (89) (KMST) | L75: 0:3
W76: =IF(W77="3:0",L74,IF(W77="3:1",L74,IF(W77="3:2",L74,IF(W77="2:3",L78,IF(W77="1:3",L78,IF(W77="0:3",L78,"")))))) -> Helebrant Aleš (89) (KMST)
A77: Skála Jan (116) (Bižu) | W77: 3:0
L78: =IF(L79="3:0",A77,IF(L79="3:1",A77,IF(L79="3:2",A77,IF(L79="2:3",A79,IF(L79="1:3",A79,IF(L79="0:3",A79,"")))))) -> Skála Jan (116) (Bižu)
A79: Šimík Max (97) (PINK!) | L79: 3:2
W80: =IF(W81="3:0",W76,IF(W81="3:1",W76,IF(W81="3:2",W76,IF(W81="2:3",W84,IF(W81="1:3",W84,IF(W81="0:3",W84,"")))))) -> Veselý Jakub (96) (ČL)
A81: Mařanová Alena (102) (N. Ves) | W81: 1:3
L82: =IF(L83="3:0",A81,IF(L83="3:1",A81,IF(L83="3:2",A81,IF(L83="2:3",A83,IF(L83="1:3",A83,IF(L83="0:3",A83,"")))))) -> Veselý Jakub (96) (ČL)
A83: Veselý Jakub (96) (ČL) | L83: 0:3
W84: =IF(W85="3:0",L82,IF(W85="3:1",L82,IF(W85="3:2",L82,IF(W85="2:3",L86,IF(W85="1:3",L86,IF(W85="0:3",L86,"")))))) -> Veselý Jakub (96) (ČL)
A85: Ešner Filip (88) (ČL) | W85: 3:2
L86: =IF(L87="3:0",A85,IF(L87="3:1",A85,IF(L87="3:2",A85,IF(L87="2:3",A87,IF(L87="1:3",A87,IF(L87="0:3",A87,"")))))) -> Sadovskyi Yehor (94) (PINK!)
A87: Sadovskyi Yehor (94) (PINK!) | L87: 0:3
A90: =IF(L75="3:0",A75,IF(L75="3:1",A75,IF(L75="3:2",A75,IF(L75="2:3",A73,IF(L75="1:3",A73,IF(L75="0:3",A73,"")))))) -> Zahn Marek (80) (Bižu) | Z90: o 13.-16.místo
L91: =IF(L92="3:0",A90,IF(L92="3:1",A90,IF(L92="3:2",A90,IF(L92="2:3",A92,IF(L92="1:3",A92,IF(L92="0:3",A92,"")))))) -> Zahn Marek (80) (Bižu)
A92: =IF(L79="3:0",A79,IF(L79="3:1",A79,IF(L79="3:2",A79,IF(L79="2:3",A77,IF(L79="1:3",A77,IF(L79="0:3",A77,"")))))) -> Šimík Max (97) (PINK!) | L92: 3:1
W93: =IF(W94="3:0",L91,IF(W94="3:1",L91,IF(W94="3:2",L91,IF(W94="2:3",L95,IF(W94="1:3",L95,IF(W94="0:3",L95,"")))))) -> Zahn Marek (80) (Bižu)
A94: =IF(L83="3:0",A83,IF(L83="3:1",A83,IF(L83="3:2",A83,IF(L83="2:3",A81,IF(L83="1:3",A81,IF(L83="0:3",A81,"")))))) -> Mařanová Alena (102) (N. Ves) | W94: 3:0
L95: =IF(L96="3:0",A94,IF(L96="3:1",A94,IF(L96="3:2",A94,IF(L96="2:3",A96,IF(L96="1:3",A96,IF(L96="0:3",A96,"")))))) -> Ešner Filip (88) (ČL)
A96: =IF(L87="3:0",A87,IF(L87="3:1",A87,IF(L87="3:2",A87,IF(L87="2:3",A85,IF(L87="1:3",A85,IF(L87="0:3",A85,"")))))) -> Ešner Filip (88) (ČL) | L96: 0:3
Z98: o 11.-12. místo
L99: =IF(W77="3:0",L78,IF(W77="3:1",L78,IF(W77="3:2",L78,IF(W77="2:3",L74,IF(W77="1:3",L74,IF(W77="0:3",L74,"")))))) -> Skála Jan (116) (Bižu)
W100: =IF(W101="3:0",L99,IF(W101="3:1",L99,IF(W101="3:2",L99,IF(W101="2:3",L101,IF(W101="1:3",L101,IF(W101="0:3",L101,"")))))) -> Sadovskyi Yehor (94) (PINK!)
L101: =IF(W85="3:0",L86,IF(W85="3:1",L86,IF(W85="3:2",L86,IF(W85="2:3",L82,IF(W85="1:3",L82,IF(W85="0:3",L82,"")))))) -> Sadovskyi Yehor (94) (PINK!) | W101: 0:3
Z103: o 15.-16.místo
L104: =IF(L92="3:0",A92,IF(L92="3:1",A92,IF(L92="3:2",A92,IF(L92="2:3",A90,IF(L92="1:3",A90,IF(L92="0:3",A90,"")))))) -> Šimík Max (97) (PINK!)
W105: =IF(W106="3:0",L104,IF(W106="3:1",L104,IF(W106="3:2",L104,IF(W106="2:3",L106,IF(W106="1:3",L106,IF(W106="0:3",L106,"")))))) -> Mařanová Alena (102) (N. Ves)
L106: =IF(L96="3:0",A96,IF(L96="3:1",A96,IF(L96="3:2",A96,IF(L96="2:3",A94,IF(L96="1:3",A94,IF(L96="0:3",A94,"")))))) -> Mařanová Alena (102) (N. Ves) | W106: 0:3 | AH106: wo

Sheet div_E
A1: =div_A!A1 -> 1. KBT Libereckého kraje | K1: =div_A!K1 -> Liberec, 28.9.2026 | U1: Divize | X1: E | AA1: Základní skupiny
C4: skupina A | O4: 1 | R4: 2 | U4: 3 | X4: 4 | AA4: v | AB4: p | AC4: sety | AF4: b | AG4: m
A5: 1 | B5: Dajčar Martin (106) (PINK!) | O5: xxx | R5: 3 | S5: : | T5: 1 | U5: 3 | V5: : | W5: 1 | X5: 3 | Y5: : | Z5: 0 | AA5: =IF(B5<>"",SUM(IF(R5>T5,1,0),IF(U5>W5,1,0),IF(X5>Z5,1,0)),"") -> 3 | AB5: =IF(B5<>"",SUM(IF(R5<T5,1,0),IF(U5<W5,1,0),IF(X5<Z5,1,0)),"") -> 0 | AC5: =IF(B5<>"",R5+U5+X5,"") -> 9 | AD5: : | AE5: =IF(B5<>"",T5+W5+Z5,"") -> 2 | AF5: =IF(B5<>"",(AA5*2)+AB5,"") -> 6 | AG5: =IF(B5<>"",RANK(AF5,$AF$5:$AF$8,0)+IF(AI5<>"",RANK(AI5,$AI$5:$AI$8,0)-1,0),"") -> 1
A6: 2 | B6: Vojtíšek Efe (120) (Smržovka) | O6: =T5 -> 1 | P6: : | Q6: =R5 -> 3 | R6: xxx | U6: 3 | V6: : | W6: 1 | X6: 3 | Y6: : | Z6: 0 | AA6: =IF(B6<>"",SUM(IF(O6>Q6,1,0),IF(U6>W6,1,0),IF(X6>Z6,1,0)),"") -> 2 | AB6: =IF(B6<>"",SUM(IF(O6<Q6,1,0),IF(U6<W6,1,0),IF(X6<Z6,1,0)),"") -> 1 | AC6: =IF(B6<>"",O6+U6+X6,"") -> 7 | AD6: : | AE6: =IF(B6<>"",Q6+W6+Z6,"") -> 4 | AF6: =IF(B6<>"",(AA6*2)+AB6,"") -> 5 | AG6: =IF(B6<>"",RANK(AF6,$AF$5:$AF$8,0)+IF(AI6<>"",RANK(AI6,$AI$5:$AI$8,0)-1,0),"") -> 2
A7: 3 | B7: Popov Martin (141) (PINK!) | O7: =W5 -> 1 | P7: : | Q7: =U5 -> 3 | R7: =W6 -> 1 | S7: : | T7: =U6 -> 3 | U7: xxx | X7: 3 | Y7: : | Z7: 2 | AA7: =IF(B7<>"",SUM(IF(O7>Q7,1,0),IF(R7>T7,1,0),IF(X7>Z7,1,0)),"") -> 1 | AB7: =IF(B7<>"",SUM(IF(O7<Q7,1,0),IF(R7<T7,1,0),IF(X7<Z7,1,0)),"") -> 2 | AC7: =IF(B7<>"",O7+R7+X7,"") -> 5 | AD7: : | AE7: =IF(B7<>"",Q7+T7+Z7,"") -> 8 | AF7: =IF(B7<>"",(AA7*2)+AB7,"") -> 4 | AG7: =IF(B7<>"",RANK(AF7,$AF$5:$AF$8,0)+IF(AI7<>"",RANK(AI7,$AI$5:$AI$8,0)-1,0),"") -> 3
A8: 4 | B8: Košnar Jakub (130) (Semily) | O8: =Z5 -> 0 | P8: : | Q8: =X5 -> 3 | R8: =Z6 -> 0 | S8: : | T8: =X6 -> 3 | U8: =Z7 -> 2 | V8: : | W8: =X7 -> 3 | X8: xxx | AA8: =IF(B8<>"",SUM(IF(O8>Q8,1,0),IF(R8>T8,1,0),IF(U8>W8,1,0)),"") -> 0 | AB8: =IF(B8<>"",SUM(IF(O8<Q8,1,0),IF(R8<T8,1,0),IF(U8<W8,1,0)),"") -> 3 | AC8: =IF(B8<>"",O8+R8+U8,"") -> 2 | AD8: : | AE8: =IF(B8<>"",Q8+T8+W8,"") -> 9 | AF8: =IF(B8<>"",(AA8*2)+AB8,"") -> 3 | AG8: =IF(B8<>"",RANK(AF8,$AF$5:$AF$8,0)+IF(AI8<>"",RANK(AI8,$AI$5:$AI$8,0)-1,0),"") -> 4
C10: skupina B | O10: 1 | R10: 2 | U10: 3 | X10: 4 | AA10: v | AB10: p | AC10: sety | AF10: b | AG10: m
A11: 1 | B11: Vejvoda Sebastián (113) (PINK!) | O11: xxx | R11: 3 | S11: : | T11: 0 | U11: 3 | V11: : | W11: 0 | X11: 3 | Y11: : | Z11: 2 | AA11: =IF(B11<>"",SUM(IF(R11>T11,1,0),IF(U11>W11,1,0),IF(X11>Z11,1,0)),"") -> 3 | AB11: =IF(B11<>"",SUM(IF(R11<T11,1,0),IF(U11<W11,1,0),IF(X11<Z11,1,0)),"") -> 0 | AC11: =IF(B11<>"",R11+U11+X11,"") -> 9 | AD11: : | AE11: =IF(B11<>"",T11+W11+Z11,"") -> 2 | AF11: =IF(B11<>"",(AA11*2)+AB11,"") -> 6 | AG11: =IF(B11<>"",RANK(AF11,$AF$11:$AF$14,0)+IF(AI11<>"",RANK(AI11,$AI$11:$AI$14,0)-1,0),"") -> 1
A12: 2 | B12: Procházka Eduard (119) (Bižu) | O12: =T11 -> 0 | P12: : | Q12: =R11 -> 3 | R12: xxx | U12: 1 | V12: : | W12: 3 | X12: 3 | Y12: : | Z12: 1 | AA12: =IF(B12<>"",SUM(IF(O12>Q12,1,0),IF(U12>W12,1,0),IF(X12>Z12,1,0)),"") -> 1 | AB12: =IF(B12<>"",SUM(IF(O12<Q12,1,0),IF(U12<W12,1,0),IF(X12<Z12,1,0)),"") -> 2 | AC12: =IF(B12<>"",O12+U12+X12,"") -> 4 | AD12: : | AE12: =IF(B12<>"",Q12+W12+Z12,"") -> 7 | AF12: =IF(B12<>"",(AA12*2)+AB12,"") -> 4 | AG12: =IF(B12<>"",RANK(AF12,$AF$11:$AF$14,0)+IF(AI12<>"",RANK(AI12,$AI$11:$AI$14,0)-1,0),"") -> 3
A13: 3 | B13: Šárovec Patrik (134) (ČL) | O13: =W11 -> 0 | P13: : | Q13: =U11 -> 3 | R13: =W12 -> 3 | S13: : | T13: =U12 -> 1 | U13: xxx | X13: 3 | Y13: : | Z13: 0 | AA13: =IF(B13<>"",SUM(IF(O13>Q13,1,0),IF(R13>T13,1,0),IF(X13>Z13,1,0)),"") -> 2 | AB13: =IF(B13<>"",SUM(IF(O13<Q13,1,0),IF(R13<T13,1,0),IF(X13<Z13,1,0)),"") -> 1 | AC13: =IF(B13<>"",O13+R13+X13,"") -> 6 | AD13: : | AE13: =IF(B13<>"",Q13+T13+Z13,"") -> 4 | AF13: =IF(B13<>"",(AA13*2)+AB13,"") -> 5 | AG13: =IF(B13<>"",RANK(AF13,$AF$11:$AF$14,0)+IF(AI13<>"",RANK(AI13,$AI$11:$AI$14,0)-1,0),"") -> 2
A14: 4 | B14: Martiš Jan (128) (KMST) | O14: =Z11 -> 2 | P14: : | Q14: =X11 -> 3 | R14: =Z12 -> 1 | S14: : | T14: =X12 -> 3 | U14: =Z13 -> 0 | V14: : | W14: =X13 -> 3 | X14: xxx | AA14: =IF(B14<>"",SUM(IF(O14>Q14,1,0),IF(R14>T14,1,0),IF(U14>W14,1,0)),"") -> 0 | AB14: =IF(B14<>"",SUM(IF(O14<Q14,1,0),IF(R14<T14,1,0),IF(U14<W14,1,0)),"") -> 3 | AC14: =IF(B14<>"",O14+R14+U14,"") -> 3 | AD14: : | AE14: =IF(B14<>"",Q14+T14+W14,"") -> 9 | AF14: =IF(B14<>"",(AA14*2)+AB14,"") -> 3 | AG14: =IF(B14<>"",RANK(AF14,$AF$11:$AF$14,0)+IF(AI14<>"",RANK(AI14,$AI$11:$AI$14,0)-1,0),"") -> 4
C16: skupina C | O16: 1 | R16: 2 | U16: 3 | X16: 4 | AA16: v | AB16: p | AC16: sety | AF16: b | AG16: m
A17: 1 | B17: Fejtek Vojtěch (129) (Vesec) | O17: xxx | R17: 3 | S17: : | T17: 0 | U17: 3 | V17: : | W17: 0 | X17: 3 | Y17: : | Z17: 0 | AA17: =IF(B17<>"",SUM(IF(R17>T17,1,0),IF(U17>W17,1,0),IF(X17>Z17,1,0)),"") -> 3 | AB17: =IF(B17<>"",SUM(IF(R17<T17,1,0),IF(U17<W17,1,0),IF(X17<Z17,1,0)),"") -> 0 | AC17: =IF(B17<>"",R17+U17+X17,"") -> 9 | AD17: : | AE17: =IF(B17<>"",T17+W17+Z17,"") -> 0 | AF17: =IF(B17<>"",(AA17*2)+AB17,"") -> 6 | AG17: =IF(B17<>"",RANK(AF17,$AF$17:$AF$20,0)+IF(AI17<>"",RANK(AI17,$AI$17:$AI$20,0)-1,0),"") -> 1
A18: 2 | B18: Farský Jan (126) (PINK!) | O18: =T17 -> 0 | P18: : | Q18: =R17 -> 3 | R18: xxx | U18: 1 | V18: : | W18: 3 | X18: 0 | Y18: : | Z18: 3 | AA18: =IF(B18<>"",SUM(IF(O18>Q18,1,0),IF(U18>W18,1,0),IF(X18>Z18,1,0)),"") -> 0 | AB18: =IF(B18<>"",SUM(IF(O18<Q18,1,0),IF(U18<W18,1,0),IF(X18<Z18,1,0)),"") -> 3 | AC18: =IF(B18<>"",O18+U18+X18,"") -> 1 | AD18: : | AE18: =IF(B18<>"",Q18+W18+Z18,"") -> 9 | AF18: =IF(B18<>"",(AA18*2)+AB18,"") -> 3 | AG18: =IF(B18<>"",RANK(AF18,$AF$17:$AF$20,0)+IF(AI18<>"",RANK(AI18,$AI$17:$AI$20,0)-1,0),"") -> 4
A19: 3 | B19: Froněk Lukáš (140) (ST Fr.) | O19: =W17 -> 0 | P19: : | Q19: =U17 -> 3 | R19: =W18 -> 3 | S19: : | T19: =U18 -> 1 | U19: xxx | X19: 2 | Y19: : | Z19: 3 | AA19: =IF(B19<>"",SUM(IF(O19>Q19,1,0),IF(R19>T19,1,0),IF(X19>Z19,1,0)),"") -> 1 | AB19: =IF(B19<>"",SUM(IF(O19<Q19,1,0),IF(R19<T19,1,0),IF(X19<Z19,1,0)),"") -> 2 | AC19: =IF(B19<>"",O19+R19+X19,"") -> 5 | AD19: : | AE19: =IF(B19<>"",Q19+T19+Z19,"") -> 7 | AF19: =IF(B19<>"",(AA19*2)+AB19,"") -> 4 | AG19: =IF(B19<>"",RANK(AF19,$AF$17:$AF$20,0)+IF(AI19<>"",RANK(AI19,$AI$17:$AI$20,0)-1,0),"") -> 3
A20: 4 | B20: Martiš Jakub (131) (KMST) | O20: =Z17 -> 0 | P20: : | Q20: =X17 -> 3 | R20: =Z18 -> 3 | S20: : | T20: =X18 -> 0 | U20: =Z19 -> 3 | V20: : | W20: =X19 -> 2 | X20: xxx | AA20: =IF(B20<>"",SUM(IF(O20>Q20,1,0),IF(R20>T20,1,0),IF(U20>W20,1,0)),"") -> 2 | AB20: =IF(B20<>"",SUM(IF(O20<Q20,1,0),IF(R20<T20,1,0),IF(U20<W20,1,0)),"") -> 1 | AC20: =IF(B20<>"",O20+R20+U20,"") -> 6 | AD20: : | AE20: =IF(B20<>"",Q20+T20+W20,"") -> 5 | AF20: =IF(B20<>"",(AA20*2)+AB20,"") -> 5 | AG20: =IF(B20<>"",RANK(AF20,$AF$17:$AF$20,0)+IF(AI20<>"",RANK(AI20,$AI$17:$AI$20,0)-1,0),"") -> 2
C22: skupina D | O22: 1 | R22: 2 | U22: 3 | X22: 4 | AA22: v | AB22: p | AC22: sety | AF22: b | AG22: m
A23: 1 | B23: Sluka Antonín (147) (PINK!) | O23: xxx | R23: 2 | S23: : | T23: 3 | U23: 3 | V23: : | W23: 1 | X23: 0 | Y23: : | Z23: 3 | AA23: =IF(B23<>"",SUM(IF(R23>T23,1,0),IF(U23>W23,1,0),IF(X23>Z23,1,0)),"") -> 1 | AB23: =IF(B23<>"",SUM(IF(R23<T23,1,0),IF(U23<W23,1,0),IF(X23<Z23,1,0)),"") -> 2 | AC23: =IF(B23<>"",R23+U23+X23,"") -> 5 | AD23: : | AE23: =IF(B23<>"",T23+W23+Z23,"") -> 7 | AF23: =IF(B23<>"",(AA23*2)+AB23,"") -> 4 | AG23: =IF(B23<>"",RANK(AF23,$AF$23:$AF$26,0)+IF(AI23<>"",RANK(AI23,$AI$23:$AI$26,0)-1,0),"") -> 3
A24: 2 | B24: Pěničková Jana (115) (N. Ves) | O24: =T23 -> 3 | P24: : | Q24: =R23 -> 2 | R24: xxx | U24: 3 | V24: : | W24: 0 | X24: 0 | Y24: : | Z24: 3 | AA24: =IF(B24<>"",SUM(IF(O24>Q24,1,0),IF(U24>W24,1,0),IF(X24>Z24,1,0)),"") -> 2 | AB24: =IF(B24<>"",SUM(IF(O24<Q24,1,0),IF(U24<W24,1,0),IF(X24<Z24,1,0)),"") -> 1 | AC24: =IF(B24<>"",O24+U24+X24,"") -> 6 | AD24: : | AE24: =IF(B24<>"",Q24+W24+Z24,"") -> 5 | AF24: =IF(B24<>"",(AA24*2)+AB24,"") -> 5 | AG24: =IF(B24<>"",RANK(AF24,$AF$23:$AF$26,0)+IF(AI24<>"",RANK(AI24,$AI$23:$AI$26,0)-1,0),"") -> 2
A25: 3 | B25: Tichá Amálie (137) (KMST) | O25: =W23 -> 1 | P25: : | Q25: =U23 -> 3 | R25: =W24 -> 0 | S25: : | T25: =U24 -> 3 | U25: xxx | X25: 0 | Y25: : | Z25: 3 | AA25: =IF(B25<>"",SUM(IF(O25>Q25,1,0),IF(R25>T25,1,0),IF(X25>Z25,1,0)),"") -> 0 | AB25: =IF(B25<>"",SUM(IF(O25<Q25,1,0),IF(R25<T25,1,0),IF(X25<Z25,1,0)),"") -> 3 | AC25: =IF(B25<>"",O25+R25+X25,"") -> 1 | AD25: : | AE25: =IF(B25<>"",Q25+T25+Z25,"") -> 9 | AF25: =IF(B25<>"",(AA25*2)+AB25,"") -> 3 | AG25: =IF(B25<>"",RANK(AF25,$AF$23:$AF$26,0)+IF(AI25<>"",RANK(AI25,$AI$23:$AI$26,0)-1,0),"") -> 4
A26: 4 | B26: Havlíček Adam (131) (Smržovka) | O26: =Z23 -> 3 | P26: : | Q26: =X23 -> 0 | R26: =Z24 -> 3 | S26: : | T26: =X24 -> 0 | U26: =Z25 -> 3 | V26: : | W26: =X25 -> 0 | X26: xxx | AA26: =IF(B26<>"",SUM(IF(O26>Q26,1,0),IF(R26>T26,1,0),IF(U26>W26,1,0)),"") -> 3 | AB26: =IF(B26<>"",SUM(IF(O26<Q26,1,0),IF(R26<T26,1,0),IF(U26<W26,1,0)),"") -> 0 | AC26: =IF(B26<>"",O26+R26+U26,"") -> 9 | AD26: : | AE26: =IF(B26<>"",Q26+T26+W26,"") -> 0 | AF26: =IF(B26<>"",(AA26*2)+AB26,"") -> 6 | AG26: =IF(B26<>"",RANK(AF26,$AF$23:$AF$26,0)+IF(AI26<>"",RANK(AI26,$AI$23:$AI$26,0)-1,0),"") -> 1
A29: =A1 -> 1. KBT Libereckého kraje | K29: =K1 -> Liberec, 28.9.2026 | U29: =U1 -> Divize | X29: =X1 -> E | AA29: =Z32 -> o 1.-8. místo
A32: Dajčar Martin (106) (PINK!) | Z32: o 1.-8. místo
L33: =IF(L34="3:0",A32,IF(L34="3:1",A32,IF(L34="3:2",A32,IF(L34="2:3",A34,IF(L34="1:3",A34,IF(L34="0:3",A34,"")))))) -> Šárovec Patrik (134) (ČL)
A34: Šárovec Patrik (134) (ČL) | L34: 2:3
W35: =IF(W36="3:0",L33,IF(W36="3:1",L33,IF(W36="3:2",L33,IF(W36="2:3",L37,IF(W36="1:3",L37,IF(W36="0:3",L37,"")))))) -> Fejtek Vojtěch (129) (Vesec)
A36: Pěničková Jana (115) (N. Ves) | W36: 1:3
L37: =IF(L38="3:0",A36,IF(L38="3:1",A36,IF(L38="3:2",A36,IF(L38="2:3",A38,IF(L38="1:3",A38,IF(L38="0:3",A38,"")))))) -> Fejtek Vojtěch (129) (Vesec)
A38: Fejtek Vojtěch (129) (Vesec) | L38: 0:3
W39: =IF(W40="3:0",W35,IF(W40="3:1",W35,IF(W40="3:2",W35,IF(W40="2:3",W43,IF(W40="1:3",W43,IF(W40="0:3",W43,"")))))) -> Fejtek Vojtěch (129) (Vesec)
A40: Havlíček Adam (131) (Smržovka) | W40: 3:0
L41: =IF(L42="3:0",A40,IF(L42="3:1",A40,IF(L42="3:2",A40,IF(L42="2:3",A42,IF(L42="1:3",A42,IF(L42="0:3",A42,"")))))) -> Havlíček Adam (131) (Smržovka)
A42: Martiš Jakub (131) (KMST) | L42: 3:0
W43: =IF(W44="3:0",L41,IF(W44="3:1",L41,IF(W44="3:2",L41,IF(W44="2:3",L45,IF(W44="1:3",L45,IF(W44="0:3",L45,"")))))) -> Havlíček Adam (131) (Smržovka)
A44: Vojtíšek Efe (120) (Smržovka) | W44: 3:0
L45: =IF(L46="3:0",A44,IF(L46="3:1",A44,IF(L46="3:2",A44,IF(L46="2:3",A46,IF(L46="1:3",A46,IF(L46="0:3",A46,"")))))) -> Vejvoda Sebastián (113) (PINK!)
A46: Vejvoda Sebastián (113) (PINK!) | L46: 0:3
A49: =IF(L34="3:0",A34,IF(L34="3:1",A34,IF(L34="3:2",A34,IF(L34="2:3",A32,IF(L34="1:3",A32,IF(L34="0:3",A32,"")))))) -> Dajčar Martin (106) (PINK!) | Z49: o 5.-8. místo
L50: =IF(L51="3:0",A49,IF(L51="3:1",A49,IF(L51="3:2",A49,IF(L51="2:3",A51,IF(L51="1:3",A51,IF(L51="0:3",A51,"")))))) -> Dajčar Martin (106) (PINK!)
A51: =IF(L38="3:0",A38,IF(L38="3:1",A38,IF(L38="3:2",A38,IF(L38="2:3",A36,IF(L38="1:3",A36,IF(L38="0:3",A36,"")))))) -> Pěničková Jana (115) (N. Ves) | L51: 3:0
W52: =IF(W53="3:0",L50,IF(W53="3:1",L50,IF(W53="3:2",L50,IF(W53="2:3",L54,IF(W53="1:3",L54,IF(W53="0:3",L54,"")))))) -> Vojtíšek Efe (120) (Smržovka)
A53: =IF(L42="3:0",A42,IF(L42="3:1",A42,IF(L42="3:2",A42,IF(L42="2:3",A40,IF(L42="1:3",A40,IF(L42="0:3",A40,"")))))) -> Martiš Jakub (131) (KMST) | W53: 1:3
L54: =IF(L55="3:0",A53,IF(L55="3:1",A53,IF(L55="3:2",A53,IF(L55="2:3",A55,IF(L55="1:3",A55,IF(L55="0:3",A55,"")))))) -> Vojtíšek Efe (120) (Smržovka)
A55: =IF(L46="3:0",A46,IF(L46="3:1",A46,IF(L46="3:2",A46,IF(L46="2:3",A44,IF(L46="1:3",A44,IF(L46="0:3",A44,"")))))) -> Vojtíšek Efe (120) (Smržovka) | L55: 0:3
Z57: o 3.-4. místo
L58: =IF(W36="3:0",L37,IF(W36="3:1",L37,IF(W36="3:2",L37,IF(W36="2:3",L33,IF(W36="1:3",L33,IF(W36="0:3",L33,"")))))) -> Šárovec Patrik (134) (ČL)
W59: =IF(W60="3:0",L58,IF(W60="3:1",L58,IF(W60="3:2",L58,IF(W60="2:3",L60,IF(W60="1:3",L60,IF(W60="0:3",L60,"")))))) -> Šárovec Patrik (134) (ČL)
L60: =IF(W44="3:0",L45,IF(W44="3:1",L45,IF(W44="3:2",L45,IF(W44="2:3",L41,IF(W44="1:3",L41,IF(W44="0:3",L41,"")))))) -> Vejvoda Sebastián (113) (PINK!) | W60: 3:2
Z62: o 7.-8. místo
L63: =IF(L51="3:0",A51,IF(L51="3:1",A51,IF(L51="3:2",A51,IF(L51="2:3",A49,IF(L51="1:3",A49,IF(L51="0:3",A49,"")))))) -> Pěničková Jana (115) (N. Ves)
W64: =IF(W65="3:0",L63,IF(W65="3:1",L63,IF(W65="3:2",L63,IF(W65="2:3",L65,IF(W65="1:3",L65,IF(W65="0:3",L65,"")))))) -> Pěničková Jana (115) (N. Ves)
L65: =IF(L55="3:0",A55,IF(L55="3:1",A55,IF(L55="3:2",A55,IF(L55="2:3",A53,IF(L55="1:3",A53,IF(L55="0:3",A53,"")))))) -> Martiš Jakub (131) (KMST) | W65: 3:1
A70: =A1 -> 1. KBT Libereckého kraje | K70: =K1 -> Liberec, 28.9.2026 | U70: =U1 -> Divize | X70: =X1 -> E | AA70: =Z73 -> o 9.-16.místo
A73: Procházka Eduard (119) (Bižu) | Z73: o 9.-16.místo
L74: =IF(L75="3:0",A73,IF(L75="3:1",A73,IF(L75="3:2",A73,IF(L75="2:3",A75,IF(L75="1:3",A75,IF(L75="0:3",A75,"")))))) -> Procházka Eduard (119) (Bižu)
A75: Farský Jan (126) (PINK!) | L75: 3:0
W76: =IF(W77="3:0",L74,IF(W77="3:1",L74,IF(W77="3:2",L74,IF(W77="2:3",L78,IF(W77="1:3",L78,IF(W77="0:3",L78,"")))))) -> Popov Martin (141) (PINK!)
A77: Tichá Amálie (137) (KMST) | W77: 1:3
L78: =IF(L79="3:0",A77,IF(L79="3:1",A77,IF(L79="3:2",A77,IF(L79="2:3",A79,IF(L79="1:3",A79,IF(L79="0:3",A79,"")))))) -> Popov Martin (141) (PINK!)
A79: Popov Martin (141) (PINK!) | L79: 1:3
W80: =IF(W81="3:0",W76,IF(W81="3:1",W76,IF(W81="3:2",W76,IF(W81="2:3",W84,IF(W81="1:3",W84,IF(W81="0:3",W84,"")))))) -> Popov Martin (141) (PINK!)
A81: Froněk Lukáš (140) (ST Fr.) | W81: 3:0
L82: =IF(L83="3:0",A81,IF(L83="3:1",A81,IF(L83="3:2",A81,IF(L83="2:3",A83,IF(L83="1:3",A83,IF(L83="0:3",A83,"")))))) -> Košnar Jakub (130) (Semily)
A83: Košnar Jakub (130) (Semily) | L83: 1:3
W84: =IF(W85="3:0",L82,IF(W85="3:1",L82,IF(W85="3:2",L82,IF(W85="2:3",L86,IF(W85="1:3",L86,IF(W85="0:3",L86,"")))))) -> Košnar Jakub (130) (Semily)
A85: Martiš Jan (128) (KMST) | W85: 3:0
L86: =IF(L87="3:0",A85,IF(L87="3:1",A85,IF(L87="3:2",A85,IF(L87="2:3",A87,IF(L87="1:3",A87,IF(L87="0:3",A87,"")))))) -> Martiš Jan (128) (KMST)
A87: Sluka Antonín (147) (PINK!) | L87: 3:2
A90: =IF(L75="3:0",A75,IF(L75="3:1",A75,IF(L75="3:2",A75,IF(L75="2:3",A73,IF(L75="1:3",A73,IF(L75="0:3",A73,"")))))) -> Farský Jan (126) (PINK!) | Z90: o 13.-16.místo
L91: =IF(L92="3:0",A90,IF(L92="3:1",A90,IF(L92="3:2",A90,IF(L92="2:3",A92,IF(L92="1:3",A92,IF(L92="0:3",A92,"")))))) -> Farský Jan (126) (PINK!)
A92: =IF(L79="3:0",A79,IF(L79="3:1",A79,IF(L79="3:2",A79,IF(L79="2:3",A77,IF(L79="1:3",A77,IF(L79="0:3",A77,"")))))) -> Tichá Amálie (137) (KMST) | L92: 3:0
W93: =IF(W94="3:0",L91,IF(W94="3:1",L91,IF(W94="3:2",L91,IF(W94="2:3",L95,IF(W94="1:3",L95,IF(W94="0:3",L95,"")))))) -> Froněk Lukáš (140) (ST Fr.)
A94: =IF(L83="3:0",A83,IF(L83="3:1",A83,IF(L83="3:2",A83,IF(L83="2:3",A81,IF(L83="1:3",A81,IF(L83="0:3",A81,"")))))) -> Froněk Lukáš (140) (ST Fr.) | W94: 1:3
L95: =IF(L96="3:0",A94,IF(L96="3:1",A94,IF(L96="3:2",A94,IF(L96="2:3",A96,IF(L96="1:3",A96,IF(L96="0:3",A96,"")))))) -> Froněk Lukáš (140) (ST Fr.)
A96: =IF(L87="3:0",A87,IF(L87="3:1",A87,IF(L87="3:2",A87,IF(L87="2:3",A85,IF(L87="1:3",A85,IF(L87="0:3",A85,"")))))) -> Sluka Antonín (147) (PINK!) | L96: 3:1
Z98: o 11.-12. místo
L99: =IF(W77="3:0",L78,IF(W77="3:1",L78,IF(W77="3:2",L78,IF(W77="2:3",L74,IF(W77="1:3",L74,IF(W77="0:3",L74,"")))))) -> Procházka Eduard (119) (Bižu)
W100: =IF(W101="3:0",L99,IF(W101="3:1",L99,IF(W101="3:2",L99,IF(W101="2:3",L101,IF(W101="1:3",L101,IF(W101="0:3",L101,"")))))) -> Martiš Jan (128) (KMST)
L101: =IF(W85="3:0",L86,IF(W85="3:1",L86,IF(W85="3:2",L86,IF(W85="2:3",L82,IF(W85="1:3",L82,IF(W85="0:3",L82,"")))))) -> Martiš Jan (128) (KMST) | W101: 1:3
Z103: o 15.-16.místo
L104: =IF(L92="3:0",A92,IF(L92="3:1",A92,IF(L92="3:2",A92,IF(L92="2:3",A90,IF(L92="1:3",A90,IF(L92="0:3",A90,"")))))) -> Tichá Amálie (137) (KMST)
W105: =IF(W106="3:0",L104,IF(W106="3:1",L104,IF(W106="3:2",L104,IF(W106="2:3",L106,IF(W106="1:3",L106,IF(W106="0:3",L106,"")))))) -> Tichá Amálie (137) (KMST)
L106: =IF(L96="3:0",A96,IF(L96="3:1",A96,IF(L96="3:2",A96,IF(L96="2:3",A94,IF(L96="1:3",A94,IF(L96="0:3",A94,"")))))) -> Sluka Antonín (147) (PINK!) | W106: 3:0 | AH106: wo

Sheet div_F
A1: =div_A!A1 -> 1. KBT Libereckého kraje | K1: =div_A!K1 -> Liberec, 28.9.2026 | U1: Divize | X1: F | AD1: Základní skupiny
C4: skupina A | O4: 1 | R4: 2 | U4: 3 | X4: 4 | AA4: v | AB4: p | AC4: sety | AF4: b | AG4: m
A5: 1 | B5: Zítko Roman (122) (Brniště) | O5: xxx | R5: 3 | S5: : | T5: 0 | U5: 1 | V5: : | W5: 3 | X5: 3 | Y5: : | Z5: 0 | AA5: =IF(B5<>"",SUM(IF(R5>T5,1,0),IF(U5>W5,1,0),IF(X5>Z5,1,0)),"") -> 2 | AB5: =IF(B5<>"",SUM(IF(R5<T5,1,0),IF(U5<W5,1,0),IF(X5<Z5,1,0)),"") -> 1 | AC5: =IF(B5<>"",R5+U5+X5,"") -> 7 | AD5: : | AE5: =IF(B5<>"",T5+W5+Z5,"") -> 3 | AF5: =IF(B5<>"",(AA5*2)+AB5,"") -> 5 | AG5: =IF(B5<>"",RANK(AF5,$AF$5:$AF$8,0)+IF(AI5<>"",RANK(AI5,$AI$5:$AI$8,0)-1,0),"") -> 2
A6: 2 | B6: Hušek Martin (153) (KMST) | O6: =T5 -> 0 | P6: : | Q6: =R5 -> 3 | R6: xxx | U6: 2 | V6: : | W6: 3 | X6: 3 | Y6: : | Z6: 1 | AA6: =IF(B6<>"",SUM(IF(O6>Q6,1,0),IF(U6>W6,1,0),IF(X6>Z6,1,0)),"") -> 1 | AB6: =IF(B6<>"",SUM(IF(O6<Q6,1,0),IF(U6<W6,1,0),IF(X6<Z6,1,0)),"") -> 2 | AC6: =IF(B6<>"",O6+U6+X6,"") -> 5 | AD6: : | AE6: =IF(B6<>"",Q6+W6+Z6,"") -> 7 | AF6: =IF(B6<>"",(AA6*2)+AB6,"") -> 4 | AG6: =IF(B6<>"",RANK(AF6,$AF$5:$AF$8,0)+IF(AI6<>"",RANK(AI6,$AI$5:$AI$8,0)-1,0),"") -> 3
A7: 3 | B7: Loukota Tomáš (167) (STAR) | O7: =W5 -> 3 | P7: : | Q7: =U5 -> 1 | R7: =W6 -> 3 | S7: : | T7: =U6 -> 2 | U7: xxx | X7: 3 | Y7: : | Z7: 0 | AA7: =IF(B7<>"",SUM(IF(O7>Q7,1,0),IF(R7>T7,1,0),IF(X7>Z7,1,0)),"") -> 3 | AB7: =IF(B7<>"",SUM(IF(O7<Q7,1,0),IF(R7<T7,1,0),IF(X7<Z7,1,0)),"") -> 0 | AC7: =IF(B7<>"",O7+R7+X7,"") -> 9 | AD7: : | AE7: =IF(B7<>"",Q7+T7+Z7,"") -> 3 | AF7: =IF(B7<>"",(AA7*2)+AB7,"") -> 6 | AG7: =IF(B7<>"",RANK(AF7,$AF$5:$AF$8,0)+IF(AI7<>"",RANK(AI7,$AI$5:$AI$8,0)-1,0),"") -> 1
A8: 4 | B8: Turecký David (164) (PINK!) | O8: =Z5 -> 0 | P8: : | Q8: =X5 -> 3 | R8: =Z6 -> 1 | S8: : | T8: =X6 -> 3 | U8: =Z7 -> 0 | V8: : | W8: =X7 -> 3 | X8: xxx | AA8: =IF(B8<>"",SUM(IF(O8>Q8,1,0),IF(R8>T8,1,0),IF(U8>W8,1,0)),"") -> 0 | AB8: =IF(B8<>"",SUM(IF(O8<Q8,1,0),IF(R8<T8,1,0),IF(U8<W8,1,0)),"") -> 3 | AC8: =IF(B8<>"",O8+R8+U8,"") -> 1 | AD8: : | AE8: =IF(B8<>"",Q8+T8+W8,"") -> 9 | AF8: =IF(B8<>"",(AA8*2)+AB8,"") -> 3 | AG8: =IF(B8<>"",RANK(AF8,$AF$5:$AF$8,0)+IF(AI8<>"",RANK(AI8,$AI$5:$AI$8,0)-1,0),"") -> 4
C10: skupina B | O10: 1 | R10: 2 | U10: 3 | X10: 4 | AA10: v | AB10: p | AC10: sety | AF10: b | AG10: m
A11: 1 | B11: Huk Pavel (148) (KMST) | O11: xxx | R11: 3 | S11: : | T11: 2 | U11: 3 | V11: : | W11: 1 | X11: 2 | Y11: : | Z11: 3 | AA11: =IF(B11<>"",SUM(IF(R11>T11,1,0),IF(U11>W11,1,0),IF(X11>Z11,1,0)),"") -> 2 | AB11: =IF(B11<>"",SUM(IF(R11<T11,1,0),IF(U11<W11,1,0),IF(X11<Z11,1,0)),"") -> 1 | AC11: =IF(B11<>"",R11+U11+X11,"") -> 8 | AD11: : | AE11: =IF(B11<>"",T11+W11+Z11,"") -> 6 | AF11: =IF(B11<>"",(AA11*2)+AB11,"") -> 5 | AG11: =IF(B11<>"",RANK(AF11,$AF$11:$AF$14,0)+IF(AI11<>"",RANK(AI11,$AI$11:$AI$14,0)-1,0),"") -> 2
A12: 2 | B12: Liška Daniel (159) (PINK!) | O12: =T11 -> 2 | P12: : | Q12: =R11 -> 3 | R12: xxx | U12: 2 | V12: : | W12: 3 | X12: 0 | Y12: : | Z12: 3 | AA12: =IF(B12<>"",SUM(IF(O12>Q12,1,0),IF(U12>W12,1,0),IF(X12>Z12,1,0)),"") -> 0 | AB12: =IF(B12<>"",SUM(IF(O12<Q12,1,0),IF(U12<W12,1,0),IF(X12<Z12,1,0)),"") -> 3 | AC12: =IF(B12<>"",O12+U12+X12,"") -> 4 | AD12: : | AE12: =IF(B12<>"",Q12+W12+Z12,"") -> 9 | AF12: =IF(B12<>"",(AA12*2)+AB12,"") -> 3 | AG12: =IF(B12<>"",RANK(AF12,$AF$11:$AF$14,0)+IF(AI12<>"",RANK(AI12,$AI$11:$AI$14,0)-1,0),"") -> 4
A13: 3 | B13: Sýkora Maximilian (172) (STAR) | O13: =W11 -> 1 | P13: : | Q13: =U11 -> 3 | R13: =W12 -> 3 | S13: : | T13: =U12 -> 2 | U13: xxx | X13: 0 | Y13: : | Z13: 3 | AA13: =IF(B13<>"",SUM(IF(O13>Q13,1,0),IF(R13>T13,1,0),IF(X13>Z13,1,0)),"") -> 1 | AB13: =IF(B13<>"",SUM(IF(O13<Q13,1,0),IF(R13<T13,1,0),IF(X13<Z13,1,0)),"") -> 2 | AC13: =IF(B13<>"",O13+R13+X13,"") -> 4 | AD13: : | AE13: =IF(B13<>"",Q13+T13+Z13,"") -> 8 | AF13: =IF(B13<>"",(AA13*2)+AB13,"") -> 4 | AG13: =IF(B13<>"",RANK(AF13,$AF$11:$AF$14,0)+IF(AI13<>"",RANK(AI13,$AI$11:$AI$14,0)-1,0),"") -> 3
A14: 4 | B14: Mrázek Jakub (162) (ČL) | O14: =Z11 -> 3 | P14: : | Q14: =X11 -> 2 | R14: =Z12 -> 3 | S14: : | T14: =X12 -> 0 | U14: =Z13 -> 3 | V14: : | W14: =X13 -> 0 | X14: xxx | AA14: =IF(B14<>"",SUM(IF(O14>Q14,1,0),IF(R14>T14,1,0),IF(U14>W14,1,0)),"") -> 3 | AB14: =IF(B14<>"",SUM(IF(O14<Q14,1,0),IF(R14<T14,1,0),IF(U14<W14,1,0)),"") -> 0 | AC14: =IF(B14<>"",O14+R14+U14,"") -> 9 | AD14: : | AE14: =IF(B14<>"",Q14+T14+W14,"") -> 2 | AF14: =IF(B14<>"",(AA14*2)+AB14,"") -> 6 | AG14: =IF(B14<>"",RANK(AF14,$AF$11:$AF$14,0)+IF(AI14<>"",RANK(AI14,$AI$11:$AI$14,0)-1,0),"") -> 1
C16: skupina C | O16: 1 | R16: 2 | U16: 3 | X16: 4 | AA16: v | AB16: p | AC16: sety | AF16: b | AG16: m
A17: 1 | B17: Bidlo Šimon (149) (Bižu) | O17: xxx | R17: 3 | S17: : | T17: 0 | U17: 2 | V17: : | W17: 3 | X17: 3 | Y17: : | Z17: 0 | AA17: =IF(B17<>"",SUM(IF(R17>T17,1,0),IF(U17>W17,1,0),IF(X17>Z17,1,0)),"") -> 2 | AB17: =IF(B17<>"",SUM(IF(R17<T17,1,0),IF(U17<W17,1,0),IF(X17<Z17,1,0)),"") -> 1 | AC17: =IF(B17<>"",R17+U17+X17,"") -> 8 | AD17: : | AE17: =IF(B17<>"",T17+W17+Z17,"") -> 3 | AF17: =IF(B17<>"",(AA17*2)+AB17,"") -> 5 | AG17: 2
A18: 2 | B18: Rubeš Michal (161) (PINK!) | O18: =T17 -> 0 | P18: : | Q18: =R17 -> 3 | R18: xxx | U18: 3 | V18: : | W18: 2 | X18: 2 | Y18: : | Z18: 3 | AA18: =IF(B18<>"",SUM(IF(O18>Q18,1,0),IF(U18>W18,1,0),IF(X18>Z18,1,0)),"") -> 1 | AB18: =IF(B18<>"",SUM(IF(O18<Q18,1,0),IF(U18<W18,1,0),IF(X18<Z18,1,0)),"") -> 2 | AC18: =IF(B18<>"",O18+U18+X18,"") -> 5 | AD18: : | AE18: =IF(B18<>"",Q18+W18+Z18,"") -> 8 | AF18: =IF(B18<>"",(AA18*2)+AB18,"") -> 4 | AG18: 4
A19: 3 | B19: Široký Hubert (179) (Smržovka) | O19: =W17 -> 3 | P19: : | Q19: =U17 -> 2 | R19: =W18 -> 2 | S19: : | T19: =U18 -> 3 | U19: xxx | X19: 3 | Y19: : | Z19: 1 | AA19: =IF(B19<>"",SUM(IF(O19>Q19,1,0),IF(R19>T19,1,0),IF(X19>Z19,1,0)),"") -> 2 | AB19: =IF(B19<>"",SUM(IF(O19<Q19,1,0),IF(R19<T19,1,0),IF(X19<Z19,1,0)),"") -> 1 | AC19: =IF(B19<>"",O19+R19+X19,"") -> 8 | AD19: : | AE19: =IF(B19<>"",Q19+T19+Z19,"") -> 6 | AF19: =IF(B19<>"",(AA19*2)+AB19,"") -> 5 | AG19: =IF(B19<>"",RANK(AF19,$AF$17:$AF$20,0)+IF(AI19<>"",RANK(AI19,$AI$17:$AI$20,0)-1,0),"") -> 1
A20: 4 | B20: Brixi Adam (162) (SKST) | O20: =Z17 -> 0 | P20: : | Q20: =X17 -> 3 | R20: =Z18 -> 3 | S20: : | T20: =X18 -> 2 | U20: =Z19 -> 1 | V20: : | W20: =X19 -> 3 | X20: xxx | AA20: =IF(B20<>"",SUM(IF(O20>Q20,1,0),IF(R20>T20,1,0),IF(U20>W20,1,0)),"") -> 1 | AB20: =IF(B20<>"",SUM(IF(O20<Q20,1,0),IF(R20<T20,1,0),IF(U20<W20,1,0)),"") -> 2 | AC20: =IF(B20<>"",O20+R20+U20,"") -> 4 | AD20: : | AE20: =IF(B20<>"",Q20+T20+W20,"") -> 8 | AF20: =IF(B20<>"",(AA20*2)+AB20,"") -> 4 | AG20: =IF(B20<>"",RANK(AF20,$AF$17:$AF$20,0)+IF(AI20<>"",RANK(AI20,$AI$17:$AI$20,0)-1,0),"") -> 3
C22: skupina D | O22: 1 | R22: 2 | U22: 3 | X22: 4 | AA22: v | AB22: p | AC22: sety | AF22: b | AG22: m
A23: 1 | B23: Kukal Vojtěch (152) (PINK!) | O23: xxx | R23: 2 | S23: : | T23: 3 | U23: 3 | V23: : | W23: 0 | X23: 3 | Y23: : | Z23: 1 | AA23: =IF(B23<>"",SUM(IF(R23>T23,1,0),IF(U23>W23,1,0),IF(X23>Z23,1,0)),"") -> 2 | AB23: =IF(B23<>"",SUM(IF(R23<T23,1,0),IF(U23<W23,1,0),IF(X23<Z23,1,0)),"") -> 1 | AC23: =IF(B23<>"",R23+U23+X23,"") -> 8 | AD23: : | AE23: =IF(B23<>"",T23+W23+Z23,"") -> 4 | AF23: =IF(B23<>"",(AA23*2)+AB23,"") -> 5 | AG23: =IF(B23<>"",RANK(AF23,$AF$23:$AF$26,0)+IF(AI23<>"",RANK(AI23,$AI$23:$AI$26,0)-1,0),"") -> 2
A24: 2 | B24: Kolář Daniel (156) (SKST) | O24: =T23 -> 3 | P24: : | Q24: =R23 -> 2 | R24: xxx | U24: 3 | V24: : | W24: 1 | X24: 3 | Y24: : | Z24: 1 | AA24: =IF(B24<>"",SUM(IF(O24>Q24,1,0),IF(U24>W24,1,0),IF(X24>Z24,1,0)),"") -> 3 | AB24: =IF(B24<>"",SUM(IF(O24<Q24,1,0),IF(U24<W24,1,0),IF(X24<Z24,1,0)),"") -> 0 | AC24: =IF(B24<>"",O24+U24+X24,"") -> 9 | AD24: : | AE24: =IF(B24<>"",Q24+W24+Z24,"") -> 4 | AF24: =IF(B24<>"",(AA24*2)+AB24,"") -> 6 | AG24: =IF(B24<>"",RANK(AF24,$AF$23:$AF$26,0)+IF(AI24<>"",RANK(AI24,$AI$23:$AI$26,0)-1,0),"") -> 1
A25: 3 | B25: Černý Jakub (172) (Bižu) | O25: =W23 -> 0 | P25: : | Q25: =U23 -> 3 | R25: =W24 -> 1 | S25: : | T25: =U24 -> 3 | U25: xxx | X25: 0 | Y25: : | Z25: 3 | AA25: =IF(B25<>"",SUM(IF(O25>Q25,1,0),IF(R25>T25,1,0),IF(X25>Z25,1,0)),"") -> 0 | AB25: =IF(B25<>"",SUM(IF(O25<Q25,1,0),IF(R25<T25,1,0),IF(X25<Z25,1,0)),"") -> 3 | AC25: =IF(B25<>"",O25+R25+X25,"") -> 1 | AD25: : | AE25: =IF(B25<>"",Q25+T25+Z25,"") -> 9 | AF25: =IF(B25<>"",(AA25*2)+AB25,"") -> 3 | AG25: =IF(B25<>"",RANK(AF25,$AF$23:$AF$26,0)+IF(AI25<>"",RANK(AI25,$AI$23:$AI$26,0)-1,0),"") -> 4
A26: 4 | B26: Herčík Štěpán (165) (Smržovka) | O26: =Z23 -> 1 | P26: : | Q26: =X23 -> 3 | R26: =Z24 -> 1 | S26: : | T26: =X24 -> 3 | U26: =Z25 -> 3 | V26: : | W26: =X25 -> 0 | X26: xxx | AA26: =IF(B26<>"",SUM(IF(O26>Q26,1,0),IF(R26>T26,1,0),IF(U26>W26,1,0)),"") -> 1 | AB26: =IF(B26<>"",SUM(IF(O26<Q26,1,0),IF(R26<T26,1,0),IF(U26<W26,1,0)),"") -> 2 | AC26: =IF(B26<>"",O26+R26+U26,"") -> 5 | AD26: : | AE26: =IF(B26<>"",Q26+T26+W26,"") -> 6 | AF26: =IF(B26<>"",(AA26*2)+AB26,"") -> 4 | AG26: =IF(B26<>"",RANK(AF26,$AF$23:$AF$26,0)+IF(AI26<>"",RANK(AI26,$AI$23:$AI$26,0)-1,0),"") -> 3
A29: =A1 -> 1. KBT Libereckého kraje | K29: =K1 -> Liberec, 28.9.2026 | U29: =U1 -> Divize | X29: =X1 -> F | AA29: =Z32 -> o 1.-8. místo
A32: Loukota Tomáš (167) (STAR) | Z32: o 1.-8. místo
L33: =IF(L34="3:0",A32,IF(L34="3:1",A32,IF(L34="3:2",A32,IF(L34="2:3",A34,IF(L34="1:3",A34,IF(L34="0:3",A34,"")))))) -> Kukal Vojtěch (152) (PINK!)
A34: Kukal Vojtěch (152) (PINK!) | L34: 2:3
W35: =IF(W36="3:0",L33,IF(W36="3:1",L33,IF(W36="3:2",L33,IF(W36="2:3",L37,IF(W36="1:3",L37,IF(W36="0:3",L37,"")))))) -> Huk Pavel (148) (KMST)
A36: Huk Pavel (148) (KMST) | W36: 2:3
L37: =IF(L38="3:0",A36,IF(L38="3:1",A36,IF(L38="3:2",A36,IF(L38="2:3",A38,IF(L38="1:3",A38,IF(L38="0:3",A38,"")))))) -> Huk Pavel (148) (KMST)
A38: Široký Hubert (179) (Smržovka) | L38: 3:2
W39: =IF(W40="3:0",W35,IF(W40="3:1",W35,IF(W40="3:2",W35,IF(W40="2:3",W43,IF(W40="1:3",W43,IF(W40="0:3",W43,"")))))) -> Zítko Roman (122) (Brniště)
A40: Kolář Daniel (156) (SKST) | W40: 0:3
L41: =IF(L42="3:0",A40,IF(L42="3:1",A40,IF(L42="3:2",A40,IF(L42="2:3",A42,IF(L42="1:3",A42,IF(L42="0:3",A42,"")))))) -> Zítko Roman (122) (Brniště)
A42: Zítko Roman (122) (Brniště) | L42: 2:3
W43: =IF(W44="3:0",L41,IF(W44="3:1",L41,IF(W44="3:2",L41,IF(W44="2:3",L45,IF(W44="1:3",L45,IF(W44="0:3",L45,"")))))) -> Zítko Roman (122) (Brniště)
A44: Bidlo Šimon (149) (Bižu) | W44: 3:1
L45: =IF(L46="3:0",A44,IF(L46="3:1",A44,IF(L46="3:2",A44,IF(L46="2:3",A46,IF(L46="1:3",A46,IF(L46="0:3",A46,"")))))) -> Mrázek Jakub (162) (ČL)
A46: Mrázek Jakub (162) (ČL) | L46: 1:3
A49: =IF(L34="3:0",A34,IF(L34="3:1",A34,IF(L34="3:2",A34,IF(L34="2:3",A32,IF(L34="1:3",A32,IF(L34="0:3",A32,"")))))) -> Loukota Tomáš (167) (STAR) | Z49: o 5.-8. místo
L50: =IF(L51="3:0",A49,IF(L51="3:1",A49,IF(L51="3:2",A49,IF(L51="2:3",A51,IF(L51="1:3",A51,IF(L51="0:3",A51,"")))))) -> Široký Hubert (179) (Smržovka)
A51: =IF(L38="3:0",A38,IF(L38="3:1",A38,IF(L38="3:2",A38,IF(L38="2:3",A36,IF(L38="1:3",A36,IF(L38="0:3",A36,"")))))) -> Široký Hubert (179) (Smržovka) | L51: 2:3
W52: =IF(W53="3:0",L50,IF(W53="3:1",L50,IF(W53="3:2",L50,IF(W53="2:3",L54,IF(W53="1:3",L54,IF(W53="0:3",L54,"")))))) -> Široký Hubert (179) (Smržovka)
A53: =IF(L42="3:0",A42,IF(L42="3:1",A42,IF(L42="3:2",A42,IF(L42="2:3",A40,IF(L42="1:3",A40,IF(L42="0:3",A40,"")))))) -> Kolář Daniel (156) (SKST) | W53: 3:0
L54: =IF(L55="3:0",A53,IF(L55="3:1",A53,IF(L55="3:2",A53,IF(L55="2:3",A55,IF(L55="1:3",A55,IF(L55="0:3",A55,"")))))) -> Bidlo Šimon (149) (Bižu)
A55: =IF(L46="3:0",A46,IF(L46="3:1",A46,IF(L46="3:2",A46,IF(L46="2:3",A44,IF(L46="1:3",A44,IF(L46="0:3",A44,"")))))) -> Bidlo Šimon (149) (Bižu) | L55: 0:3
Z57: o 3.-4. místo
L58: =IF(W36="3:0",L37,IF(W36="3:1",L37,IF(W36="3:2",L37,IF(W36="2:3",L33,IF(W36="1:3",L33,IF(W36="0:3",L33,"")))))) -> Kukal Vojtěch (152) (PINK!)
W59: =IF(W60="3:0",L58,IF(W60="3:1",L58,IF(W60="3:2",L58,IF(W60="2:3",L60,IF(W60="1:3",L60,IF(W60="0:3",L60,"")))))) -> Kukal Vojtěch (152) (PINK!)
L60: =IF(W44="3:0",L45,IF(W44="3:1",L45,IF(W44="3:2",L45,IF(W44="2:3",L41,IF(W44="1:3",L41,IF(W44="0:3",L41,"")))))) -> Mrázek Jakub (162) (ČL) | W60: 3:1
Z62: o 7.-8. místo
L63: =IF(L51="3:0",A51,IF(L51="3:1",A51,IF(L51="3:2",A51,IF(L51="2:3",A49,IF(L51="1:3",A49,IF(L51="0:3",A49,"")))))) -> Loukota Tomáš (167) (STAR)
W64: =IF(W65="3:0",L63,IF(W65="3:1",L63,IF(W65="3:2",L63,IF(W65="2:3",L65,IF(W65="1:3",L65,IF(W65="0:3",L65,"")))))) -> Kolář Daniel (156) (SKST)
L65: =IF(L55="3:0",A55,IF(L55="3:1",A55,IF(L55="3:2",A55,IF(L55="2:3",A53,IF(L55="1:3",A53,IF(L55="0:3",A53,"")))))) -> Kolář Daniel (156) (SKST) | W65: 2:3
A70: =A1 -> 1. KBT Libereckého kraje | K70: =K1 -> Liberec, 28.9.2026 | U70: =U1 -> Divize | X70: =X1 -> F | AA70: =Z73 -> o 9.-16.místo
A73: Hušek Martin (153) (KMST) | Z73: o 9.-16.místo
L74: =IF(L75="3:0",A73,IF(L75="3:1",A73,IF(L75="3:2",A73,IF(L75="2:3",A75,IF(L75="1:3",A75,IF(L75="0:3",A75,"")))))) -> Hušek Martin (153) (KMST)
A75: Černý Jakub (172) (Bižu) | L75: 3:0
W76: =IF(W77="3:0",L74,IF(W77="3:1",L74,IF(W77="3:2",L74,IF(W77="2:3",L78,IF(W77="1:3",L78,IF(W77="0:3",L78,"")))))) -> Sýkora Maximilian (172) (STAR)
A77: Rubeš Michal (161) (PINK!) | W77: 2:3
L78: =IF(L79="3:0",A77,IF(L79="3:1",A77,IF(L79="3:2",A77,IF(L79="2:3",A79,IF(L79="1:3",A79,IF(L79="0:3",A79,"")))))) -> Sýkora Maximilian (172) (STAR)
A79: Sýkora Maximilian (172) (STAR) | L79: 1:3
W80: =IF(W81="3:0",W76,IF(W81="3:1",W76,IF(W81="3:2",W76,IF(W81="2:3",W84,IF(W81="1:3",W84,IF(W81="0:3",W84,"")))))) -> Sýkora Maximilian (172) (STAR)
A81: Herčík Štěpán (165) (Smržovka) | W81: 3:1
L82: =IF(L83="3:0",A81,IF(L83="3:1",A81,IF(L83="3:2",A81,IF(L83="2:3",A83,IF(L83="1:3",A83,IF(L83="0:3",A83,"")))))) -> Liška Daniel (159) (PINK!)
A83: Liška Daniel (159) (PINK!) | L83: 0:3
W84: =IF(W85="3:0",L82,IF(W85="3:1",L82,IF(W85="3:2",L82,IF(W85="2:3",L86,IF(W85="1:3",L86,IF(W85="0:3",L86,"")))))) -> Brixi Adam (162) (SKST)
A85: Turecký David (164) (PINK!) | W85: 0:3
L86: =IF(L87="3:0",A85,IF(L87="3:1",A85,IF(L87="3:2",A85,IF(L87="2:3",A87,IF(L87="1:3",A87,IF(L87="0:3",A87,"")))))) -> Brixi Adam (162) (SKST)
A87: Brixi Adam (162) (SKST) | L87: 1:3
A90: =IF(L75="3:0",A75,IF(L75="3:1",A75,IF(L75="3:2",A75,IF(L75="2:3",A73,IF(L75="1:3",A73,IF(L75="0:3",A73,"")))))) -> Černý Jakub (172) (Bižu) | Z90: o 13.-16.místo
L91: =IF(L92="3:0",A90,IF(L92="3:1",A90,IF(L92="3:2",A90,IF(L92="2:3",A92,IF(L92="1:3",A92,IF(L92="0:3",A92,"")))))) -> Rubeš Michal (161) (PINK!)
A92: =IF(L79="3:0",A79,IF(L79="3:1",A79,IF(L79="3:2",A79,IF(L79="2:3",A77,IF(L79="1:3",A77,IF(L79="0:3",A77,"")))))) -> Rubeš Michal (161) (PINK!) | L92: 0:3
W93: =IF(W94="3:0",L91,IF(W94="3:1",L91,IF(W94="3:2",L91,IF(W94="2:3",L95,IF(W94="1:3",L95,IF(W94="0:3",L95,"")))))) -> Herčík Štěpán (165) (Smržovka)
A94: =IF(L83="3:0",A83,IF(L83="3:1",A83,IF(L83="3:2",A83,IF(L83="2:3",A81,IF(L83="1:3",A81,IF(L83="0:3",A81,"")))))) -> Herčík Štěpán (165) (Smržovka) | W94: 2:3
L95: =IF(L96="3:0",A94,IF(L96="3:1",A94,IF(L96="3:2",A94,IF(L96="2:3",A96,IF(L96="1:3",A96,IF(L96="0:3",A96,"")))))) -> Herčík Štěpán (165) (Smržovka)
A96: =IF(L87="3:0",A87,IF(L87="3:1",A87,IF(L87="3:2",A87,IF(L87="2:3",A85,IF(L87="1:3",A85,IF(L87="0:3",A85,"")))))) -> Turecký David (164) (PINK!) | L96: 3:0 | W96: wo
Z98: o 11.-12. místo
L99: =IF(W77="3:0",L78,IF(W77="3:1",L78,IF(W77="3:2",L78,IF(W77="2:3",L74,IF(W77="1:3",L74,IF(W77="0:3",L74,"")))))) -> Hušek Martin (153) (KMST)
W100: =IF(W101="3:0",L99,IF(W101="3:1",L99,IF(W101="3:2",L99,IF(W101="2:3",L101,IF(W101="1:3",L101,IF(W101="0:3",L101,"")))))) -> Hušek Martin (153) (KMST)
L101: =IF(W85="3:0",L86,IF(W85="3:1",L86,IF(W85="3:2",L86,IF(W85="2:3",L82,IF(W85="1:3",L82,IF(W85="0:3",L82,"")))))) -> Liška Daniel (159) (PINK!) | W101: 3:0
Z103: o 15.-16.místo
L104: =IF(L92="3:0",A92,IF(L92="3:1",A92,IF(L92="3:2",A92,IF(L92="2:3",A90,IF(L92="1:3",A90,IF(L92="0:3",A90,"")))))) -> Černý Jakub (172) (Bižu)
W105: =IF(W106="3:0",L104,IF(W106="3:1",L104,IF(W106="3:2",L104,IF(W106="2:3",L106,IF(W106="1:3",L106,IF(W106="0:3",L106,"")))))) -> Černý Jakub (172) (Bižu)
L106: =IF(L96="3:0",A96,IF(L96="3:1",A96,IF(L96="3:2",A96,IF(L96="2:3",A94,IF(L96="1:3",A94,IF(L96="0:3",A94,"")))))) -> Turecký David (164) (PINK!) | W106: 3:0 | AH106: wo

Sheet div_G
A1: =div_A!A1 -> 1. KBT Libereckého kraje | K1: =div_A!K1 -> Liberec, 28.9.2026 | U1: Divize | X1: G | AD1: Základní skupiny
C4: skupina A | O4: 1 | R4: 2 | U4: 3 | X4: 4 | AA4: v | AB4: p | AC4: sety | AF4: b | AG4: m
A5: 1 | B5: Fejfar Marek (182) (N. Ves) | O5: xxx | R5: 1 | S5: : | T5: 3 | U5: 3 | V5: : | W5: 0 | X5: 0 | Y5: : | Z5: 3 | AA5: =IF(B5<>"",SUM(IF(R5>T5,1,0),IF(U5>W5,1,0),IF(X5>Z5,1,0)),"") -> 1 | AB5: =IF(B5<>"",SUM(IF(R5<T5,1,0),IF(U5<W5,1,0),IF(X5<Z5,1,0)),"") -> 2 | AC5: =IF(B5<>"",R5+U5+X5,"") -> 4 | AD5: : | AE5: =IF(B5<>"",T5+W5+Z5,"") -> 6 | AF5: =IF(B5<>"",(AA5*2)+AB5,"") -> 4 | AG5: =IF(B5<>"",RANK(AF5,$AF$5:$AF$8,0)+IF(AI5<>"",RANK(AI5,$AI$5:$AI$8,0)-1,0),"") -> 3
A6: 2 | B6: Böhm Ondřej (206) (Víchová) | O6: =T5 -> 3 | P6: : | Q6: =R5 -> 1 | R6: xxx | U6: 3 | V6: : | W6: 1 | X6: 3 | Y6: : | Z6: 1 | AA6: =IF(B6<>"",SUM(IF(O6>Q6,1,0),IF(U6>W6,1,0),IF(X6>Z6,1,0)),"") -> 3 | AB6: =IF(B6<>"",SUM(IF(O6<Q6,1,0),IF(U6<W6,1,0),IF(X6<Z6,1,0)),"") -> 0 | AC6: =IF(B6<>"",O6+U6+X6,"") -> 9 | AD6: : | AE6: =IF(B6<>"",Q6+W6+Z6,"") -> 3 | AF6: =IF(B6<>"",(AA6*2)+AB6,"") -> 6 | AG6: =IF(B6<>"",RANK(AF6,$AF$5:$AF$8,0)+IF(AI6<>"",RANK(AI6,$AI$5:$AI$8,0)-1,0),"") -> 1
A7: 3 | B7: Lamberský Petr (208) (KMST) | O7: =W5 -> 0 | P7: : | Q7: =U5 -> 3 | R7: =W6 -> 1 | S7: : | T7: =U6 -> 3 | U7: xxx | X7: 2 | Y7: : | Z7: 3 | AA7: =IF(B7<>"",SUM(IF(O7>Q7,1,0),IF(R7>T7,1,0),IF(X7>Z7,1,0)),"") -> 0 | AB7: =IF(B7<>"",SUM(IF(O7<Q7,1,0),IF(R7<T7,1,0),IF(X7<Z7,1,0)),"") -> 3 | AC7: =IF(B7<>"",O7+R7+X7,"") -> 3 | AD7: : | AE7: =IF(B7<>"",Q7+T7+Z7,"") -> 9 | AF7: =IF(B7<>"",(AA7*2)+AB7,"") -> 3 | AG7: =IF(B7<>"",RANK(AF7,$AF$5:$AF$8,0)+IF(AI7<>"",RANK(AI7,$AI$5:$AI$8,0)-1,0),"") -> 4
A8: 4 | B8: Černý Vojtěch (208) (PINK!) | O8: =Z5 -> 3 | P8: : | Q8: =X5 -> 0 | R8: =Z6 -> 1 | S8: : | T8: =X6 -> 3 | U8: =Z7 -> 3 | V8: : | W8: =X7 -> 2 | X8: xxx | AA8: =IF(B8<>"",SUM(IF(O8>Q8,1,0),IF(R8>T8,1,0),IF(U8>W8,1,0)),"") -> 2 | AB8: =IF(B8<>"",SUM(IF(O8<Q8,1,0),IF(R8<T8,1,0),IF(U8<W8,1,0)),"") -> 1 | AC8: =IF(B8<>"",O8+R8+U8,"") -> 7 | AD8: : | AE8: =IF(B8<>"",Q8+T8+W8,"") -> 5 | AF8: =IF(B8<>"",(AA8*2)+AB8,"") -> 5 | AG8: =IF(B8<>"",RANK(AF8,$AF$5:$AF$8,0)+IF(AI8<>"",RANK(AI8,$AI$5:$AI$8,0)-1,0),"") -> 2
C10: skupina B | O10: 1 | R10: 2 | U10: 3 | X10: 4 | AA10: v | AB10: p | AC10: sety | AF10: b | AG10: m
A11: 1 | B11: Hušek Marek (190) (KMST) | O11: xxx | R11: 3 | S11: : | T11: 0 | U11: 0 | V11: : | W11: 3 | X11: 3 | Y11: : | Z11: 0 | AA11: =IF(B11<>"",SUM(IF(R11>T11,1,0),IF(U11>W11,1,0),IF(X11>Z11,1,0)),"") -> 2 | AB11: =IF(B11<>"",SUM(IF(R11<T11,1,0),IF(U11<W11,1,0),IF(X11<Z11,1,0)),"") -> 1 | AC11: =IF(B11<>"",R11+U11+X11,"") -> 6 | AD11: : | AE11: =IF(B11<>"",T11+W11+Z11,"") -> 3 | AF11: =IF(B11<>"",(AA11*2)+AB11,"") -> 5 | AG11: =IF(B11<>"",RANK(AF11,$AF$11:$AF$14,0)+IF(AI11<>"",RANK(AI11,$AI$11:$AI$14,0)-1,0),"") -> 2
A12: 2 | B12: Urchgerová Mandukhai (208) (Ji KŠ) | O12: =T11 -> 0 | P12: : | Q12: =R11 -> 3 | R12: xxx | U12: 0 | V12: : | W12: 3 | X12: 3 | Y12: : | Z12: 0 | AA12: =IF(B12<>"",SUM(IF(O12>Q12,1,0),IF(U12>W12,1,0),IF(X12>Z12,1,0)),"") -> 1 | AB12: =IF(B12<>"",SUM(IF(O12<Q12,1,0),IF(U12<W12,1,0),IF(X12<Z12,1,0)),"") -> 2 | AC12: =IF(B12<>"",O12+U12+X12,"") -> 3 | AD12: : | AE12: =IF(B12<>"",Q12+W12+Z12,"") -> 6 | AF12: =IF(B12<>"",(AA12*2)+AB12,"") -> 4 | AG12: =IF(B12<>"",RANK(AF12,$AF$11:$AF$14,0)+IF(AI12<>"",RANK(AI12,$AI$11:$AI$14,0)-1,0),"") -> 3
A13: 3 | B13: Novák Karel (208) (Studenec) | O13: =W11 -> 3 | P13: : | Q13: =U11 -> 0 | R13: =W12 -> 3 | S13: : | T13: =U12 -> 0 | U13: xxx | X13: 3 | Y13: : | Z13: 0 | AA13: =IF(B13<>"",SUM(IF(O13>Q13,1,0),IF(R13>T13,1,0),IF(X13>Z13,1,0)),"") -> 3 | AB13: =IF(B13<>"",SUM(IF(O13<Q13,1,0),IF(R13<T13,1,0),IF(X13<Z13,1,0)),"") -> 0 | AC13: =IF(B13<>"",O13+R13+X13,"") -> 9 | AD13: : | AE13: =IF(B13<>"",Q13+T13+Z13,"") -> 0 | AF13: =IF(B13<>"",(AA13*2)+AB13,"") -> 6 | AG13: =IF(B13<>"",RANK(AF13,$AF$11:$AF$14,0)+IF(AI13<>"",RANK(AI13,$AI$11:$AI$14,0)-1,0),"") -> 1
A14: 4 | B14: Pešková Adéla (208) (PINK!) | O14: =Z11 -> 0 | P14: : | Q14: =X11 -> 3 | R14: =Z12 -> 0 | S14: : | T14: =X12 -> 3 | U14: =Z13 -> 0 | V14: : | W14: =X13 -> 3 | X14: xxx | AA14: =IF(B14<>"",SUM(IF(O14>Q14,1,0),IF(R14>T14,1,0),IF(U14>W14,1,0)),"") -> 0 | AB14: =IF(B14<>"",SUM(IF(O14<Q14,1,0),IF(R14<T14,1,0),IF(U14<W14,1,0)),"") -> 3 | AC14: =IF(B14<>"",O14+R14+U14,"") -> 0 | AD14: : | AE14: =IF(B14<>"",Q14+T14+W14,"") -> 9 | AF14: =IF(B14<>"",(AA14*2)+AB14,"") -> 3 | AG14: =IF(B14<>"",RANK(AF14,$AF$11:$AF$14,0)+IF(AI14<>"",RANK(AI14,$AI$11:$AI$14,0)-1,0),"") -> 4
C16: skupina C | O16: 1 | R16: 2 | U16: 3 | X16: 4 | AA16: v | AB16: p | AC16: sety | AF16: b | AG16: m
A17: 1 | B17: Šikýř Daniel (191) (PINK!) | O17: xxx | R17: 0 | S17: : | T17: 3 | U17: 0 | V17: : | W17: 3 | X17: 0 | Y17: : | Z17: 3 | AA17: =IF(B17<>"",SUM(IF(R17>T17,1,0),IF(U17>W17,1,0),IF(X17>Z17,1,0)),"") -> 0 | AB17: =IF(B17<>"",SUM(IF(R17<T17,1,0),IF(U17<W17,1,0),IF(X17<Z17,1,0)),"") -> 3 | AC17: =IF(B17<>"",R17+U17+X17,"") -> 0 | AD17: : | AE17: =IF(B17<>"",T17+W17+Z17,"") -> 9 | AF17: =IF(B17<>"",(AA17*2)+AB17,"") -> 3 | AG17: =IF(B17<>"",RANK(AF17,$AF$17:$AF$20,0)+IF(AI17<>"",RANK(AI17,$AI$17:$AI$20,0)-1,0),"") -> 4
A18: 2 | B18: Bulušek Jaromír (208) (Studenec) | O18: =T17 -> 3 | P18: : | Q18: =R17 -> 0 | R18: xxx | U18: 3 | V18: : | W18: 0 | X18: 3 | Y18: : | Z18: 0 | AA18: =IF(B18<>"",SUM(IF(O18>Q18,1,0),IF(U18>W18,1,0),IF(X18>Z18,1,0)),"") -> 3 | AB18: =IF(B18<>"",SUM(IF(O18<Q18,1,0),IF(U18<W18,1,0),IF(X18<Z18,1,0)),"") -> 0 | AC18: =IF(B18<>"",O18+U18+X18,"") -> 9 | AD18: : | AE18: =IF(B18<>"",Q18+W18+Z18,"") -> 0 | AF18: =IF(B18<>"",(AA18*2)+AB18,"") -> 6 | AG18: =IF(B18<>"",RANK(AF18,$AF$17:$AF$20,0)+IF(AI18<>"",RANK(AI18,$AI$17:$AI$20,0)-1,0),"") -> 1
A19: 3 | B19: Skála Martin (208) (KMST) | O19: =W17 -> 3 | P19: : | Q19: =U17 -> 0 | R19: =W18 -> 0 | S19: : | T19: =U18 -> 3 | U19: xxx | X19: 3 | Y19: : | Z19: 0 | AA19: =IF(B19<>"",SUM(IF(O19>Q19,1,0),IF(R19>T19,1,0),IF(X19>Z19,1,0)),"") -> 2 | AB19: =IF(B19<>"",SUM(IF(O19<Q19,1,0),IF(R19<T19,1,0),IF(X19<Z19,1,0)),"") -> 1 | AC19: =IF(B19<>"",O19+R19+X19,"") -> 6 | AD19: : | AE19: =IF(B19<>"",Q19+T19+Z19,"") -> 3 | AF19: =IF(B19<>"",(AA19*2)+AB19,"") -> 5 | AG19: =IF(B19<>"",RANK(AF19,$AF$17:$AF$20,0)+IF(AI19<>"",RANK(AI19,$AI$17:$AI$20,0)-1,0),"") -> 2
A20: 4 | B20: Madiarii Maksym (208) (KMST) | O20: =Z17 -> 3 | P20: : | Q20: =X17 -> 0 | R20: =Z18 -> 0 | S20: : | T20: =X18 -> 3 | U20: =Z19 -> 0 | V20: : | W20: =X19 -> 3 | X20: xxx | AA20: =IF(B20<>"",SUM(IF(O20>Q20,1,0),IF(R20>T20,1,0),IF(U20>W20,1,0)),"") -> 1 | AB20: =IF(B20<>"",SUM(IF(O20<Q20,1,0),IF(R20<T20,1,0),IF(U20<W20,1,0)),"") -> 2 | AC20: =IF(B20<>"",O20+R20+U20,"") -> 3 | AD20: : | AE20: =IF(B20<>"",Q20+T20+W20,"") -> 6 | AF20: =IF(B20<>"",(AA20*2)+AB20,"") -> 4 | AG20: =IF(B20<>"",RANK(AF20,$AF$17:$AF$20,0)+IF(AI20<>"",RANK(AI20,$AI$17:$AI$20,0)-1,0),"") -> 3
C22: skupina D | O22: 1 | R22: 2 | U22: 3 | X22: 4 | AA22: v | AB22: p | AC22: sety | AF22: b | AG22: m
A23: 1 | B23: Spilka Václav (194) (Víchová) | O23: xxx | R23: 0 | S23: : | T23: 3 | U23: 2 | V23: : | W23: 3 | X23: 3 | Y23: : | Z23: 0 | AA23: =IF(B23<>"",SUM(IF(R23>T23,1,0),IF(U23>W23,1,0),IF(X23>Z23,1,0)),"") -> 1 | AB23: =IF(B23<>"",SUM(IF(R23<T23,1,0),IF(U23<W23,1,0),IF(X23<Z23,1,0)),"") -> 2 | AC23: =IF(B23<>"",R23+U23+X23,"") -> 5 | AD23: : | AE23: =IF(B23<>"",T23+W23+Z23,"") -> 6 | AF23: =IF(B23<>"",(AA23*2)+AB23,"") -> 4 | AG23: =IF(B23<>"",RANK(AF23,$AF$23:$AF$26,0)+IF(AI23<>"",RANK(AI23,$AI$23:$AI$26,0)-1,0),"") -> 3
A24: 2 | B24: Ott Michal (208) (Studenec) | O24: =T23 -> 3 | P24: : | Q24: =R23 -> 0 | R24: xxx | U24: 3 | V24: : | W24: 0 | X24: 3 | Y24: : | Z24: 0 | AA24: =IF(B24<>"",SUM(IF(O24>Q24,1,0),IF(U24>W24,1,0),IF(X24>Z24,1,0)),"") -> 3 | AB24: =IF(B24<>"",SUM(IF(O24<Q24,1,0),IF(U24<W24,1,0),IF(X24<Z24,1,0)),"") -> 0 | AC24: =IF(B24<>"",O24+U24+X24,"") -> 9 | AD24: : | AE24: =IF(B24<>"",Q24+W24+Z24,"") -> 0 | AF24: =IF(B24<>"",(AA24*2)+AB24,"") -> 6 | AG24: =IF(B24<>"",RANK(AF24,$AF$23:$AF$26,0)+IF(AI24<>"",RANK(AI24,$AI$23:$AI$26,0)-1,0),"") -> 1
A25: 3 | B25: Schlegel František (208) (KMST) | O25: =W23 -> 3 | P25: : | Q25: =U23 -> 2 | R25: =W24 -> 0 | S25: : | T25: =U24 -> 3 | U25: xxx | X25: 3 | Y25: : | Z25: 0 | AA25: =IF(B25<>"",SUM(IF(O25>Q25,1,0),IF(R25>T25,1,0),IF(X25>Z25,1,0)),"") -> 2 | AB25: =IF(B25<>"",SUM(IF(O25<Q25,1,0),IF(R25<T25,1,0),IF(X25<Z25,1,0)),"") -> 1 | AC25: =IF(B25<>"",O25+R25+X25,"") -> 6 | AD25: : | AE25: =IF(B25<>"",Q25+T25+Z25,"") -> 5 | AF25: =IF(B25<>"",(AA25*2)+AB25,"") -> 5 | AG25: =IF(B25<>"",RANK(AF25,$AF$23:$AF$26,0)+IF(AI25<>"",RANK(AI25,$AI$23:$AI$26,0)-1,0),"") -> 2
A26: 4 | B26: Pelikán Ryan (208) (Vesec) | O26: =Z23 -> 0 | P26: : | Q26: =X23 -> 3 | R26: =Z24 -> 0 | S26: : | T26: =X24 -> 3 | U26: =Z25 -> 0 | V26: : | W26: =X25 -> 3 | X26: xxx | AA26: =IF(B26<>"",SUM(IF(O26>Q26,1,0),IF(R26>T26,1,0),IF(U26>W26,1,0)),"") -> 0 | AB26: =IF(B26<>"",SUM(IF(O26<Q26,1,0),IF(R26<T26,1,0),IF(U26<W26,1,0)),"") -> 3 | AC26: =IF(B26<>"",O26+R26+U26,"") -> 0 | AD26: : | AE26: =IF(B26<>"",Q26+T26+W26,"") -> 9 | AF26: =IF(B26<>"",(AA26*2)+AB26,"") -> 3 | AG26: =IF(B26<>"",RANK(AF26,$AF$23:$AF$26,0)+IF(AI26<>"",RANK(AI26,$AI$23:$AI$26,0)-1,0),"") -> 4
A29: =A1 -> 1. KBT Libereckého kraje | K29: =K1 -> Liberec, 28.9.2026 | U29: =U1 -> Divize | X29: =X1 -> G | AA29: =Z32 -> o 1.-8. místo
A32: Böhm Ondřej (206) (Víchová) | Z32: o 1.-8. místo
L33: =IF(L34="3:0",A32,IF(L34="3:1",A32,IF(L34="3:2",A32,IF(L34="2:3",A34,IF(L34="1:3",A34,IF(L34="0:3",A34,"")))))) -> Skála Martin (208) (KMST)
A34: Skála Martin (208) (KMST) | L34: 0:3
W35: =IF(W36="3:0",L33,IF(W36="3:1",L33,IF(W36="3:2",L33,IF(W36="2:3",L37,IF(W36="1:3",L37,IF(W36="0:3",L37,"")))))) -> Ott Michal (208) (Studenec)
A36: Hušek Marek (190) (KMST) | W36: 0:3
L37: =IF(L38="3:0",A36,IF(L38="3:1",A36,IF(L38="3:2",A36,IF(L38="2:3",A38,IF(L38="1:3",A38,IF(L38="0:3",A38,"")))))) -> Ott Michal (208) (Studenec)
A38: Ott Michal (208) (Studenec) | L38: 0:3
W39: =IF(W40="3:0",W35,IF(W40="3:1",W35,IF(W40="3:2",W35,IF(W40="2:3",W43,IF(W40="1:3",W43,IF(W40="0:3",W43,"")))))) -> Ott Michal (208) (Studenec)
A40: Bulušek Jaromír (208) (Studenec) | W40: 3:2
L41: =IF(L42="3:0",A40,IF(L42="3:1",A40,IF(L42="3:2",A40,IF(L42="2:3",A42,IF(L42="1:3",A42,IF(L42="0:3",A42,"")))))) -> Bulušek Jaromír (208) (Studenec)
A42: Černý Vojtěch (208) (PINK!) | L42: 3:0
W43: =IF(W44="3:0",L41,IF(W44="3:1",L41,IF(W44="3:2",L41,IF(W44="2:3",L45,IF(W44="1:3",L45,IF(W44="0:3",L45,"")))))) -> Bulušek Jaromír (208) (Studenec)
A44: Schlegel František (208) (KMST) | W44: 3:0
L45: =IF(L46="3:0",A44,IF(L46="3:1",A44,IF(L46="3:2",A44,IF(L46="2:3",A46,IF(L46="1:3",A46,IF(L46="0:3",A46,"")))))) -> Novák Karel (208) (Studenec)
A46: Novák Karel (208) (Studenec) | L46: 1:3
A49: =IF(L34="3:0",A34,IF(L34="3:1",A34,IF(L34="3:2",A34,IF(L34="2:3",A32,IF(L34="1:3",A32,IF(L34="0:3",A32,"")))))) -> Böhm Ondřej (206) (Víchová) | Z49: o 5.-8. místo
L50: =IF(L51="3:0",A49,IF(L51="3:1",A49,IF(L51="3:2",A49,IF(L51="2:3",A51,IF(L51="1:3",A51,IF(L51="0:3",A51,"")))))) -> Böhm Ondřej (206) (Víchová)
A51: =IF(L38="3:0",A38,IF(L38="3:1",A38,IF(L38="3:2",A38,IF(L38="2:3",A36,IF(L38="1:3",A36,IF(L38="0:3",A36,"")))))) -> Hušek Marek (190) (KMST) | L51: 3:0
W52: =IF(W53="3:0",L50,IF(W53="3:1",L50,IF(W53="3:2",L50,IF(W53="2:3",L54,IF(W53="1:3",L54,IF(W53="0:3",L54,"")))))) -> Böhm Ondřej (206) (Víchová)
A53: =IF(L42="3:0",A42,IF(L42="3:1",A42,IF(L42="3:2",A42,IF(L42="2:3",A40,IF(L42="1:3",A40,IF(L42="0:3",A40,"")))))) -> Černý Vojtěch (208) (PINK!) | W53: 3:0
L54: =IF(L55="3:0",A53,IF(L55="3:1",A53,IF(L55="3:2",A53,IF(L55="2:3",A55,IF(L55="1:3",A55,IF(L55="0:3",A55,"")))))) -> Schlegel František (208) (KMST)
A55: =IF(L46="3:0",A46,IF(L46="3:1",A46,IF(L46="3:2",A46,IF(L46="2:3",A44,IF(L46="1:3",A44,IF(L46="0:3",A44,"")))))) -> Schlegel František (208) (KMST) | L55: 0:3
Z57: o 3.-4. místo
L58: =IF(W36="3:0",L37,IF(W36="3:1",L37,IF(W36="3:2",L37,IF(W36="2:3",L33,IF(W36="1:3",L33,IF(W36="0:3",L33,"")))))) -> Skála Martin (208) (KMST)
W59: =IF(W60="3:0",L58,IF(W60="3:1",L58,IF(W60="3:2",L58,IF(W60="2:3",L60,IF(W60="1:3",L60,IF(W60="0:3",L60,"")))))) -> Novák Karel (208) (Studenec)
L60: =IF(W44="3:0",L45,IF(W44="3:1",L45,IF(W44="3:2",L45,IF(W44="2:3",L41,IF(W44="1:3",L41,IF(W44="0:3",L41,"")))))) -> Novák Karel (208) (Studenec) | W60: 1:3
Z62: o 7.-8. místo
L63: =IF(L51="3:0",A51,IF(L51="3:1",A51,IF(L51="3:2",A51,IF(L51="2:3",A49,IF(L51="1:3",A49,IF(L51="0:3",A49,"")))))) -> Hušek Marek (190) (KMST)
W64: =IF(W65="3:0",L63,IF(W65="3:1",L63,IF(W65="3:2",L63,IF(W65="2:3",L65,IF(W65="1:3",L65,IF(W65="0:3",L65,"")))))) -> Černý Vojtěch (208) (PINK!)
L65: =IF(L55="3:0",A55,IF(L55="3:1",A55,IF(L55="3:2",A55,IF(L55="2:3",A53,IF(L55="1:3",A53,IF(L55="0:3",A53,"")))))) -> Černý Vojtěch (208) (PINK!) | W65: 0:3
A70: =A1 -> 1. KBT Libereckého kraje | K70: =K1 -> Liberec, 28.9.2026 | U70: =U1 -> Divize | X70: =X1 -> G | AA70: =Z73 -> o 9.-16.místo
A73: Fejfar Marek (182) (N. Ves) | Z73: o 9.-16.místo
L74: =IF(L75="3:0",A73,IF(L75="3:1",A73,IF(L75="3:2",A73,IF(L75="2:3",A75,IF(L75="1:3",A75,IF(L75="0:3",A75,"")))))) -> Fejfar Marek (182) (N. Ves)
A75: Pelikán Ryan (208) (Vesec) | L75: 3:0
W76: =IF(W77="3:0",L74,IF(W77="3:1",L74,IF(W77="3:2",L74,IF(W77="2:3",L78,IF(W77="1:3",L78,IF(W77="0:3",L78,"")))))) -> Fejfar Marek (182) (N. Ves)
A77: Šikýř Daniel (191) (PINK!) | W77: 3:0
L78: =IF(L79="3:0",A77,IF(L79="3:1",A77,IF(L79="3:2",A77,IF(L79="2:3",A79,IF(L79="1:3",A79,IF(L79="0:3",A79,"")))))) -> Urchgerová Mandukhai (208) (Ji KŠ)
A79: Urchgerová Mandukhai (208) (Ji KŠ) | L79: 1:3
W80: =IF(W81="3:0",W76,IF(W81="3:1",W76,IF(W81="3:2",W76,IF(W81="2:3",W84,IF(W81="1:3",W84,IF(W81="0:3",W84,"")))))) -> Spilka Václav (194) (Víchová)
A81: Madiarii Maksym (208) (KMST) | W81: 0:3
L82: =IF(L83="3:0",A81,IF(L83="3:1",A81,IF(L83="3:2",A81,IF(L83="2:3",A83,IF(L83="1:3",A83,IF(L83="0:3",A83,"")))))) -> Madiarii Maksym (208) (KMST)
A83: Pešková Adéla (208) (PINK!) | L83: 3:0
W84: =IF(W85="3:0",L82,IF(W85="3:1",L82,IF(W85="3:2",L82,IF(W85="2:3",L86,IF(W85="1:3",L86,IF(W85="0:3",L86,"")))))) -> Spilka Václav (194) (Víchová)
A85: Lamberský Petr (208) (KMST) | W85: 0:3
L86: =IF(L87="3:0",A85,IF(L87="3:1",A85,IF(L87="3:2",A85,IF(L87="2:3",A87,IF(L87="1:3",A87,IF(L87="0:3",A87,"")))))) -> Spilka Václav (194) (Víchová)
A87: Spilka Václav (194) (Víchová) | L87: 0:3
A90: =IF(L75="3:0",A75,IF(L75="3:1",A75,IF(L75="3:2",A75,IF(L75="2:3",A73,IF(L75="1:3",A73,IF(L75="0:3",A73,"")))))) -> Pelikán Ryan (208) (Vesec) | Z90: o 13.-16.místo
L91: =IF(L92="3:0",A90,IF(L92="3:1",A90,IF(L92="3:2",A90,IF(L92="2:3",A92,IF(L92="1:3",A92,IF(L92="0:3",A92,"")))))) -> Šikýř Daniel (191) (PINK!)
A92: =IF(L79="3:0",A79,IF(L79="3:1",A79,IF(L79="3:2",A79,IF(L79="2:3",A77,IF(L79="1:3",A77,IF(L79="0:3",A77,"")))))) -> Šikýř Daniel (191) (PINK!) | L92: 1:3
W93: =IF(W94="3:0",L91,IF(W94="3:1",L91,IF(W94="3:2",L91,IF(W94="2:3",L95,IF(W94="1:3",L95,IF(W94="0:3",L95,"")))))) -> Šikýř Daniel (191) (PINK!)
A94: =IF(L83="3:0",A83,IF(L83="3:1",A83,IF(L83="3:2",A83,IF(L83="2:3",A81,IF(L83="1:3",A81,IF(L83="0:3",A81,"")))))) -> Pešková Adéla (208) (PINK!) | W94: 3:1
L95: =IF(L96="3:0",A94,IF(L96="3:1",A94,IF(L96="3:2",A94,IF(L96="2:3",A96,IF(L96="1:3",A96,IF(L96="0:3",A96,"")))))) -> Pešková Adéla (208) (PINK!)
A96: =IF(L87="3:0",A87,IF(L87="3:1",A87,IF(L87="3:2",A87,IF(L87="2:3",A85,IF(L87="1:3",A85,IF(L87="0:3",A85,"")))))) -> Lamberský Petr (208) (KMST) | L96: 3:2
Z98: o 11.-12. místo
L99: =IF(W77="3:0",L78,IF(W77="3:1",L78,IF(W77="3:2",L78,IF(W77="2:3",L74,IF(W77="1:3",L74,IF(W77="0:3",L74,"")))))) -> Urchgerová Mandukhai (208) (Ji KŠ)
W100: =IF(W101="3:0",L99,IF(W101="3:1",L99,IF(W101="3:2",L99,IF(W101="2:3",L101,IF(W101="1:3",L101,IF(W101="0:3",L101,"")))))) -> Madiarii Maksym (208) (KMST)
L101: =IF(W85="3:0",L86,IF(W85="3:1",L86,IF(W85="3:2",L86,IF(W85="2:3",L82,IF(W85="1:3",L82,IF(W85="0:3",L82,"")))))) -> Madiarii Maksym (208) (KMST) | W101: 2:3
Z103: o 15.-16.místo
L104: =IF(L92="3:0",A92,IF(L92="3:1",A92,IF(L92="3:2",A92,IF(L92="2:3",A90,IF(L92="1:3",A90,IF(L92="0:3",A90,"")))))) -> Pelikán Ryan (208) (Vesec)
W105: =IF(W106="3:0",L104,IF(W106="3:1",L104,IF(W106="3:2",L104,IF(W106="2:3",L106,IF(W106="1:3",L106,IF(W106="0:3",L106,"")))))) -> Lamberský Petr (208) (KMST)
L106: =IF(L96="3:0",A96,IF(L96="3:1",A96,IF(L96="3:2",A96,IF(L96="2:3",A94,IF(L96="1:3",A94,IF(L96="0:3",A94,"")))))) -> Lamberský Petr (208) (KMST) | W106: 2:3

Sheet div_H
A1: =div_A!A1 -> 1. KBT Libereckého kraje | K1: =div_A!K1 -> Liberec, 28.9.2026 | U1: Divize | X1: H | AD1: Základní skupiny
C4: skupina A | O4: 1 | R4: 2 | U4: 3 | X4: 4 | AA4: v | AB4: p | AC4: sety | AF4: b | AG4: m
A5: 1 | B5: Šachl Jan (208) (N. Ves) | O5: xxx | R5: 2 | S5: : | T5: 3 | U5: 3 | V5: : | W5: 0 | X5: 2 | Y5: : | Z5: 3 | AA5: =IF(B5<>"",SUM(IF(R5>T5,1,0),IF(U5>W5,1,0),IF(X5>Z5,1,0)),"") -> 1 | AB5: =IF(B5<>"",SUM(IF(R5<T5,1,0),IF(U5<W5,1,0),IF(X5<Z5,1,0)),"") -> 2 | AC5: =IF(B5<>"",R5+U5+X5,"") -> 7 | AD5: : | AE5: =IF(B5<>"",T5+W5+Z5,"") -> 6 | AF5: =IF(B5<>"",(AA5*2)+AB5,"") -> 4 | AG5: =IF(B5<>"",RANK(AF5,$AF$5:$AF$8,0)+IF(AI5<>"",RANK(AI5,$AI$5:$AI$8,0)-1,0),"") -> 2 | AI5: =DIVIDE(5,3) -> 1.6666667
A6: 2 | B6: Johanová Ema (208) (PINK!) | O6: =T5 -> 3 | P6: : | Q6: =R5 -> 2 | R6: xxx | U6: 3 | V6: : | W6: 0 | X6: 3 | Y6: : | Z6: 2 | AA6: =IF(B6<>"",SUM(IF(O6>Q6,1,0),IF(U6>W6,1,0),IF(X6>Z6,1,0)),"") -> 3 | AB6: =IF(B6<>"",SUM(IF(O6<Q6,1,0),IF(U6<W6,1,0),IF(X6<Z6,1,0)),"") -> 0 | AC6: =IF(B6<>"",O6+U6+X6,"") -> 9 | AD6: : | AE6: =IF(B6<>"",Q6+W6+Z6,"") -> 4 | AF6: =IF(B6<>"",(AA6*2)+AB6,"") -> 6 | AG6: =IF(B6<>"",RANK(AF6,$AF$5:$AF$8,0)+IF(AI6<>"",RANK(AI6,$AI$5:$AI$8,0)-1,0),"") -> 1
A7: 3 | B7: Lukeš Daniel (208) (Semily) | O7: =W5 -> 0 | P7: : | Q7: =U5 -> 3 | R7: =W6 -> 0 | S7: : | T7: =U6 -> 3 | U7: xxx | X7: 3 | Y7: : | Z7: 2 | AA7: =IF(B7<>"",SUM(IF(O7>Q7,1,0),IF(R7>T7,1,0),IF(X7>Z7,1,0)),"") -> 1 | AB7: =IF(B7<>"",SUM(IF(O7<Q7,1,0),IF(R7<T7,1,0),IF(X7<Z7,1,0)),"") -> 2 | AC7: =IF(B7<>"",O7+R7+X7,"") -> 3 | AD7: : | AE7: =IF(B7<>"",Q7+T7+Z7,"") -> 8 | AF7: =IF(B7<>"",(AA7*2)+AB7,"") -> 4 | AG7: =IF(B7<>"",RANK(AF7,$AF$5:$AF$8,0)+IF(AI7<>"",RANK(AI7,$AI$5:$AI$8,0)-1,0),"") -> 4 | AI7: =DIVIDE(3,5) -> 0.6
A8: 4 | B8: Křemen Mikuláš (208) (SKST) | O8: =Z5 -> 3 | P8: : | Q8: =X5 -> 2 | R8: =Z6 -> 2 | S8: : | T8: =X6 -> 3 | U8: =Z7 -> 2 | V8: : | W8: =X7 -> 3 | X8: xxx | AA8: =IF(B8<>"",SUM(IF(O8>Q8,1,0),IF(R8>T8,1,0),IF(U8>W8,1,0)),"") -> 1 | AB8: =IF(B8<>"",SUM(IF(O8<Q8,1,0),IF(R8<T8,1,0),IF(U8<W8,1,0)),"") -> 2 | AC8: =IF(B8<>"",O8+R8+U8,"") -> 7 | AD8: : | AE8: =IF(B8<>"",Q8+T8+W8,"") -> 8 | AF8: =IF(B8<>"",(AA8*2)+AB8,"") -> 4 | AG8: =IF(B8<>"",RANK(AF8,$AF$5:$AF$8,0)+IF(AI8<>"",RANK(AI8,$AI$5:$AI$8,0)-1,0),"") -> 3 | AI8: =DIVIDE(5,5) -> 1
C10: skupina B | O10: 1 | R10: 2 | U10: 3 | X10: 4 | AA10: v | AB10: p | AC10: sety | AF10: b | AG10: m
A11: 1 | B11: Keller Matyáš (208) (KMST) | O11: xxx | R11: 0 | S11: : | T11: 3 | U11: 0 | V11: : | W11: 3 | X11: 3 | Y11: : | Z11: 2 | AA11: =IF(B11<>"",SUM(IF(R11>T11,1,0),IF(U11>W11,1,0),IF(X11>Z11,1,0)),"") -> 1 | AB11: =IF(B11<>"",SUM(IF(R11<T11,1,0),IF(U11<W11,1,0),IF(X11<Z11,1,0)),"") -> 2 | AC11: =IF(B11<>"",R11+U11+X11,"") -> 3 | AD11: : | AE11: =IF(B11<>"",T11+W11+Z11,"") -> 8 | AF11: =IF(B11<>"",(AA11*2)+AB11,"") -> 4 | AG11: =IF(B11<>"",RANK(AF11,$AF$11:$AF$14,0)+IF(AI11<>"",RANK(AI11,$AI$11:$AI$14,0)-1,0),"") -> 3
A12: 2 | B12: Hylmar Filip (208) (Studenec) | O12: =T11 -> 3 | P12: : | Q12: =R11 -> 0 | R12: xxx | U12: 3 | V12: : | W12: 0 | X12: 3 | Y12: : | Z12: 0 | AA12: =IF(B12<>"",SUM(IF(O12>Q12,1,0),IF(U12>W12,1,0),IF(X12>Z12,1,0)),"") -> 3 | AB12: =IF(B12<>"",SUM(IF(O12<Q12,1,0),IF(U12<W12,1,0),IF(X12<Z12,1,0)),"") -> 0 | AC12: =IF(B12<>"",O12+U12+X12,"") -> 9 | AD12: : | AE12: =IF(B12<>"",Q12+W12+Z12,"") -> 0 | AF12: =IF(B12<>"",(AA12*2)+AB12,"") -> 6 | AG12: =IF(B12<>"",RANK(AF12,$AF$11:$AF$14,0)+IF(AI12<>"",RANK(AI12,$AI$11:$AI$14,0)-1,0),"") -> 1
A13: 3 | B13: Kverka Václav (208) (PINK!) | O13: =W11 -> 3 | P13: : | Q13: =U11 -> 0 | R13: =W12 -> 0 | S13: : | T13: =U12 -> 3 | U13: xxx | X13: 3 | Y13: : | Z13: 0 | AA13: =IF(B13<>"",SUM(IF(O13>Q13,1,0),IF(R13>T13,1,0),IF(X13>Z13,1,0)),"") -> 2 | AB13: =IF(B13<>"",SUM(IF(O13<Q13,1,0),IF(R13<T13,1,0),IF(X13<Z13,1,0)),"") -> 1 | AC13: =IF(B13<>"",O13+R13+X13,"") -> 6 | AD13: : | AE13: =IF(B13<>"",Q13+T13+Z13,"") -> 3 | AF13: =IF(B13<>"",(AA13*2)+AB13,"") -> 5 | AG13: =IF(B13<>"",RANK(AF13,$AF$11:$AF$14,0)+IF(AI13<>"",RANK(AI13,$AI$11:$AI$14,0)-1,0),"") -> 2
A14: 4 | B14: Zemánek Adam (208) (Semily) | O14: =Z11 -> 2 | P14: : | Q14: =X11 -> 3 | R14: =Z12 -> 0 | S14: : | T14: =X12 -> 3 | U14: =Z13 -> 0 | V14: : | W14: =X13 -> 3 | X14: xxx | AA14: =IF(B14<>"",SUM(IF(O14>Q14,1,0),IF(R14>T14,1,0),IF(U14>W14,1,0)),"") -> 0 | AB14: =IF(B14<>"",SUM(IF(O14<Q14,1,0),IF(R14<T14,1,0),IF(U14<W14,1,0)),"") -> 3 | AC14: =IF(B14<>"",O14+R14+U14,"") -> 2 | AD14: : | AE14: =IF(B14<>"",Q14+T14+W14,"") -> 9 | AF14: =IF(B14<>"",(AA14*2)+AB14,"") -> 3 | AG14: =IF(B14<>"",RANK(AF14,$AF$11:$AF$14,0)+IF(AI14<>"",RANK(AI14,$AI$11:$AI$14,0)-1,0),"") -> 4
C16: skupina C | O16: 1 | R16: 2 | U16: 3 | X16: 4 | AA16: v | AB16: p | AC16: sety | AF16: b | AG16: m
A17: 1 | B17: Procházka Tomáš (208) (N. Ves) | O17: xxx | R17: 3 | S17: : | T17: 0 | U17: 0 | V17: : | W17: 3 | X17: 3 | Y17: : | Z17: 1 | AA17: =IF(B17<>"",SUM(IF(R17>T17,1,0),IF(U17>W17,1,0),IF(X17>Z17,1,0)),"") -> 2 | AB17: =IF(B17<>"",SUM(IF(R17<T17,1,0),IF(U17<W17,1,0),IF(X17<Z17,1,0)),"") -> 1 | AC17: =IF(B17<>"",R17+U17+X17,"") -> 6 | AD17: : | AE17: =IF(B17<>"",T17+W17+Z17,"") -> 4 | AF17: =IF(B17<>"",(AA17*2)+AB17,"") -> 5 | AG17: =IF(B17<>"",RANK(AF17,$AF$17:$AF$20,0)+IF(AI17<>"",RANK(AI17,$AI$17:$AI$20,0)-1,0),"") -> 2
A18: 2 | B18: Huk Matyáš (208) (KMST) | O18: =T17 -> 0 | P18: : | Q18: =R17 -> 3 | R18: xxx | U18: 1 | V18: : | W18: 3 | X18: 0 | Y18: : | Z18: 3 | AA18: =IF(B18<>"",SUM(IF(O18>Q18,1,0),IF(U18>W18,1,0),IF(X18>Z18,1,0)),"") -> 0 | AB18: =IF(B18<>"",SUM(IF(O18<Q18,1,0),IF(U18<W18,1,0),IF(X18<Z18,1,0)),"") -> 3 | AC18: =IF(B18<>"",O18+U18+X18,"") -> 1 | AD18: : | AE18: =IF(B18<>"",Q18+W18+Z18,"") -> 9 | AF18: =IF(B18<>"",(AA18*2)+AB18,"") -> 3 | AG18: =IF(B18<>"",RANK(AF18,$AF$17:$AF$20,0)+IF(AI18<>"",RANK(AI18,$AI$17:$AI$20,0)-1,0),"") -> 4
A19: 3 | B19: Schneider Pavel (208) (Semily) | O19: =W17 -> 3 | P19: : | Q19: =U17 -> 0 | R19: =W18 -> 3 | S19: : | T19: =U18 -> 1 | U19: xxx | X19: 3 | Y19: : | Z19: 2 | AA19: =IF(B19<>"",SUM(IF(O19>Q19,1,0),IF(R19>T19,1,0),IF(X19>Z19,1,0)),"") -> 3 | AB19: =IF(B19<>"",SUM(IF(O19<Q19,1,0),IF(R19<T19,1,0),IF(X19<Z19,1,0)),"") -> 0 | AC19: =IF(B19<>"",O19+R19+X19,"") -> 9 | AD19: : | AE19: =IF(B19<>"",Q19+T19+Z19,"") -> 3 | AF19: =IF(B19<>"",(AA19*2)+AB19,"") -> 6 | AG19: =IF(B19<>"",RANK(AF19,$AF$17:$AF$20,0)+IF(AI19<>"",RANK(AI19,$AI$17:$AI$20,0)-1,0),"") -> 1
A20: 4 | B20: Kordík Filip (208) (KMST) | O20: =Z17 -> 1 | P20: : | Q20: =X17 -> 3 | R20: =Z18 -> 3 | S20: : | T20: =X18 -> 0 | U20: =Z19 -> 2 | V20: : | W20: =X19 -> 3 | X20: xxx | AA20: =IF(B20<>"",SUM(IF(O20>Q20,1,0),IF(R20>T20,1,0),IF(U20>W20,1,0)),"") -> 1 | AB20: =IF(B20<>"",SUM(IF(O20<Q20,1,0),IF(R20<T20,1,0),IF(U20<W20,1,0)),"") -> 2 | AC20: =IF(B20<>"",O20+R20+U20,"") -> 6 | AD20: : | AE20: =IF(B20<>"",Q20+T20+W20,"") -> 6 | AF20: =IF(B20<>"",(AA20*2)+AB20,"") -> 4 | AG20: =IF(B20<>"",RANK(AF20,$AF$17:$AF$20,0)+IF(AI20<>"",RANK(AI20,$AI$17:$AI$20,0)-1,0),"") -> 3
C22: skupina D | O22: 1 | R22: 2 | U22: 3 | X22: 4 | AA22: v | AB22: p | AC22: sety | AF22: b | AG22: m
A23: 1 | B23: Mařanová Adéla (208) (N. Ves) | O23: xxx | R23: 3 | S23: : | T23: 2 | V23: : | X23: 3 | Y23: : | Z23: 0 | AA23: =IF(B23<>"",SUM(IF(R23>T23,1,0),IF(U23>W23,1,0),IF(X23>Z23,1,0)),"") -> 2 | AB23: =IF(B23<>"",SUM(IF(R23<T23,1,0),IF(U23<W23,1,0),IF(X23<Z23,1,0)),"") -> 0 | AC23: =IF(B23<>"",R23+U23+X23,"") -> 6 | AD23: : | AE23: =IF(B23<>"",T23+W23+Z23,"") -> 2 | AF23: =IF(B23<>"",(AA23*2)+AB23,"") -> 4 | AG23: =IF(B23<>"",RANK(AF23,$AF$23:$AF$26,0)+IF(AI23<>"",RANK(AI23,$AI$23:$AI$26,0)-1,0),"") -> 1
A24: 2 | B24: Pavlů Darek (208) (KMST) | O24: =T23 -> 2 | P24: : | Q24: =R23 -> 3 | R24: xxx | V24: : | X24: 3 | Y24: : | Z24: 0 | AA24: =IF(B24<>"",SUM(IF(O24>Q24,1,0),IF(U24>W24,1,0),IF(X24>Z24,1,0)),"") -> 1 | AB24: =IF(B24<>"",SUM(IF(O24<Q24,1,0),IF(U24<W24,1,0),IF(X24<Z24,1,0)),"") -> 1 | AC24: =IF(B24<>"",O24+U24+X24,"") -> 5 | AD24: : | AE24: =IF(B24<>"",Q24+W24+Z24,"") -> 3 | AF24: =IF(B24<>"",(AA24*2)+AB24,"") -> 3 | AG24: =IF(B24<>"",RANK(AF24,$AF$23:$AF$26,0)+IF(AI24<>"",RANK(AI24,$AI$23:$AI$26,0)-1,0),"") -> 2
A25: 3 | O25: =W23 | P25: : | Q25: =U23 | R25: =W24 | S25: : | T25: =U24 | U25: xxx | Y25: : | AA25: =IF(B25<>"",SUM(IF(O25>Q25,1,0),IF(R25>T25,1,0),IF(X25>Z25,1,0)),"") | AB25: =IF(B25<>"",SUM(IF(O25<Q25,1,0),IF(R25<T25,1,0),IF(X25<Z25,1,0)),"") | AC25: =IF(B25<>"",O25+R25+X25,"") | AD25: : | AE25: =IF(B25<>"",Q25+T25+Z25,"") | AF25: =IF(B25<>"",(AA25*2)+AB25,"") | AG25: =IF(B25<>"",RANK(AF25,$AF$23:$AF$26,0)+IF(AI25<>"",RANK(AI25,$AI$23:$AI$26,0)-1,0),"")
A26: 4 | B26: Křemen Štěpán (208) (SKST) | O26: =Z23 -> 0 | P26: : | Q26: =X23 -> 3 | R26: =Z24 -> 0 | S26: : | T26: =X24 -> 3 | U26: =Z25 | V26: : | W26: =X25 | X26: xxx | AA26: =IF(B26<>"",SUM(IF(O26>Q26,1,0),IF(R26>T26,1,0),IF(U26>W26,1,0)),"") -> 0 | AB26: =IF(B26<>"",SUM(IF(O26<Q26,1,0),IF(R26<T26,1,0),IF(U26<W26,1,0)),"") -> 2 | AC26: =IF(B26<>"",O26+R26+U26,"") -> 0 | AD26: : | AE26: =IF(B26<>"",Q26+T26+W26,"") -> 6 | AF26: =IF(B26<>"",(AA26*2)+AB26,"") -> 2 | AG26: =IF(B26<>"",RANK(AF26,$AF$23:$AF$26,0)+IF(AI26<>"",RANK(AI26,$AI$23:$AI$26,0)-1,0),"") -> 3
A29: =A1 -> 1. KBT Libereckého kraje | K29: =K1 -> Liberec, 28.9.2026 | U29: =U1 -> Divize | X29: =X1 -> H | AA29: =Z32 -> o 1.-8. místo
A32: Johanová Ema (208) (PINK!) | Z32: o 1.-8. místo
L33: =IF(L34="3:0",A32,IF(L34="3:1",A32,IF(L34="3:2",A32,IF(L34="2:3",A34,IF(L34="1:3",A34,IF(L34="0:3",A34,"")))))) -> Pavlů Darek (208) (KMST)
A34: Pavlů Darek (208) (KMST) | L34: 0:3
W35: =IF(W36="3:0",L33,IF(W36="3:1",L33,IF(W36="3:2",L33,IF(W36="2:3",L37,IF(W36="1:3",L37,IF(W36="0:3",L37,"")))))) -> Pavlů Darek (208) (KMST)
A36: Kverka Václav (208) (PINK!) | W36: 3:1
L37: =IF(L38="3:0",A36,IF(L38="3:1",A36,IF(L38="3:2",A36,IF(L38="2:3",A38,IF(L38="1:3",A38,IF(L38="0:3",A38,"")))))) -> Kverka Václav (208) (PINK!)
A38: Schneider Pavel (208) (Semily) | L38: 3:1
W39: =IF(W40="3:0",W35,IF(W40="3:1",W35,IF(W40="3:2",W35,IF(W40="2:3",W43,IF(W40="1:3",W43,IF(W40="0:3",W43,"")))))) -> Hylmar Filip (208) (Studenec)
A40: Mařanová Adéla (208) (N. Ves) | W40: 2:3
L41: =IF(L42="3:0",A40,IF(L42="3:1",A40,IF(L42="3:2",A40,IF(L42="2:3",A42,IF(L42="1:3",A42,IF(L42="0:3",A42,"")))))) -> Procházka Tomáš (208) (N. Ves)
A42: Procházka Tomáš (208) (N. Ves) | L42: 1:3
W43: =IF(W44="3:0",L41,IF(W44="3:1",L41,IF(W44="3:2",L41,IF(W44="2:3",L45,IF(W44="1:3",L45,IF(W44="0:3",L45,"")))))) -> Hylmar Filip (208) (Studenec)
A44: Šachl Jan (208) (N. Ves) | W44: 1:3
L45: =IF(L46="3:0",A44,IF(L46="3:1",A44,IF(L46="3:2",A44,IF(L46="2:3",A46,IF(L46="1:3",A46,IF(L46="0:3",A46,"")))))) -> Hylmar Filip (208) (Studenec)
A46: Hylmar Filip (208) (Studenec) | L46: 0:3
A49: =IF(L34="3:0",A34,IF(L34="3:1",A34,IF(L34="3:2",A34,IF(L34="2:3",A32,IF(L34="1:3",A32,IF(L34="0:3",A32,"")))))) -> Johanová Ema (208) (PINK!) | Z49: o 5.-8. místo
L50: =IF(L51="3:0",A49,IF(L51="3:1",A49,IF(L51="3:2",A49,IF(L51="2:3",A51,IF(L51="1:3",A51,IF(L51="0:3",A51,"")))))) -> Schneider Pavel (208) (Semily)
A51: =IF(L38="3:0",A38,IF(L38="3:1",A38,IF(L38="3:2",A38,IF(L38="2:3",A36,IF(L38="1:3",A36,IF(L38="0:3",A36,"")))))) -> Schneider Pavel (208) (Semily) | L51: 0:3
W52: =IF(W53="3:0",L50,IF(W53="3:1",L50,IF(W53="3:2",L50,IF(W53="2:3",L54,IF(W53="1:3",L54,IF(W53="0:3",L54,"")))))) -> Mařanová Adéla (208) (N. Ves)
A53: =IF(L42="3:0",A42,IF(L42="3:1",A42,IF(L42="3:2",A42,IF(L42="2:3",A40,IF(L42="1:3",A40,IF(L42="0:3",A40,"")))))) -> Mařanová Adéla (208) (N. Ves) | W53: 0:3
L54: =IF(L55="3:0",A53,IF(L55="3:1",A53,IF(L55="3:2",A53,IF(L55="2:3",A55,IF(L55="1:3",A55,IF(L55="0:3",A55,"")))))) -> Mařanová Adéla (208) (N. Ves)
A55: =IF(L46="3:0",A46,IF(L46="3:1",A46,IF(L46="3:2",A46,IF(L46="2:3",A44,IF(L46="1:3",A44,IF(L46="0:3",A44,"")))))) -> Šachl Jan (208) (N. Ves) | L55: 3:2
Z57: o 3.-4. místo
L58: =IF(W36="3:0",L37,IF(W36="3:1",L37,IF(W36="3:2",L37,IF(W36="2:3",L33,IF(W36="1:3",L33,IF(W36="0:3",L33,"")))))) -> Kverka Václav (208) (PINK!)
W59: =IF(W60="3:0",L58,IF(W60="3:1",L58,IF(W60="3:2",L58,IF(W60="2:3",L60,IF(W60="1:3",L60,IF(W60="0:3",L60,"")))))) -> Procházka Tomáš (208) (N. Ves)
L60: =IF(W44="3:0",L45,IF(W44="3:1",L45,IF(W44="3:2",L45,IF(W44="2:3",L41,IF(W44="1:3",L41,IF(W44="0:3",L41,"")))))) -> Procházka Tomáš (208) (N. Ves) | W60: 2:3
Z62: o 7.-8. místo
L63: =IF(L51="3:0",A51,IF(L51="3:1",A51,IF(L51="3:2",A51,IF(L51="2:3",A49,IF(L51="1:3",A49,IF(L51="0:3",A49,"")))))) -> Johanová Ema (208) (PINK!)
W64: =IF(W65="3:0",L63,IF(W65="3:1",L63,IF(W65="3:2",L63,IF(W65="2:3",L65,IF(W65="1:3",L65,IF(W65="0:3",L65,"")))))) -> Johanová Ema (208) (PINK!)
L65: =IF(L55="3:0",A55,IF(L55="3:1",A55,IF(L55="3:2",A55,IF(L55="2:3",A53,IF(L55="1:3",A53,IF(L55="0:3",A53,"")))))) -> Šachl Jan (208) (N. Ves) | W65: 3:0
A70: =A1 -> 1. KBT Libereckého kraje | K70: =K1 -> Liberec, 28.9.2026 | U70: =U1 -> Divize | X70: =X1 -> H | AA70: =Z73 -> o 9.-16.místo
A73: Keller Matyáš (208) (KMST) | Z73: o 9.-16.místo
L74: =IF(L75="3:0",A73,IF(L75="3:1",A73,IF(L75="3:2",A73,IF(L75="2:3",A75,IF(L75="1:3",A75,IF(L75="0:3",A75,"")))))) -> Huk Matyáš (208) (KMST)
A75: Huk Matyáš (208) (KMST) | L75: 1:3
W76: =IF(W77="3:0",L74,IF(W77="3:1",L74,IF(W77="3:2",L74,IF(W77="2:3",L78,IF(W77="1:3",L78,IF(W77="0:3",L78,"")))))) -> Huk Matyáš (208) (KMST)
A77: Lukeš Daniel (208) (Semily) | W77: 3:1
L78: =IF(L79="3:0",A77,IF(L79="3:1",A77,IF(L79="3:2",A77,IF(L79="2:3",A79,IF(L79="1:3",A79,IF(L79="0:3",A79,"")))))) -> Lukeš Daniel (208) (Semily)
A79: Křemen Štěpán (208) (SKST) | L79: 3:0
W80: =IF(W81="3:0",W76,IF(W81="3:1",W76,IF(W81="3:2",W76,IF(W81="2:3",W84,IF(W81="1:3",W84,IF(W81="0:3",W84,"")))))) -> Kordík Filip (208) (KMST)
A81: Kordík Filip (208) (KMST) | W81: 0:3
L82: =IF(L83="3:0",A81,IF(L83="3:1",A81,IF(L83="3:2",A81,IF(L83="2:3",A83,IF(L83="1:3",A83,IF(L83="0:3",A83,"")))))) -> Kordík Filip (208) (KMST)
A83: Zemánek Adam (208) (Semily) | L83: 3:0
W84: =IF(W85="3:0",L82,IF(W85="3:1",L82,IF(W85="3:2",L82,IF(W85="2:3",L86,IF(W85="1:3",L86,IF(W85="0:3",L86,"")))))) -> Kordík Filip (208) (KMST)
W85: 3:1
L86: =IF(L87="3:0",A85,IF(L87="3:1",A85,IF(L87="3:2",A85,IF(L87="2:3",A87,IF(L87="1:3",A87,IF(L87="0:3",A87,"")))))) -> Křemen Mikuláš (208) (SKST)
A87: Křemen Mikuláš (208) (SKST) | L87: 0:3
A90: =IF(L75="3:0",A75,IF(L75="3:1",A75,IF(L75="3:2",A75,IF(L75="2:3",A73,IF(L75="1:3",A73,IF(L75="0:3",A73,"")))))) -> Keller Matyáš (208) (KMST) | Z90: o 13.-16.místo
L91: =IF(L92="3:0",A90,IF(L92="3:1",A90,IF(L92="3:2",A90,IF(L92="2:3",A92,IF(L92="1:3",A92,IF(L92="0:3",A92,"")))))) -> Křemen Štěpán (208) (SKST)
A92: =IF(L79="3:0",A79,IF(L79="3:1",A79,IF(L79="3:2",A79,IF(L79="2:3",A77,IF(L79="1:3",A77,IF(L79="0:3",A77,"")))))) -> Křemen Štěpán (208) (SKST) | L92: 1:3
W93: =IF(W94="3:0",L91,IF(W94="3:1",L91,IF(W94="3:2",L91,IF(W94="2:3",L95,IF(W94="1:3",L95,IF(W94="0:3",L95,"")))))) -> Křemen Štěpán (208) (SKST)
A94: =IF(L83="3:0",A83,IF(L83="3:1",A83,IF(L83="3:2",A83,IF(L83="2:3",A81,IF(L83="1:3",A81,IF(L83="0:3",A81,"")))))) -> Zemánek Adam (208) (Semily) | W94: 3:2
L95: =IF(L96="3:0",A94,IF(L96="3:1",A94,IF(L96="3:2",A94,IF(L96="2:3",A96,IF(L96="1:3",A96,IF(L96="0:3",A96,"")))))) -> Zemánek Adam (208) (Semily)
A96: =IF(L87="3:0",A87,IF(L87="3:1",A87,IF(L87="3:2",A87,IF(L87="2:3",A85,IF(L87="1:3",A85,IF(L87="0:3",A85,"")))))) | L96: 3:0
Z98: o 11.-12. místo
L99: =IF(W77="3:0",L78,IF(W77="3:1",L78,IF(W77="3:2",L78,IF(W77="2:3",L74,IF(W77="1:3",L74,IF(W77="0:3",L74,"")))))) -> Lukeš Daniel (208) (Semily)
W100: =IF(W101="3:0",L99,IF(W101="3:1",L99,IF(W101="3:2",L99,IF(W101="2:3",L101,IF(W101="1:3",L101,IF(W101="0:3",L101,"")))))) -> Křemen Mikuláš (208) (SKST)
L101: =IF(W85="3:0",L86,IF(W85="3:1",L86,IF(W85="3:2",L86,IF(W85="2:3",L82,IF(W85="1:3",L82,IF(W85="0:3",L82,"")))))) -> Křemen Mikuláš (208) (SKST) | W101: 0:3
Z103: o 15.-16.místo
L104: =IF(L92="3:0",A92,IF(L92="3:1",A92,IF(L92="3:2",A92,IF(L92="2:3",A90,IF(L92="1:3",A90,IF(L92="0:3",A90,"")))))) -> Keller Matyáš (208) (KMST)
W105: =IF(W106="3:0",L104,IF(W106="3:1",L104,IF(W106="3:2",L104,IF(W106="2:3",L106,IF(W106="1:3",L106,IF(W106="0:3",L106,"")))))) -> Keller Matyáš (208) (KMST)
L106: =IF(L96="3:0",A96,IF(L96="3:1",A96,IF(L96="3:2",A96,IF(L96="2:3",A94,IF(L96="1:3",A94,IF(L96="0:3",A94,"")))))) | W106: 3:0

Sheet celkem
A1: =div_A!A1 -> 1. KBT Libereckého kraje | E1: =div_A!K1 -> Liberec, 28.9.2026
A2: celkové výsledky
A4: Divize A | C4: body | E4: Divize B | G4: body
A5: 1. | B5: =div_A!$W$39 -> Němec Štěpán (7) (SKST) | C5: 185 | E5: 1. | F5: =div_B!$W$39 -> Kuchyňa Josef (31) (Bižu) | G5: 164
A6: 2. | B6: =IF(div_A!$W$40="3:0",div_A!$W$43,IF(div_A!$W$40="3:1",div_A!$W$43,IF(div_A!$W$40="3:2",div_A!$W$43,IF(div_A!$W$40="2:3",div_A!$W$35,IF(div_A!$W$40="1:3",div_A!$W$35,IF(div_A!$W$40="0:3",div_A!$W$35,"")))))) -> Čupcová Viktorie (12) (SKST) | C6: 182 | E6: 2. | F6: =IF(div_B!$W$40="3:0",div_B!$W$43,IF(div_B!$W$40="3:1",div_B!$W$43,IF(div_B!$W$40="3:2",div_B!$W$43,IF(div_B!$W$40="2:3",div_B!$W$35,IF(div_B!$W$40="1:3",div_B!$W$35,IF(div_B!$W$40="0:3",div_B!$W$35,"")))))) -> Svoboda Daniel (24) (STAR) | G6: 162
A7: 3. | B7: =div_A!$W$59 -> Polívka Matyáš (6) (PINK!) | C7: 180 | E7: 3. | F7: =div_B!$W$59 -> Vargová Stella (40) (PINK!) | G7: 160
A8: 4. | B8: =IF(div_A!$W$60="3:0",div_A!$L$60,IF(div_A!$W$60="3:1",div_A!$L$60,IF(div_A!$W$60="3:2",div_A!$L$60,IF(div_A!$W$60="2:3",div_A!$L$58,IF(div_A!$W$60="1:3",div_A!$L$58,IF(div_A!$W$60="0:3",div_A!$L$58,"")))))) -> Provazníková Alena (21) (Bižu) | C8: 178 | E8: 4. | F8: =IF(div_B!$W$60="3:0",div_B!$L$60,IF(div_B!$W$60="3:1",div_B!$L$60,IF(div_B!$W$60="3:2",div_B!$L$60,IF(div_B!$W$60="2:3",div_B!$L$58,IF(div_B!$W$60="1:3",div_B!$L$58,IF(div_B!$W$60="0:3",div_B!$L$58,"")))))) -> Čupcová Valerie (36) (SKST) | G8: 158
A9: 5. | B9: =div_A!$W$52 -> Hrníčko Matyáš (28) (PINK!) | C9: 176 | E9: 5. | F9: =div_B!$W$52 -> Pinc Jonáš (42) (AST) | G9: 156
A10: 6. | B10: =IF(div_A!$W$53="3:0",div_A!$L$54,IF(div_A!$W$53="3:1",div_A!$L$54,IF(div_A!$W$53="3:2",div_A!$L$54,IF(div_A!$W$53="2:3",div_A!$L$50,IF(div_A!$W$53="1:3",div_A!$L$50,IF(div_A!$W$53="0:3",div_A!$L$50,"")))))) -> Tuma Theodor (9) (PINK!) | C10: 174 | E10: 6. | F10: =IF(div_B!$W$53="3:0",div_B!$L$54,IF(div_B!$W$53="3:1",div_B!$L$54,IF(div_B!$W$53="3:2",div_B!$L$54,IF(div_B!$W$53="2:3",div_B!$L$50,IF(div_B!$W$53="1:3",div_B!$L$50,IF(div_B!$W$53="0:3",div_B!$L$50,"")))))) -> Rachač Daniel (44) (ČL) | G10: 154
A11: 7. | B11: =div_A!$W$64 -> Jungmann Matěj (3) (SKST) | C11: 172 | E11: 7. | F11: =div_B!$W$64 -> Salaba Marek (47) (Smržovka) | G11: 152
A12: 8. | B12: =IF(div_A!$W$65="3:0",div_A!$L$65,IF(div_A!$W$65="3:1",div_A!$L$65,IF(div_A!$W$65="3:2",div_A!$L$65,IF(div_A!$W$65="2:3",div_A!$L$63,IF(div_A!$W$65="1:3",div_A!$L$63,IF(div_A!$W$65="0:3",div_A!$L$63,"")))))) -> Perlík Josef (8) (SKST) | C12: 170 | E12: 8. | F12: =IF(div_B!$W$65="3:0",div_B!$L$65,IF(div_B!$W$65="3:1",div_B!$L$65,IF(div_B!$W$65="3:2",div_B!$L$65,IF(div_B!$W$65="2:3",div_B!$L$63,IF(div_B!$W$65="1:3",div_B!$L$63,IF(div_B!$W$65="0:3",div_B!$L$63,"")))))) -> Humhal Jiří (46) (ČL) | G12: 150
A13: 9. | B13: =div_A!$W$80 -> Kout Matěj (18) (KMST) | C13: 168 | E13: 9. | F13: =div_B!$W$80 -> Korpová Tereza (16) (PINK!) | G13: 148
A14: 10. | B14: =IF(div_A!$W$81="3:0",div_A!W84,IF(div_A!$W$81="3:1",div_A!$W$84,IF(div_A!$W$81="3:2",div_A!$W$84,IF(div_A!$W$81="2:3",div_A!$W$76,IF(div_A!$W$81="1:3",div_A!$W$76,IF(div_A!$W$81="0:3",div_A!$W$76,"")))))) -> Kvapil Tomáš (24) (ST Fr.) | C14: 167 | E14: 10. | F14: =IF(div_B!$W$81="3:0",div_B!W84,IF(div_B!$W$81="3:1",div_B!$W$84,IF(div_B!$W$81="3:2",div_B!$W$84,IF(div_B!$W$81="2:3",div_B!$W$76,IF(div_B!$W$81="1:3",div_B!$W$76,IF(div_B!$W$81="0:3",div_B!$W$76,"")))))) -> Hudák František (36) (Bižu) | G14: 147
A15: 11. | B15: =div_A!$W$100 -> Nohejl Vojtěch (27) (ST Fr.) | C15: 166 | E15: 11. | F15: =div_B!$W$100 -> Švarc Dominik (39) (Bižu) | G15: 146
A16: 12. | B16: =IF(div_A!$W$101="3:0",div_A!$L$101,IF(div_A!$W$101="3:1",div_A!$L$101,IF(div_A!$W$101="3:2",div_A!$L$101,IF(div_A!$W$101="2:3",div_A!$L$99,IF(div_A!$W$101="1:3",div_A!$L$99,IF(div_A!$W$101="0:3",div_A!$L$99,"")))))) -> Havel Lukáš (34) (ST Fr.) | C16: 165 | E16: 12. | F16: =IF(div_B!$W$101="3:0",div_B!$L$101,IF(div_B!$W$101="3:1",div_B!$L$101,IF(div_B!$W$101="3:2",div_B!$L$101,IF(div_B!$W$101="2:3",div_B!$L$99,IF(div_B!$W$101="1:3",div_B!$L$99,IF(div_B!$W$101="0:3",div_B!$L$99,"")))))) -> Trojan Jáchym (53) (KMST) | G16: 145
A17: 13. | B17: =div_A!$W$93 -> Krob Vojtěch (26) (ČL) | C17: 164 | E17: 13. | F17: =div_B!$W$93 -> Janatka Adam (43) (ČL) | G17: 144
A18: 14. | B18: =IF(div_A!$W$94="3:0",div_A!$L$95,IF(div_A!$W$94="3:1",div_A!$L$95,IF(div_A!$W$94="3:2",div_A!$L$95,IF(div_A!$W$94="2:3",div_A!$L$91,IF(div_A!$W$94="1:3",div_A!$L$91,IF(div_A!$W$94="0:3",div_A!$L$91,"")))))) -> Křivánek Viktor (30) (Ji KŠ) | C18: 160 | E18: 14. | F18: =IF(div_B!$W$94="3:0",div_B!$L$95,IF(div_B!$W$94="3:1",div_B!$L$95,IF(div_B!$W$94="3:2",div_B!$L$95,IF(div_B!$W$94="2:3",div_B!$L$91,IF(div_B!$W$94="1:3",div_B!$L$91,IF(div_B!$W$94="0:3",div_B!$L$91,"")))))) -> Leksa Michal (57) (STAR) | G18: 140
A19: 15. | B19: =div_A!$W$105 -> Louda Ondřej (35) (PINK!) | C19: 159 | E19: 15. | F19: =div_B!$W$105 -> Vorel Jan (56) (PINK!) | G19: 139
A20: 16. | B20: =IF(div_A!$W$106="3:0",div_A!$L$106,IF(div_A!$W$106="3:1",div_A!$L$106,IF(div_A!$W$106="3:2",div_A!$L$106,IF(div_A!$W$106="2:3",div_A!$L$104,IF(div_A!$W$106="1:3",div_A!$L$104,IF(div_A!$W$106="0:3",div_A!$L$104,"")))))) -> Škorpil Jaroslav (22) (ČL) | C20: 158 | E20: 16. | F20: =IF(div_B!$W$106="3:0",div_B!$L$106,IF(div_B!$W$106="3:1",div_B!$L$106,IF(div_B!$W$106="3:2",div_B!$L$106,IF(div_B!$W$106="2:3",div_B!$L$104,IF(div_B!$W$106="1:3",div_B!$L$104,IF(div_B!$W$106="0:3",div_B!$L$104,"")))))) -> Johanová Sofie (50) (PINK!) | G20: 138
A22: Divize C | C22: body | E22: Divize D | G22: body
A23: 1. | B23: =div_C!$W$39 -> Trávníčková Tereza (52) (SKST) | C23: 144 | E23: 1. | F23: =div_D!$W$39 -> Ivanov Matteo (103) (STAR) | G23: 124
A24: 2. | B24: =IF(div_C!$W$40="3:0",div_C!$W$43,IF(div_C!$W$40="3:1",div_C!$W$43,IF(div_C!$W$40="3:2",div_C!$W$43,IF(div_C!$W$40="2:3",div_C!$W$35,IF(div_C!$W$40="1:3",div_C!$W$35,IF(div_C!$W$40="0:3",div_C!$W$35,"")))))) -> Charousek Mikuláš (66) (KMST) | C24: 142 | E24: 2. | F24: =IF(div_D!$W$40="3:0",div_D!$W$43,IF(div_D!$W$40="3:1",div_D!$W$43,IF(div_D!$W$40="3:2",div_D!$W$43,IF(div_D!$W$40="2:3",div_D!$W$35,IF(div_D!$W$40="1:3",div_D!$W$35,IF(div_D!$W$40="0:3",div_D!$W$35,"")))))) -> Růžková Stella (65) (PINK!) | G24: 122
A25: 3. | B25: =div_C!$W$59 -> Peřina Jan (61) (PINK!) | C25: 140 | E25: 3. | F25: =div_D!$W$59 -> Horáček Richard (95) (Brniště) | G25: 120
A26: 4. | B26: =IF(div_C!$W$60="3:0",div_C!$L$60,IF(div_C!$W$60="3:1",div_C!$L$60,IF(div_C!$W$60="3:2",div_C!$L$60,IF(div_C!$W$60="2:3",div_C!$L$58,IF(div_C!$W$60="1:3",div_C!$L$58,IF(div_C!$W$60="0:3",div_C!$L$58,"")))))) -> Ponocný Radek (54) (STAR) | C26: 138 | E26: 4. | F26: =IF(div_D!$W$60="3:0",div_D!$L$60,IF(div_D!$W$60="3:1",div_D!$L$60,IF(div_D!$W$60="3:2",div_D!$L$60,IF(div_D!$W$60="2:3",div_D!$L$58,IF(div_D!$W$60="1:3",div_D!$L$58,IF(div_D!$W$60="0:3",div_D!$L$58,"")))))) -> Zítko Jindřich (92) (Brniště) | G26: 118
A27: 5. | B27: =div_C!$W$52 -> Svoboda Jan (49) (PINK!) | C27: 136 | E27: 5. | F27: =div_D!$W$52 -> Hrubý Daniel (86) (Víchová) | G27: 116
A28: 6. | B28: =IF(div_C!$W$53="3:0",div_C!$L$54,IF(div_C!$W$53="3:1",div_C!$L$54,IF(div_C!$W$53="3:2",div_C!$L$54,IF(div_C!$W$53="2:3",div_C!$L$50,IF(div_C!$W$53="1:3",div_C!$L$50,IF(div_C!$W$53="0:3",div_C!$L$50,"")))))) -> Maršík Ondřej (64) (KMST) | C28: 134 | E28: 6. | F28: =IF(div_D!$W$53="3:0",div_D!$L$54,IF(div_D!$W$53="3:1",div_D!$L$54,IF(div_D!$W$53="3:2",div_D!$L$54,IF(div_D!$W$53="2:3",div_D!$L$50,IF(div_D!$W$53="1:3",div_D!$L$50,IF(div_D!$W$53="0:3",div_D!$L$50,"")))))) -> Kyselová Angelika (73) (STAR) | G28: 114
A29: 7. | B29: =div_C!$W$64 -> Doubrava Matyáš (58) (PINK!) | C29: 132 | E29: 7. | F29: =div_D!$W$64 -> Horáčková Dorota (90) (STAR) | G29: 112
A30: 8. | B30: =IF(div_C!$W$65="3:0",div_C!$L$65,IF(div_C!$W$65="3:1",div_C!$L$65,IF(div_C!$W$65="3:2",div_C!$L$65,IF(div_C!$W$65="2:3",div_C!$L$63,IF(div_C!$W$65="1:3",div_C!$L$63,IF(div_C!$W$65="0:3",div_C!$L$63,"")))))) -> Hlubuček František (62) (N. Ves) | C30: 130 | E30: 8. | F30: =IF(div_D!$W$65="3:0",div_D!$L$65,IF(div_D!$W$65="3:1",div_D!$L$65,IF(div_D!$W$65="3:2",div_D!$L$65,IF(div_D!$W$65="2:3",div_D!$L$63,IF(div_D!$W$65="1:3",div_D!$L$63,IF(div_D!$W$65="0:3",div_D!$L$63,"")))))) -> Bartko David (101) (STAR) | G30: 110
A31: 9. | B31: =div_C!$W$80 -> Jaška Petr (60) (AST) | C31: 128 | E31: 9. | F31: =div_D!W80 -> Veselý Jakub (96) (ČL) | G31: 108
A32: 10. | B32: =IF(div_C!$W$81="3:0",div_C!W84,IF(div_C!$W$81="3:1",div_C!$W$84,IF(div_C!$W$81="3:2",div_C!$W$84,IF(div_C!$W$81="2:3",div_C!$W$76,IF(div_C!$W$81="1:3",div_C!$W$76,IF(div_C!$W$81="0:3",div_C!$W$76,"")))))) -> Harus Petr (59) (PINK!) | C32: 127 | E32: 10. | F32: =IF(div_D!$W$81="3:0",div_D!W84,IF(div_D!$W$81="3:1",div_D!$W$84,IF(div_D!$W$81="3:2",div_D!$W$84,IF(div_D!$W$81="2:3",div_D!$W$76,IF(div_D!$W$81="1:3",div_D!$W$76,IF(div_D!$W$81="0:3",div_D!$W$76,"")))))) -> Helebrant Aleš (89) (KMST) | G32: 107
A33: 11. | B33: =div_C!$W$100 -> Mach Jiří (77) (Víchová) | C33: 126 | E33: 11. | F33: =div_D!W100 -> Sadovskyi Yehor (94) (PINK!) | G33: 106
A34: 12. | B34: =IF(div_C!$W$101="3:0",div_C!$L$101,IF(div_C!$W$101="3:1",div_C!$L$101,IF(div_C!$W$101="3:2",div_C!$L$101,IF(div_C!$W$101="2:3",div_C!$L$99,IF(div_C!$W$101="1:3",div_C!$L$99,IF(div_C!$W$101="0:3",div_C!$L$99,"")))))) -> Šulc Adam (83) (PINK!) | C34: 125 | E34: 12. | F34: =IF(div_D!$W$101="3:0",div_D!$L$101,IF(div_D!$W$101="3:1",div_D!$L$101,IF(div_D!$W$101="3:2",div_D!$L$101,IF(div_D!$W$101="2:3",div_D!$L$99,IF(div_D!$W$101="1:3",div_D!$L$99,IF(div_D!$W$101="0:3",div_D!$L$99,"")))))) -> Skála Jan (116) (Bižu) | G34: 105
A35: 13. | B35: =div_C!$W$93 -> Moravec Matyáš (81) (KMST) | C35: 124 | E35: 13. | F35: =div_D!W93 -> Zahn Marek (80) (Bižu) | G35: 104
A36: 14. | B36: =IF(div_C!$W$94="3:0",div_C!$L$95,IF(div_C!$W$94="3:1",div_C!$L$95,IF(div_C!$W$94="3:2",div_C!$L$95,IF(div_C!$W$94="2:3",div_C!$L$91,IF(div_C!$W$94="1:3",div_C!$L$91,IF(div_C!$W$94="0:3",div_C!$L$91,"")))))) -> Dočekal František (79) (PINK!) | C36: 120 | E36: 14. | F36: =IF(div_D!$W$94="3:0",div_D!$L$95,IF(div_D!$W$94="3:1",div_D!$L$95,IF(div_D!$W$94="3:2",div_D!$L$95,IF(div_D!$W$94="2:3",div_D!$L$91,IF(div_D!$W$94="1:3",div_D!$L$91,IF(div_D!$W$94="0:3",div_D!$L$91,"")))))) -> Ešner Filip (88) (ČL) | G36: 100
A37: 15. | B37: =div_C!$W$105 -> Louda Štěpán (107) (STAR) | C37: 119 | E37: 15. | F37: =div_D!$W$105 -> Mařanová Alena (102) (N. Ves) | G37: 99
A38: 16. | B38: =IF(div_C!$W$106="3:0",div_C!$L$106,IF(div_C!$W$106="3:1",div_C!$L$106,IF(div_C!$W$106="3:2",div_C!$L$106,IF(div_C!$W$106="2:3",div_C!$L$104,IF(div_C!$W$106="1:3",div_C!$L$104,IF(div_C!$W$106="0:3",div_C!$L$104,"")))))) -> Bečková Adéla (75) (STAR) | C38: 118 | E38: 16. | F38: =IF(div_D!$W$106="3:0",div_D!$L$106,IF(div_D!$W$106="3:1",div_D!$L$106,IF(div_D!$W$106="3:2",div_D!$L$106,IF(div_D!$W$106="2:3",div_D!$L$104,IF(div_D!$W$106="1:3",div_D!$L$104,IF(div_D!$W$106="0:3",div_D!$L$104,"")))))) -> Šimík Max (97) (PINK!) | G38: 98
A40: Divize E | C40: body | E40: Divize F | G40: body
A41: 1. | B41: =div_E!$W$39 -> Fejtek Vojtěch (129) (Vesec) | C41: 104 | E41: 1. | F41: =div_F!$W$39 -> Zítko Roman (122) (Brniště) | G41: 84
A42: 2. | B42: =IF(div_E!$W$40="3:0",div_E!$W$43,IF(div_E!$W$40="3:1",div_E!$W$43,IF(div_E!$W$40="3:2",div_E!$W$43,IF(div_E!$W$40="2:3",div_E!$W$35,IF(div_E!$W$40="1:3",div_E!$W$35,IF(div_E!$W$40="0:3",div_E!$W$35,"")))))) -> Havlíček Adam (131) (Smržovka) | C42: 102 | E42: 2. | F42: =IF(div_F!$W$40="3:0",div_F!$W$43,IF(div_F!$W$40="3:1",div_F!$W$43,IF(div_F!$W$40="3:2",div_F!$W$43,IF(div_F!$W$40="2:3",div_F!$W$35,IF(div_F!$W$40="1:3",div_F!$W$35,IF(div_F!$W$40="0:3",div_F!$W$35,"")))))) -> Huk Pavel (148) (KMST) | G42: 82
A43: 3. | B43: =div_E!$W$59 -> Šárovec Patrik (134) (ČL) | C43: 100 | E43: 3. | F43: =div_F!$W$59 -> Kukal Vojtěch (152) (PINK!) | G43: 80
A44: 4. | B44: =IF(div_E!$W$60="3:0",div_E!$L$60,IF(div_E!$W$60="3:1",div_E!$L$60,IF(div_E!$W$60="3:2",div_E!$L$60,IF(div_E!$W$60="2:3",div_E!$L$58,IF(div_E!$W$60="1:3",div_E!$L$58,IF(div_E!$W$60="0:3",div_E!$L$58,"")))))) -> Vejvoda Sebastián (113) (PINK!) | C44: 98 | E44: 4. | F44: =IF(div_F!$W$60="3:0",div_F!$L$60,IF(div_F!$W$60="3:1",div_F!$L$60,IF(div_F!$W$60="3:2",div_F!$L$60,IF(div_F!$W$60="2:3",div_F!$L$58,IF(div_F!$W$60="1:3",div_F!$L$58,IF(div_F!$W$60="0:3",div_F!$L$58,"")))))) -> Mrázek Jakub (162) (ČL) | G44: 78
A45: 5. | B45: =div_E!$W$52 -> Vojtíšek Efe (120) (Smržovka) | C45: 96 | E45: 5. | F45: =div_F!$W$52 -> Široký Hubert (179) (Smržovka) | G45: 76
A46: 6. | B46: =IF(div_E!$W$53="3:0",div_E!$L$54,IF(div_E!$W$53="3:1",div_E!$L$54,IF(div_E!$W$53="3:2",div_E!$L$54,IF(div_E!$W$53="2:3",div_E!$L$50,IF(div_E!$W$53="1:3",div_E!$L$50,IF(div_E!$W$53="0:3",div_E!$L$50,"")))))) -> Dajčar Martin (106) (PINK!) | C46: 94 | E46: 6. | F46: =IF(div_F!$W$53="3:0",div_F!$L$54,IF(div_F!$W$53="3:1",div_F!$L$54,IF(div_F!$W$53="3:2",div_F!$L$54,IF(div_F!$W$53="2:3",div_F!$L$50,IF(div_F!$W$53="1:3",div_F!$L$50,IF(div_F!$W$53="0:3",div_F!$L$50,"")))))) -> Bidlo Šimon (149) (Bižu) | G46: 74
A47: 7. | B47: =div_E!$W$64 -> Pěničková Jana (115) (N. Ves) | C47: 92 | E47: 7. | F47: =div_F!$W$64 -> Kolář Daniel (156) (SKST) | G47: 72
A48: 8. | B48: =IF(div_E!$W$65="3:0",div_E!$L$65,IF(div_E!$W$65="3:1",div_E!$L$65,IF(div_E!$W$65="3:2",div_E!$L$65,IF(div_E!$W$65="2:3",div_E!$L$63,IF(div_E!$W$65="1:3",div_E!$L$63,IF(div_E!$W$65="0:3",div_E!$L$63,"")))))) -> Martiš Jakub (131) (KMST) | C48: 90 | E48: 8. | F48: =IF(div_F!$W$65="3:0",div_F!$L$65,IF(div_F!$W$65="3:1",div_F!$L$65,IF(div_F!$W$65="3:2",div_F!$L$65,IF(div_F!$W$65="2:3",div_F!$L$63,IF(div_F!$W$65="1:3",div_F!$L$63,IF(div_F!$W$65="0:3",div_F!$L$63,"")))))) -> Loukota Tomáš (167) (STAR) | G48: 70
A49: 9. | B49: =div_E!$W$80 -> Popov Martin (141) (PINK!) | C49: 88 | E49: 9. | F49: =div_F!$W$80 -> Sýkora Maximilian (172) (STAR) | G49: 68
A50: 10. | B50: =IF(div_E!$W$81="3:0",div_E!W84,IF(div_E!$W$81="3:1",div_E!$W$84,IF(div_E!$W$81="3:2",div_E!$W$84,IF(div_E!$W$81="2:3",div_E!$W$76,IF(div_E!$W$81="1:3",div_E!$W$76,IF(div_E!$W$81="0:3",div_E!$W$76,"")))))) -> Košnar Jakub (130) (Semily) | C50: 87 | E50: 10. | F50: =IF(div_F!$W$81="3:0",div_F!AA84,IF(div_F!$W$81="3:1",div_F!$W$84,IF(div_F!$W$81="3:2",div_F!$W$84,IF(div_F!$W$81="2:3",div_F!$W$76,IF(div_F!$W$81="1:3",div_F!$W$76,IF(div_F!$W$81="0:3",div_F!$W$76,"")))))) -> Brixi Adam (162) (SKST) | G50: 67
A51: 11. | B51: =div_E!$W$100 -> Martiš Jan (128) (KMST) | C51: 86 | E51: 11. | F51: =div_F!$W$100 -> Hušek Martin (153) (KMST) | G51: 66
A52: 12. | B52: =IF(div_E!$W$101="3:0",div_E!$L$101,IF(div_E!$W$101="3:1",div_E!$L$101,IF(div_E!$W$101="3:2",div_E!$L$101,IF(div_E!$W$101="2:3",div_E!$L$99,IF(div_E!$W$101="1:3",div_E!$L$99,IF(div_E!$W$101="0:3",div_E!$L$99,"")))))) -> Procházka Eduard (119) (Bižu) | C52: 85 | E52: 12. | F52: =IF(div_F!$W$101="3:0",div_F!$L$101,IF(div_F!$W$101="3:1",div_F!$L$101,IF(div_F!$W$101="3:2",div_F!$L$101,IF(div_F!$W$101="2:3",div_F!$L$99,IF(div_F!$W$101="1:3",div_F!$L$99,IF(div_F!$W$101="0:3",div_F!$L$99,"")))))) -> Liška Daniel (159) (PINK!) | G52: 65
A53: 13. | B53: =div_E!$W$93 -> Froněk Lukáš (140) (ST Fr.) | C53: 84 | E53: 13. | F53: =div_F!$W$93 -> Herčík Štěpán (165) (Smržovka) | G53: 64
A54: 14. | B54: =IF(div_E!$W$94="3:0",div_E!$L$95,IF(div_E!$W$94="3:1",div_E!$L$95,IF(div_E!$W$94="3:2",div_E!$L$95,IF(div_E!$W$94="2:3",div_E!$L$91,IF(div_E!$W$94="1:3",div_E!$L$91,IF(div_E!$W$94="0:3",div_E!$L$91,"")))))) -> Farský Jan (126) (PINK!) | C54: 80 | E54: 14. | F54: =IF(div_F!$W$94="3:0",div_F!$L$95,IF(div_F!$W$94="3:1",div_F!$L$95,IF(div_F!$W$94="3:2",div_F!$L$95,IF(div_F!$W$94="2:3",div_F!$L$91,IF(div_F!$W$94="1:3",div_F!$L$91,IF(div_F!$W$94="0:3",div_F!$L$91,"")))))) -> Rubeš Michal (161) (PINK!) | G54: 60
A55: 15. | B55: =div_E!$W$105 -> Tichá Amálie (137) (KMST) | C55: 79 | E55: 15. | F55: =div_F!$W$105 -> Černý Jakub (172) (Bižu) | G55: 59
A56: 16. | B56: =IF(div_E!$W$106="3:0",div_E!$L$106,IF(div_E!$W$106="3:1",div_E!$L$106,IF(div_E!$W$106="3:2",div_E!$L$106,IF(div_E!$W$106="2:3",div_E!$L$104,IF(div_E!$W$106="1:3",div_E!$L$104,IF(div_E!$W$106="0:3",div_E!$L$104,"")))))) -> Sluka Antonín (147) (PINK!) | C56: 78 | E56: 16. | F56: =IF(div_F!$W$106="3:0",div_F!$L$106,IF(div_F!$W$106="3:1",div_F!$L$106,IF(div_F!$W$106="3:2",div_F!$L$106,IF(div_F!$W$106="2:3",div_F!$L$104,IF(div_F!$W$106="1:3",div_F!$L$104,IF(div_F!$W$106="0:3",div_F!$L$104,"")))))) -> Turecký David (164) (PINK!) | G56: 58
A58: Divize G | C58: body | E58: Divize H | G58: body
A59: 1. | B59: =div_G!$W$39 -> Ott Michal (208) (Studenec) | E59: 1. | F59: =div_H!$W$39 -> Hylmar Filip (208) (Studenec)
A60: 2. | B60: =IF(div_G!$W$40="3:0",div_G!$W$43,IF(div_G!$W$40="3:1",div_G!$W$43,IF(div_G!$W$40="3:2",div_G!$W$43,IF(div_G!$W$40="2:3",div_G!$W$35,IF(div_G!$W$40="1:3",div_G!$W$35,IF(div_G!$W$40="0:3",div_G!$W$35,"")))))) -> Bulušek Jaromír (208) (Studenec) | E60: 2. | F60: =IF(div_H!$W$40="3:0",div_H!$W$43,IF(div_H!$W$40="3:1",div_H!$W$43,IF(div_H!$W$40="3:2",div_H!$W$43,IF(div_H!$W$40="2:3",div_H!$W$35,IF(div_H!$W$40="1:3",div_H!$W$35,IF(div_H!$W$40="0:3",div_H!$W$35,"")))))) -> Pavlů Darek (208) (KMST)
A61: 3. | B61: =div_G!$W$59 -> Novák Karel (208) (Studenec) | E61: 3. | F61: =div_H!$W$59 -> Procházka Tomáš (208) (N. Ves)
A62: 4. | B62: =IF(div_G!$W$60="3:0",div_G!$L$60,IF(div_G!$W$60="3:1",div_G!$L$60,IF(div_G!$W$60="3:2",div_G!$L$60,IF(div_G!$W$60="2:3",div_G!$L$58,IF(div_G!$W$60="1:3",div_G!$L$58,IF(div_G!$W$60="0:3",div_G!$L$58,"")))))) -> Skála Martin (208) (KMST) | E62: 4. | F62: =IF(div_H!$W$60="3:0",div_H!$L$60,IF(div_H!$W$60="3:1",div_H!$L$60,IF(div_H!$W$60="3:2",div_H!$L$60,IF(div_H!$W$60="2:3",div_H!$L$58,IF(div_H!$W$60="1:3",div_H!$L$58,IF(div_H!$W$60="0:3",div_H!$L$58,"")))))) -> Kverka Václav (208) (PINK!)
A63: 5. | B63: =div_G!$W$52 -> Böhm Ondřej (206) (Víchová) | E63: 5. | F63: =div_H!$W$52 -> Mařanová Adéla (208) (N. Ves)
A64: 6. | B64: =IF(div_G!$W$53="3:0",div_G!$L$54,IF(div_G!$W$53="3:1",div_G!$L$54,IF(div_G!$W$53="3:2",div_G!$L$54,IF(div_G!$W$53="2:3",div_G!$L$50,IF(div_G!$W$53="1:3",div_G!$L$50,IF(div_G!$W$53="0:3",div_G!$L$50,"")))))) -> Schlegel František (208) (KMST) | E64: 6. | F64: =IF(div_H!$W$53="3:0",div_H!$L$54,IF(div_H!$W$53="3:1",div_H!$L$54,IF(div_H!$W$53="3:2",div_H!$L$54,IF(div_H!$W$53="2:3",div_H!$L$50,IF(div_H!$W$53="1:3",div_H!$L$50,IF(div_H!$W$53="0:3",div_H!$L$50,"")))))) -> Schneider Pavel (208) (Semily)
A65: 7. | B65: =div_G!$W$64 -> Černý Vojtěch (208) (PINK!) | E65: 7. | F65: =div_H!$W$64 -> Johanová Ema (208) (PINK!)
A66: 8. | B66: =IF(div_G!$W$65="3:0",div_G!$L$65,IF(div_G!$W$65="3:1",div_G!$L$65,IF(div_G!$W$65="3:2",div_G!$L$65,IF(div_G!$W$65="2:3",div_G!$L$63,IF(div_G!$W$65="1:3",div_G!$L$63,IF(div_G!$W$65="0:3",div_G!$L$63,"")))))) -> Hušek Marek (190) (KMST) | E66: 8. | F66: =IF(div_H!$W$65="3:0",div_H!$L$65,IF(div_H!$W$65="3:1",div_H!$L$65,IF(div_H!$W$65="3:2",div_H!$L$65,IF(div_H!$W$65="2:3",div_H!$L$63,IF(div_H!$W$65="1:3",div_H!$L$63,IF(div_H!$W$65="0:3",div_H!$L$63,"")))))) -> Šachl Jan (208) (N. Ves)
A67: 9. | B67: =div_G!$W$80 -> Spilka Václav (194) (Víchová) | E67: 9. | F67: =div_H!$W$80 -> Kordík Filip (208) (KMST)
A68: 10. | B68: =IF(div_G!$W$81="3:0",div_G!W102,IF(div_G!$W$81="3:1",div_G!$W$84,IF(div_G!$W$81="3:2",div_G!$W$84,IF(div_G!$W$81="2:3",div_G!$W$76,IF(div_G!$W$81="1:3",div_G!$W$76,IF(div_G!$W$81="0:3",div_G!$W$76,"")))))) -> Fejfar Marek (182) (N. Ves) | E68: 10. | F68: =IF(div_H!$W$81="3:0",div_H!AA102,IF(div_H!$W$81="3:1",div_H!$W$84,IF(div_H!$W$81="3:2",div_H!$W$84,IF(div_H!$W$81="2:3",div_H!$W$76,IF(div_H!$W$81="1:3",div_H!$W$76,IF(div_H!$W$81="0:3",div_H!$W$76,"")))))) -> Huk Matyáš (208) (KMST)
A69: 11. | B69: =div_G!$W$100 -> Madiarii Maksym (208) (KMST) | E69: 11. | F69: =div_H!$W$100 -> Křemen Mikuláš (208) (SKST)
A70: 12. | B70: =IF(div_G!$W$101="3:0",div_G!$L$101,IF(div_G!$W$101="3:1",div_G!$L$101,IF(div_G!$W$101="3:2",div_G!$L$101,IF(div_G!$W$101="2:3",div_G!$L$99,IF(div_G!$W$101="1:3",div_G!$L$99,IF(div_G!$W$101="0:3",div_G!$L$99,"")))))) -> Urchgerová Mandukhai (208) (Ji KŠ) | E70: 12. | F70: =IF(div_H!$W$101="3:0",div_H!$L$101,IF(div_H!$W$101="3:1",div_H!$L$101,IF(div_H!$W$101="3:2",div_H!$L$101,IF(div_H!$W$101="2:3",div_H!$L$99,IF(div_H!$W$101="1:3",div_H!$L$99,IF(div_H!$W$101="0:3",div_H!$L$99,"")))))) -> Lukeš Daniel (208) (Semily)
A71: 13. | B71: =div_G!$W$93 -> Šikýř Daniel (191) (PINK!) | E71: 13. | F71: =div_H!$W$93 -> Křemen Štěpán (208) (SKST)
A72: 14. | B72: =IF(div_G!$W$94="3:0",div_G!$L$95,IF(div_G!$W$94="3:1",div_G!$L$95,IF(div_G!$W$94="3:2",div_G!$L$95,IF(div_G!$W$94="2:3",div_G!$L$91,IF(div_G!$W$94="1:3",div_G!$L$91,IF(div_G!$W$94="0:3",div_G!$L$91,"")))))) -> Pešková Adéla (208) (PINK!) | E72: 14. | F72: =IF(div_H!$W$94="3:0",div_H!$L$95,IF(div_H!$W$94="3:1",div_H!$L$95,IF(div_H!$W$94="3:2",div_H!$L$95,IF(div_H!$W$94="2:3",div_H!$L$91,IF(div_H!$W$94="1:3",div_H!$L$91,IF(div_H!$W$94="0:3",div_H!$L$91,"")))))) -> Zemánek Adam (208) (Semily)
A73: 15. | B73: =div_G!$W$105 -> Lamberský Petr (208) (KMST) | E73: 15. | F73: =div_H!$W$105 -> Keller Matyáš (208) (KMST)
A74: 16. | B74: =IF(div_G!$W$106="3:0",div_G!$L$106,IF(div_G!$W$106="3:1",div_G!$L$106,IF(div_G!$W$106="3:2",div_G!$L$106,IF(div_G!$W$106="2:3",div_G!$L$104,IF(div_G!$W$106="1:3",div_G!$L$104,IF(div_G!$W$106="0:3",div_G!$L$104,"")))))) -> Pelikán Ryan (208) (Vesec) | E74: 16. | F74: =IF(div_H!$W$106="3:0",div_H!$L$106,IF(div_H!$W$106="3:1",div_H!$L$106,IF(div_H!$W$106="3:2",div_H!$L$106,IF(div_H!$W$106="2:3",div_H!$L$104,IF(div_H!$W$106="1:3",div_H!$L$104,IF(div_H!$W$106="0:3",div_H!$L$104,""))))))

Sheet vypocet
B1: =A18 -> Hrac 1 | C1: =A19 -> Hrac 2 | D1: =A20 -> Hrac 3
A2: =CONCATENATE(B1," : ",C1) -> Hrac 1 : Hrac 2
A7: =CONCATENATE(B1," : ",D1) -> Hrac 1 : Hrac 3
A12: =CONCATENATE(C1," : ",D1) -> Hrac 2 : Hrac 3
A18: Hrac 1 | B18: =SUM(B2:B11) -> 0 | C18: =SUM(C2:C6)+SUM(D7:D11) -> 0 | D18: =IF(AND(B18>0,C18>0),B18/C18,0) -> 0
A19: Hrac 2 | B19: =SUM(C2:C16) -> 0 | C19: =SUM(B2:B6)+SUM(D12:D16) -> 0 | D19: =IF(AND(B19>0,C19>0),B19/C19,0) -> 0
A20: Hrac 3 | B20: =SUM(D7:D16) -> 0 | C20: =SUM(B7:B11)+SUM(D12:D16) -> 0 | D20: =IF(AND(B20>0,C20>0),B20/C20,0) -> 0

Sheet seznam
A2: 1 | B2: 70703 | C2: Wolf | D2: Filip | E2: 2008 | F2: PINK! Liberec | G2: LB | H2: U19 | I2: ch | J2: =IFS(F2="PINK! Liberec","PINK!",F2="Sokol Turnov","Turnov",F2="Jiskra Kam.Šenov","Ji KŠ",F2="Jiskra Nový Bor","NB",F2="SKST Liberec","SKST",F2="STAR Turnov","STAR",F2="TTC Jablonec","TTC J.",F2="ST Frýdlant","ST Fr.",F2="KMST Liberec","KMST",F2="B. Jablonec n. N.","Bižu",F2="Loko Česká Lípa","ČL",F2="-","-",F2="AST K. Šenov","AST",F2="Spartak Chrastava","Chrast.", F2="TTC Hrádek n. N.","Hrádek",F2="Jablonec n. J.","JnJ",F2="Nová Ves","N. Ves",F2="Jablonné v P.","Jablonné",F2="Sokol Víchová","Víchová",F2="Spartak Smržovka","Smržovka",F2="TJ Zákupy","Zákupy",F2="B. Jablonec n. N.","Bižu",F2="Semily","Semily",F2="Víchová","Víchová",F2="Vesec","Vesec",F2="Smržovka","Smržovka",F2="ST Brniště","Brniště",F2="Studenec u Horek","Studenec") -> PINK! | K2: =CONCATENATE(C2," ",D2," ",CHAR(40),A2,CHAR(41)," ",CHAR(40),J2,CHAR(41)) -> Wolf Filip (1) (PINK!)
A3: 2 | B3: 78725 | C3: Nypl | D3: Patrik | E3: 2009 | F3: B. Jablonec n. N. | G3: LB | H3: U17 | I3: ch | J3: =IFS(F3="PINK! Liberec","PINK!",F3="Sokol Turnov","Turnov",F3="Jiskra Kam.Šenov","Ji KŠ",F3="Jiskra Nový Bor","NB",F3="SKST Liberec","SKST",F3="STAR Turnov","STAR",F3="TTC Jablonec","TTC J.",F3="ST Frýdlant","ST Fr.",F3="KMST Liberec","KMST",F3="B. Jablonec n. N.","Bižu",F3="Loko Česká Lípa","ČL",F3="-","-",F3="AST K. Šenov","AST",F3="Spartak Chrastava","Chrast.", F3="TTC Hrádek n. N.","Hrádek",F3="Jablonec n. J.","JnJ",F3="Nová Ves","N. Ves",F3="Jablonné v P.","Jablonné",F3="Sokol Víchová","Víchová",F3="Spartak Smržovka","Smržovka",F3="TJ Zákupy","Zákupy",F3="B. Jablonec n. N.","Bižu",F3="Semily","Semily",F3="Víchová","Víchová",F3="Vesec","Vesec",F3="Smržovka","Smržovka",F3="ST Brniště","Brniště",F3="Studenec u Horek","Studenec") -> Bižu | K3: =CONCATENATE(C3," ",D3," ",CHAR(40),A3,CHAR(41)," ",CHAR(40),J3,CHAR(41)) -> Nypl Patrik (2) (Bižu)
A4: 3 | B4: 84837 | C4: Jungman | D4: Filip | E4: 2008 | F4: PINK! Liberec | G4: LB | H4: U19 | I4: ch | J4: =IFS(F4="PINK! Liberec","PINK!",F4="Sokol Turnov","Turnov",F4="Jiskra Kam.Šenov","Ji KŠ",F4="Jiskra Nový Bor","NB",F4="SKST Liberec","SKST",F4="STAR Turnov","STAR",F4="TTC Jablonec","TTC J.",F4="ST Frýdlant","ST Fr.",F4="KMST Liberec","KMST",F4="B. Jablonec n. N.","Bižu",F4="Loko Česká Lípa","ČL",F4="-","-",F4="AST K. Šenov","AST",F4="Spartak Chrastava","Chrast.", F4="TTC Hrádek n. N.","Hrádek",F4="Jablonec n. J.","JnJ",F4="Nová Ves","N. Ves",F4="Jablonné v P.","Jablonné",F4="Sokol Víchová","Víchová",F4="Spartak Smržovka","Smržovka",F4="TJ Zákupy","Zákupy",F4="B. Jablonec n. N.","Bižu",F4="Semily","Semily",F4="Víchová","Víchová",F4="Vesec","Vesec",F4="Smržovka","Smržovka",F4="ST Brniště","Brniště",F4="Studenec u Horek","Studenec") -> PINK! | K4: =CONCATENATE(C4," ",D4," ",CHAR(40),A4,CHAR(41)," ",CHAR(40),J4,CHAR(41)) -> Jungman Filip (3) (PINK!)
A5: 3 | B5: 81285 | C5: Jungmann | D5: Matěj | E5: 2012 | F5: SKST Liberec | G5: LB | H5: U15 | I5: ch | J5: =IFS(F5="PINK! Liberec","PINK!",F5="Sokol Turnov","Turnov",F5="Jiskra Kam.Šenov","Ji KŠ",F5="Jiskra Nový Bor","NB",F5="SKST Liberec","SKST",F5="STAR Turnov","STAR",F5="TTC Jablonec","TTC J.",F5="ST Frýdlant","ST Fr.",F5="KMST Liberec","KMST",F5="B. Jablonec n. N.","Bižu",F5="Loko Česká Lípa","ČL",F5="-","-",F5="AST K. Šenov","AST",F5="Spartak Chrastava","Chrast.", F5="TTC Hrádek n. N.","Hrádek",F5="Jablonec n. J.","JnJ",F5="Nová Ves","N. Ves",F5="Jablonné v P.","Jablonné",F5="Sokol Víchová","Víchová",F5="Spartak Smržovka","Smržovka",F5="TJ Zákupy","Zákupy",F5="B. Jablonec n. N.","Bižu",F5="Semily","Semily",F5="Víchová","Víchová",F5="Vesec","Vesec",F5="Smržovka","Smržovka",F5="ST Brniště","Brniště",F5="Studenec u Horek","Studenec") -> SKST | K5: =CONCATENATE(C5," ",D5," ",CHAR(40),A5,CHAR(41)," ",CHAR(40),J5,CHAR(41)) -> Jungmann Matěj (3) (SKST)
A6: 5 | B6: 71105 | C6: Csizmazia | D6: Antonín | E6: 2011 | F6: SKST Liberec | G6: LB | H6: U15 | I6: ch | J6: =IFS(F6="PINK! Liberec","PINK!",F6="Sokol Turnov","Turnov",F6="Jiskra Kam.Šenov","Ji KŠ",F6="Jiskra Nový Bor","NB",F6="SKST Liberec","SKST",F6="STAR Turnov","STAR",F6="TTC Jablonec","TTC J.",F6="ST Frýdlant","ST Fr.",F6="KMST Liberec","KMST",F6="B. Jablonec n. N.","Bižu",F6="Loko Česká Lípa","ČL",F6="-","-",F6="AST K. Šenov","AST",F6="Spartak Chrastava","Chrast.", F6="TTC Hrádek n. N.","Hrádek",F6="Jablonec n. J.","JnJ",F6="Nová Ves","N. Ves",F6="Jablonné v P.","Jablonné",F6="Sokol Víchová","Víchová",F6="Spartak Smržovka","Smržovka",F6="TJ Zákupy","Zákupy",F6="B. Jablonec n. N.","Bižu",F6="Semily","Semily",F6="Víchová","Víchová",F6="Vesec","Vesec",F6="Smržovka","Smržovka",F6="ST Brniště","Brniště",F6="Studenec u Horek","Studenec") -> SKST | K6: =CONCATENATE(C6," ",D6," ",CHAR(40),A6,CHAR(41)," ",CHAR(40),J6,CHAR(41)) -> Csizmazia Antonín (5) (SKST)
A7: 6 | B7: 87062 | C7: Polívka | D7: Matyáš | E7: 2012 | F7: PINK! Liberec | G7: LB | H7: U15 | I7: ch | J7: =IFS(F7="PINK! Liberec","PINK!",F7="Sokol Turnov","Turnov",F7="Jiskra Kam.Šenov","Ji KŠ",F7="Jiskra Nový Bor","NB",F7="SKST Liberec","SKST",F7="STAR Turnov","STAR",F7="TTC Jablonec","TTC J.",F7="ST Frýdlant","ST Fr.",F7="KMST Liberec","KMST",F7="B. Jablonec n. N.","Bižu",F7="Loko Česká Lípa","ČL",F7="-","-",F7="AST K. Šenov","AST",F7="Spartak Chrastava","Chrast.", F7="TTC Hrádek n. N.","Hrádek",F7="Jablonec n. J.","JnJ",F7="Nová Ves","N. Ves",F7="Jablonné v P.","Jablonné",F7="Sokol Víchová","Víchová",F7="Spartak Smržovka","Smržovka",F7="TJ Zákupy","Zákupy",F7="B. Jablonec n. N.","Bižu",F7="Semily","Semily",F7="Víchová","Víchová",F7="Vesec","Vesec",F7="Smržovka","Smržovka",F7="ST Brniště","Brniště",F7="Studenec u Horek","Studenec") -> PINK! | K7: =CONCATENATE(C7," ",D7," ",CHAR(40),A7,CHAR(41)," ",CHAR(40),J7,CHAR(41)) -> Polívka Matyáš (6) (PINK!)
A8: 7 | B8: 77686 | C8: Němec | D8: Štěpán | E8: 2008 | F8: SKST Liberec | G8: LB | H8: U19 | I8: ch | J8: =IFS(F8="PINK! Liberec","PINK!",F8="Sokol Turnov","Turnov",F8="Jiskra Kam.Šenov","Ji KŠ",F8="Jiskra Nový Bor","NB",F8="SKST Liberec","SKST",F8="STAR Turnov","STAR",F8="TTC Jablonec","TTC J.",F8="ST Frýdlant","ST Fr.",F8="KMST Liberec","KMST",F8="B. Jablonec n. N.","Bižu",F8="Loko Česká Lípa","ČL",F8="-","-",F8="AST K. Šenov","AST",F8="Spartak Chrastava","Chrast.", F8="TTC Hrádek n. N.","Hrádek",F8="Jablonec n. J.","JnJ",F8="Nová Ves","N. Ves",F8="Jablonné v P.","Jablonné",F8="Sokol Víchová","Víchová",F8="Spartak Smržovka","Smržovka",F8="TJ Zákupy","Zákupy",F8="B. Jablonec n. N.","Bižu",F8="Semily","Semily",F8="Víchová","Víchová",F8="Vesec","Vesec",F8="Smržovka","Smržovka",F8="ST Brniště","Brniště",F8="Studenec u Horek","Studenec") -> SKST | K8: =CONCATENATE(C8," ",D8," ",CHAR(40),A8,CHAR(41)," ",CHAR(40),J8,CHAR(41)) -> Němec Štěpán (7) (SKST)
A9: 8 | B9: 75906 | C9: Perlík | D9: Josef | E9: 2011 | F9: SKST Liberec | G9: LB | H9: U15 | I9: ch | J9: =IFS(F9="PINK! Liberec","PINK!",F9="Sokol Turnov","Turnov",F9="Jiskra Kam.Šenov","Ji KŠ",F9="Jiskra Nový Bor","NB",F9="SKST Liberec","SKST",F9="STAR Turnov","STAR",F9="TTC Jablonec","TTC J.",F9="ST Frýdlant","ST Fr.",F9="KMST Liberec","KMST",F9="B. Jablonec n. N.","Bižu",F9="Loko Česká Lípa","ČL",F9="-","-",F9="AST K. Šenov","AST",F9="Spartak Chrastava","Chrast.", F9="TTC Hrádek n. N.","Hrádek",F9="Jablonec n. J.","JnJ",F9="Nová Ves","N. Ves",F9="Jablonné v P.","Jablonné",F9="Sokol Víchová","Víchová",F9="Spartak Smržovka","Smržovka",F9="TJ Zákupy","Zákupy",F9="B. Jablonec n. N.","Bižu",F9="Semily","Semily",F9="Víchová","Víchová",F9="Vesec","Vesec",F9="Smržovka","Smržovka",F9="ST Brniště","Brniště",F9="Studenec u Horek","Studenec") -> SKST | K9: =CONCATENATE(C9," ",D9," ",CHAR(40),A9,CHAR(41)," ",CHAR(40),J9,CHAR(41)) -> Perlík Josef (8) (SKST)
A10: 9 | B10: 85009 | C10: Tuma | D10: Theodor | E10: 2012 | F10: PINK! Liberec | G10: LB | H10: U15 | I10: ch | J10: =IFS(F10="PINK! Liberec","PINK!",F10="Sokol Turnov","Turnov",F10="Jiskra Kam.Šenov","Ji KŠ",F10="Jiskra Nový Bor","NB",F10="SKST Liberec","SKST",F10="STAR Turnov","STAR",F10="TTC Jablonec","TTC J.",F10="ST Frýdlant","ST Fr.",F10="KMST Liberec","KMST",F10="B. Jablonec n. N.","Bižu",F10="Loko Česká Lípa","ČL",F10="-","-",F10="AST K. Šenov","AST",F10="Spartak Chrastava","Chrast.", F10="TTC Hrádek n. N.","Hrádek",F10="Jablonec n. J.","JnJ",F10="Nová Ves","N. Ves",F10="Jablonné v P.","Jablonné",F10="Sokol Víchová","Víchová",F10="Spartak Smržovka","Smržovka",F10="TJ Zákupy","Zákupy",F10="B. Jablonec n. N.","Bižu",F10="Semily","Semily",F10="Víchová","Víchová",F10="Vesec","Vesec",F10="Smržovka","Smržovka",F10="ST Brniště","Brniště",F10="Studenec u Horek","Studenec") -> PINK! | K10: =CONCATENATE(C10," ",D10," ",CHAR(40),A10,CHAR(41)," ",CHAR(40),J10,CHAR(41)) -> Tuma Theodor (9) (PINK!)
A11: 10 | B11: 84556 | C11: Vít | D11: Josef | E11: 2010 | F11: SKST Liberec | G11: LB | H11: U17 | I11: ch | J11: =IFS(F11="PINK! Liberec","PINK!",F11="Sokol Turnov","Turnov",F11="Jiskra Kam.Šenov","Ji KŠ",F11="Jiskra Nový Bor","NB",F11="SKST Liberec","SKST",F11="STAR Turnov","STAR",F11="TTC Jablonec","TTC J.",F11="ST Frýdlant","ST Fr.",F11="KMST Liberec","KMST",F11="B. Jablonec n. N.","Bižu",F11="Loko Česká Lípa","ČL",F11="-","-",F11="AST K. Šenov","AST",F11="Spartak Chrastava","Chrast.", F11="TTC Hrádek n. N.","Hrádek",F11="Jablonec n. J.","JnJ",F11="Nová Ves","N. Ves",F11="Jablonné v P.","Jablonné",F11="Sokol Víchová","Víchová",F11="Spartak Smržovka","Smržovka",F11="TJ Zákupy","Zákupy",F11="B. Jablonec n. N.","Bižu",F11="Semily","Semily",F11="Víchová","Víchová",F11="Vesec","Vesec",F11="Smržovka","Smržovka",F11="ST Brniště","Brniště",F11="Studenec u Horek","Studenec") -> SKST | K11: =CONCATENATE(C11," ",D11," ",CHAR(40),A11,CHAR(41)," ",CHAR(40),J11,CHAR(41)) -> Vít Josef (10) (SKST)
A12: 11 | B12: 81434 | C12: Holubová | D12: Barbora | E12: 2010 | F12: STAR Turnov | G12: LB | H12: U17 | I12: ch | J12: =IFS(F12="PINK! Liberec","PINK!",F12="Sokol Turnov","Turnov",F12="Jiskra Kam.Šenov","Ji KŠ",F12="Jiskra Nový Bor","NB",F12="SKST Liberec","SKST",F12="STAR Turnov","STAR",F12="TTC Jablonec","TTC J.",F12="ST Frýdlant","ST Fr.",F12="KMST Liberec","KMST",F12="B. Jablonec n. N.","Bižu",F12="Loko Česká Lípa","ČL",F12="-","-",F12="AST K. Šenov","AST",F12="Spartak Chrastava","Chrast.", F12="TTC Hrádek n. N.","Hrádek",F12="Jablonec n. J.","JnJ",F12="Nová Ves","N. Ves",F12="Jablonné v P.","Jablonné",F12="Sokol Víchová","Víchová",F12="Spartak Smržovka","Smržovka",F12="TJ Zákupy","Zákupy",F12="B. Jablonec n. N.","Bižu",F12="Semily","Semily",F12="Víchová","Víchová",F12="Vesec","Vesec",F12="Smržovka","Smržovka",F12="ST Brniště","Brniště",F12="Studenec u Horek","Studenec") -> STAR | K12: =CONCATENATE(C12," ",D12," ",CHAR(40),A12,CHAR(41)," ",CHAR(40),J12,CHAR(41)) -> Holubová Barbora (11) (STAR)
A13: 12 | B13: 76156 | C13: Čupcová | D13: Viktorie | E13: 2009 | F13: SKST Liberec | G13: LB | H13: U17 | I13: ch | J13: =IFS(F13="PINK! Liberec","PINK!",F13="Sokol Turnov","Turnov",F13="Jiskra Kam.Šenov","Ji KŠ",F13="Jiskra Nový Bor","NB",F13="SKST Liberec","SKST",F13="STAR Turnov","STAR",F13="TTC Jablonec","TTC J.",F13="ST Frýdlant","ST Fr.",F13="KMST Liberec","KMST",F13="B. Jablonec n. N.","Bižu",F13="Loko Česká Lípa","ČL",F13="-","-",F13="AST K. Šenov","AST",F13="Spartak Chrastava","Chrast.", F13="TTC Hrádek n. N.","Hrádek",F13="Jablonec n. J.","JnJ",F13="Nová Ves","N. Ves",F13="Jablonné v P.","Jablonné",F13="Sokol Víchová","Víchová",F13="Spartak Smržovka","Smržovka",F13="TJ Zákupy","Zákupy",F13="B. Jablonec n. N.","Bižu",F13="Semily","Semily",F13="Víchová","Víchová",F13="Vesec","Vesec",F13="Smržovka","Smržovka",F13="ST Brniště","Brniště",F13="Studenec u Horek","Studenec") -> SKST | K13: =CONCATENATE(C13," ",D13," ",CHAR(40),A13,CHAR(41)," ",CHAR(40),J13,CHAR(41)) -> Čupcová Viktorie (12) (SKST)
... A159: 158 | B159: 89375 | C159: Poláková | D159: Alice | E159: 2013 | F159: KMST Liberec | G159: LB | H159: U13 | I159: ch | J159: =IFS(F159="PINK! Liberec","PINK!",F159="Sokol Turnov","Turnov",F159="Jiskra Kam.Šenov","Ji KŠ",F159="Jiskra Nový Bor","NB",F159="SKST Liberec","SKST",F159="STAR Turnov","STAR",F159="TTC Jablonec","TTC J.",F159="ST Frýdlant","ST Fr.",F159="KMST Liberec","KMST",F159="B. Jablonec n. N.","Bižu",F159="Loko Česká Lípa","ČL",F159="-","-",F159="AST K. Šenov","AST",F159="Spartak Chrastava","Chrast.", F159="TTC Hrádek n. N.","Hrádek",F159="Jablonec n. J.","JnJ",F159="Nová Ves","N. Ves",F159="Jablonné v P.","Jablonné",F159="Sokol Víchová","Víchová",F159="Spartak Smržovka","Smržovka",F159="TJ Zákupy","Zákupy",F159="B. Jablonec n. N.","Bižu",F159="Semily","Semily",F159="Víchová","Víchová",F159="Vesec","Vesec",F159="Smržovka","Smržovka",F159="ST Brniště","Brniště",F159="Studenec u Horek","Studenec") -> KMST | K159: =CONCATENATE(C159," ",D159," ",CHAR(40),A159,CHAR(41)," ",CHAR(40),J159,CHAR(41)) -> Poláková Alice (158) (KMST)
A160: 159 | B160: - | C160: Liška | D160: Daniel | E160: 2012 | F160: PINK! Liberec | G160: LB | H160: U15 | I160: ch | J160: =IFS(F160="PINK! Liberec","PINK!",F160="Sokol Turnov","Turnov",F160="Jiskra Kam.Šenov","Ji KŠ",F160="Jiskra Nový Bor","NB",F160="SKST Liberec","SKST",F160="STAR Turnov","STAR",F160="TTC Jablonec","TTC J.",F160="ST Frýdlant","ST Fr.",F160="KMST Liberec","KMST",F160="B. Jablonec n. N.","Bižu",F160="Loko Česká Lípa","ČL",F160="-","-",F160="AST K. Šenov","AST",F160="Spartak Chrastava","Chrast.", F160="TTC Hrádek n. N.","Hrádek",F160="Jablonec n. J.","JnJ",F160="Nová Ves","N. Ves",F160="Jablonné v P.","Jablonné",F160="Sokol Víchová","Víchová",F160="Spartak Smržovka","Smržovka",F160="TJ Zákupy","Zákupy",F160="B. Jablonec n. N.","Bižu",F160="Semily","Semily",F160="Víchová","Víchová",F160="Vesec","Vesec",F160="Smržovka","Smržovka",F160="ST Brniště","Brniště",F160="Studenec u Horek","Studenec") -> PINK! | K160: =CONCATENATE(C160," ",D160," ",CHAR(40),A160,CHAR(41)," ",CHAR(40),J160,CHAR(41)) -> Liška Daniel (159) (PINK!)
A161: 160 | B161: 86533 | C161: Valachová | D161: Anna | E161: 2013 | F161: KMST Liberec | G161: LB | H161: U13 | I161: ch | J161: =IFS(F161="PINK! Liberec","PINK!",F161="Sokol Turnov","Turnov",F161="Jiskra Kam.Šenov","Ji KŠ",F161="Jiskra Nový Bor","NB",F161="SKST Liberec","SKST",F161="STAR Turnov","STAR",F161="TTC Jablonec","TTC J.",F161="ST Frýdlant","ST Fr.",F161="KMST Liberec","KMST",F161="B. Jablonec n. N.","Bižu",F161="Loko Česká Lípa","ČL",F161="-","-",F161="AST K. Šenov","AST",F161="Spartak Chrastava","Chrast.", F161="TTC Hrádek n. N.","Hrádek",F161="Jablonec n. J.","JnJ",F161="Nová Ves","N. Ves",F161="Jablonné v P.","Jablonné",F161="Sokol Víchová","Víchová",F161="Spartak Smržovka","Smržovka",F161="TJ Zákupy","Zákupy",F161="B. Jablonec n. N.","Bižu",F161="Semily","Semily",F161="Víchová","Víchová",F161="Vesec","Vesec",F161="Smržovka","Smržovka",F161="ST Brniště","Brniště",F161="Studenec u Horek","Studenec") -> KMST | K161: =CONCATENATE(C161," ",D161," ",CHAR(40),A161,CHAR(41)," ",CHAR(40),J161,CHAR(41)) -> Valachová Anna (160) (KMST)
A162: 161 | B162: 92204 | C162: Rubeš | D162: Michal | E162: 2012 | F162: PINK! Liberec | G162: LB | H162: U15 | I162: ch | J162: =IFS(F162="PINK! Liberec","PINK!",F162="Sokol Turnov","Turnov",F162="Jiskra Kam.Šenov","Ji KŠ",F162="Jiskra Nový Bor","NB",F162="SKST Liberec","SKST",F162="STAR Turnov","STAR",F162="TTC Jablonec","TTC J.",F162="ST Frýdlant","ST Fr.",F162="KMST Liberec","KMST",F162="B. Jablonec n. N.","Bižu",F162="Loko Česká Lípa","ČL",F162="-","-",F162="AST K. Šenov","AST",F162="Spartak Chrastava","Chrast.", F162="TTC Hrádek n. N.","Hrádek",F162="Jablonec n. J.","JnJ",F162="Nová Ves","N. Ves",F162="Jablonné v P.","Jablonné",F162="Sokol Víchová","Víchová",F162="Spartak Smržovka","Smržovka",F162="TJ Zákupy","Zákupy",F162="B. Jablonec n. N.","Bižu",F162="Semily","Semily",F162="Víchová","Víchová",F162="Vesec","Vesec",F162="Smržovka","Smržovka",F162="ST Brniště","Brniště",F162="Studenec u Horek","Studenec") -> PINK! | K162: =CONCATENATE(C162," ",D162," ",CHAR(40),A162,CHAR(41)," ",CHAR(40),J162,CHAR(41)) -> Rubeš Michal (161) (PINK!)
A163: 162 | B163: 79102 | C163: Brixi | D163: Adam | E163: 2012 | F163: SKST Liberec | G163: LB | H163: U15 | I163: ch | J163: =IFS(F163="PINK! Liberec","PINK!",F163="Sokol Turnov","Turnov",F163="Jiskra Kam.Šenov","Ji KŠ",F163="Jiskra Nový Bor","NB",F163="SKST Liberec","SKST",F163="STAR Turnov","STAR",F163="TTC Jablonec","TTC J.",F163="ST Frýdlant","ST Fr.",F163="KMST Liberec","KMST",F163="B. Jablonec n. N.","Bižu",F163="Loko Česká Lípa","ČL",F163="-","-",F163="AST K. Šenov","AST",F163="Spartak Chrastava","Chrast.", F163="TTC Hrádek n. N.","Hrádek",F163="Jablonec n. J.","JnJ",F163="Nová Ves","N. Ves",F163="Jablonné v P.","Jablonné",F163="Sokol Víchová","Víchová",F163="Spartak Smržovka","Smržovka",F163="TJ Zákupy","Zákupy",F163="B. Jablonec n. N.","Bižu",F163="Semily","Semily",F163="Víchová","Víchová",F163="Vesec","Vesec",F163="Smržovka","Smržovka",F163="ST Brniště","Brniště",F163="Studenec u Horek","Studenec") -> SKST | K163: =CONCATENATE(C163," ",D163," ",CHAR(40),A163,CHAR(41)," ",CHAR(40),J163,CHAR(41)) -> Brixi Adam (162) (SKST)
A164: 162 | B164: 92567 | C164: Mrázek | D164: Jakub | E164: 2013 | F164: Loko Česká Lípa | G164: LB | H164: U13 | I164: ch | J164: =IFS(F164="PINK! Liberec","PINK!",F164="Sokol Turnov","Turnov",F164="Jiskra Kam.Šenov","Ji KŠ",F164="Jiskra Nový Bor","NB",F164="SKST Liberec","SKST",F164="STAR Turnov","STAR",F164="TTC Jablonec","TTC J.",F164="ST Frýdlant","ST Fr.",F164="KMST Liberec","KMST",F164="B. Jablonec n. N.","Bižu",F164="Loko Česká Lípa","ČL",F164="-","-",F164="AST K. Šenov","AST",F164="Spartak Chrastava","Chrast.", F164="TTC Hrádek n. N.","Hrádek",F164="Jablonec n. J.","JnJ",F164="Nová Ves","N. Ves",F164="Jablonné v P.","Jablonné",F164="Sokol Víchová","Víchová",F164="Spartak Smržovka","Smržovka",F164="TJ Zákupy","Zákupy",F164="B. Jablonec n. N.","Bižu",F164="Semily","Semily",F164="Víchová","Víchová",F164="Vesec","Vesec",F164="Smržovka","Smržovka",F164="ST Brniště","Brniště",F164="Studenec u Horek","Studenec") -> ČL | K164: =CONCATENATE(C164," ",D164," ",CHAR(40),A164,CHAR(41)," ",CHAR(40),J164,CHAR(41)) -> Mrázek Jakub (162) (ČL)
A165: 164 | B165: 88870 | C165: Turecký | D165: David | E165: 2017 | F165: PINK! Liberec | G165: LB | H165: U11 | I165: ch | J165: =IFS(F165="PINK! Liberec","PINK!",F165="Sokol Turnov","Turnov",F165="Jiskra Kam.Šenov","Ji KŠ",F165="Jiskra Nový Bor","NB",F165="SKST Liberec","SKST",F165="STAR Turnov","STAR",F165="TTC Jablonec","TTC J.",F165="ST Frýdlant","ST Fr.",F165="KMST Liberec","KMST",F165="B. Jablonec n. N.","Bižu",F165="Loko Česká Lípa","ČL",F165="-","-",F165="AST K. Šenov","AST",F165="Spartak Chrastava","Chrast.", F165="TTC Hrádek n. N.","Hrádek",F165="Jablonec n. J.","JnJ",F165="Nová Ves","N. Ves",F165="Jablonné v P.","Jablonné",F165="Sokol Víchová","Víchová",F165="Spartak Smržovka","Smržovka",F165="TJ Zákupy","Zákupy",F165="B. Jablonec n. N.","Bižu",F165="Semily","Semily",F165="Víchová","Víchová",F165="Vesec","Vesec",F165="Smržovka","Smržovka",F165="ST Brniště","Brniště",F165="Studenec u Horek","Studenec") -> PINK! | K165: =CONCATENATE(C165," ",D165," ",CHAR(40),A165,CHAR(41)," ",CHAR(40),J165,CHAR(41)) -> Turecký David (164) (PINK!)
A166: 165 | B166: 92614 | C166: Herčík | D166: Štěpán | E166: 2015 | F166: Smržovka | G166: LB | H166: U11 | I166: ch | J166: =IFS(F166="PINK! Liberec","PINK!",F166="Sokol Turnov","Turnov",F166="Jiskra Kam.Šenov","Ji KŠ",F166="Jiskra Nový Bor","NB",F166="SKST Liberec","SKST",F166="STAR Turnov","STAR",F166="TTC Jablonec","TTC J.",F166="ST Frýdlant","ST Fr.",F166="KMST Liberec","KMST",F166="B. Jablonec n. N.","Bižu",F166="Loko Česká Lípa","ČL",F166="-","-",F166="AST K. Šenov","AST",F166="Spartak Chrastava","Chrast.", F166="TTC Hrádek n. N.","Hrádek",F166="Jablonec n. J.","JnJ",F166="Nová Ves","N. Ves",F166="Jablonné v P.","Jablonné",F166="Sokol Víchová","Víchová",F166="Spartak Smržovka","Smržovka",F166="TJ Zákupy","Zákupy",F166="B. Jablonec n. N.","Bižu",F166="Semily","Semily",F166="Víchová","Víchová",F166="Vesec","Vesec",F166="Smržovka","Smržovka",F166="ST Brniště","Brniště",F166="Studenec u Horek","Studenec") -> Smržovka | K166: =CONCATENATE(C166," ",D166," ",CHAR(40),A166,CHAR(41)," ",CHAR(40),J166,CHAR(41)) -> Herčík Štěpán (165) (Smržovka)
A167: 166 | B167: 90998 | C167: Zasche | D167: Josef | E167: 2011 | F167: B. Jablonec n. N. | G167: LB | H167: U15 | I167: ch | J167: =IFS(F167="PINK! Liberec","PINK!",F167="Sokol Turnov","Turnov",F167="Jiskra Kam.Šenov","Ji KŠ",F167="Jiskra Nový Bor","NB",F167="SKST Liberec","SKST",F167="STAR Turnov","STAR",F167="TTC Jablonec","TTC J.",F167="ST Frýdlant","ST Fr.",F167="KMST Liberec","KMST",F167="B. Jablonec n. N.","Bižu",F167="Loko Česká Lípa","ČL",F167="-","-",F167="AST K. Šenov","AST",F167="Spartak Chrastava","Chrast.", F167="TTC Hrádek n. N.","Hrádek",F167="Jablonec n. J.","JnJ",F167="Nová Ves","N. Ves",F167="Jablonné v P.","Jablonné",F167="Sokol Víchová","Víchová",F167="Spartak Smržovka","Smržovka",F167="TJ Zákupy","Zákupy",F167="B. Jablonec n. N.","Bižu",F167="Semily","Semily",F167="Víchová","Víchová",F167="Vesec","Vesec",F167="Smržovka","Smržovka",F167="ST Brniště","Brniště",F167="Studenec u Horek","Studenec") -> Bižu | K167: =CONCATENATE(C167," ",D167," ",CHAR(40),A167,CHAR(41)," ",CHAR(40),J167,CHAR(41)) -> Zasche Josef (166) (Bižu)
A168: 167 | B168: 92234 | C168: Loukota | D168: Tomáš | E168: 2014 | F168: STAR Turnov | G168: LB | H168: U13 | I168: ch | J168: =IFS(F168="PINK! Liberec","PINK!",F168="Sokol Turnov","Turnov",F168="Jiskra Kam.Šenov","Ji KŠ",F168="Jiskra Nový Bor","NB",F168="SKST Liberec","SKST",F168="STAR Turnov","STAR",F168="TTC Jablonec","TTC J.",F168="ST Frýdlant","ST Fr.",F168="KMST Liberec","KMST",F168="B. Jablonec n. N.","Bižu",F168="Loko Česká Lípa","ČL",F168="-","-",F168="AST K. Šenov","AST",F168="Spartak Chrastava","Chrast.", F168="TTC Hrádek n. N.","Hrádek",F168="Jablonec n. J.","JnJ",F168="Nová Ves","N. Ves",F168="Jablonné v P.","Jablonné",F168="Sokol Víchová","Víchová",F168="Spartak Smržovka","Smržovka",F168="TJ Zákupy","Zákupy",F168="B. Jablonec n. N.","Bižu",F168="Semily","Semily",F168="Víchová","Víchová",F168="Vesec","Vesec",F168="Smržovka","Smržovka",F168="ST Brniště","Brniště",F168="Studenec u Horek","Studenec") -> STAR | K168: =CONCATENATE(C168," ",D168," ",CHAR(40),A168,CHAR(41)," ",CHAR(40),J168,CHAR(41)) -> Loukota Tomáš (167) (STAR)
A169: 168 | B169: 87577 | C169: Otmarová | D169: Eliška | E169: 2014 | F169: Nová Ves | G169: LB | H169: U13 | I169: ch | J169: =IFS(F169="PINK! Liberec","PINK!",F169="Sokol Turnov","Turnov",F169="Jiskra Kam.Šenov","Ji KŠ",F169="Jiskra Nový Bor","NB",F169="SKST Liberec","SKST",F169="STAR Turnov","STAR",F169="TTC Jablonec","TTC J.",F169="ST Frýdlant","ST Fr.",F169="KMST Liberec","KMST",F169="B. Jablonec n. N.","Bižu",F169="Loko Česká Lípa","ČL",F169="-","-",F169="AST K. Šenov","AST",F169="Spartak Chrastava","Chrast.", F169="TTC Hrádek n. N.","Hrádek",F169="Jablonec n. J.","JnJ",F169="Nová Ves","N. Ves",F169="Jablonné v P.","Jablonné",F169="Sokol Víchová","Víchová",F169="Spartak Smržovka","Smržovka",F169="TJ Zákupy","Zákupy",F169="B. Jablonec n. N.","Bižu",F169="Semily","Semily",F169="Víchová","Víchová",F169="Vesec","Vesec",F169="Smržovka","Smržovka",F169="ST Brniště","Brniště",F169="Studenec u Horek","Studenec") -> N. Ves | K169: =CONCATENATE(C169," ",D169," ",CHAR(40),A169,CHAR(41)," ",CHAR(40),J169,CHAR(41)) -> Otmarová Eliška (168) (N. Ves)
A170: 169 | B170: 92147 | C170: Kopal | D170: Alex | E170: 2010 | F170: SKST Liberec | G170: LB | H170: U17 | I170: ch | J170: =IFS(F170="PINK! Liberec","PINK!",F170="Sokol Turnov","Turnov",F170="Jiskra Kam.Šenov","Ji KŠ",F170="Jiskra Nový Bor","NB",F170="SKST Liberec","SKST",F170="STAR Turnov","STAR",F170="TTC Jablonec","TTC J.",F170="ST Frýdlant","ST Fr.",F170="KMST Liberec","KMST",F170="B. Jablonec n. N.","Bižu",F170="Loko Česká Lípa","ČL",F170="-","-",F170="AST K. Šenov","AST",F170="Spartak Chrastava","Chrast.", F170="TTC Hrádek n. N.","Hrádek",F170="Jablonec n. J.","JnJ",F170="Nová Ves","N. Ves",F170="Jablonné v P.","Jablonné",F170="Sokol Víchová","Víchová",F170="Spartak Smržovka","Smržovka",F170="TJ Zákupy","Zákupy",F170="B. Jablonec n. N.","Bižu",F170="Semily","Semily",F170="Víchová","Víchová",F170="Vesec","Vesec",F170="Smržovka","Smržovka",F170="ST Brniště","Brniště",F170="Studenec u Horek","Studenec") -> SKST | K170: =CONCATENATE(C170," ",D170," ",CHAR(40),A170,CHAR(41)," ",CHAR(40),J170,CHAR(41)) -> Kopal Alex (169) (SKST)
A171: 169 | B171: 87579 | C171: Šmejcová | D171: Karolína | E171: 2013 | F171: Nová Ves | G171: LB | H171: U13 | I171: ch | J171: =IFS(F171="PINK! Liberec","PINK!",F171="Sokol Turnov","Turnov",F171="Jiskra Kam.Šenov","Ji KŠ",F171="Jiskra Nový Bor","NB",F171="SKST Liberec","SKST",F171="STAR Turnov","STAR",F171="TTC Jablonec","TTC J.",F171="ST Frýdlant","ST Fr.",F171="KMST Liberec","KMST",F171="B. Jablonec n. N.","Bižu",F171="Loko Česká Lípa","ČL",F171="-","-",F171="AST K. Šenov","AST",F171="Spartak Chrastava","Chrast.", F171="TTC Hrádek n. N.","Hrádek",F171="Jablonec n. J.","JnJ",F171="Nová Ves","N. Ves",F171="Jablonné v P.","Jablonné",F171="Sokol Víchová","Víchová",F171="Spartak Smržovka","Smržovka",F171="TJ Zákupy","Zákupy",F171="B. Jablonec n. N.","Bižu",F171="Semily","Semily",F171="Víchová","Víchová",F171="Vesec","Vesec",F171="Smržovka","Smržovka",F171="ST Brniště","Brniště",F171="Studenec u Horek","Studenec") -> N. Ves | K171: =CONCATENATE(C171," ",D171," ",CHAR(40),A171,CHAR(41)," ",CHAR(40),J171,CHAR(41)) -> Šmejcová Karolína (169) (N. Ves)
A172: 169 | B172: 91711 | C172: Torák | D172: Adam | E172: 2013 | F172: B. Jablonec n. N. | G172: LB | H172: U13 | I172: ch | J172: =IFS(F172="PINK! Liberec","PINK!",F172="Sokol Turnov","Turnov",F172="Jiskra Kam.Šenov","Ji KŠ",F172="Jiskra Nový Bor","NB",F172="SKST Liberec","SKST",F172="STAR Turnov","STAR",F172="TTC Jablonec","TTC J.",F172="ST Frýdlant","ST Fr.",F172="KMST Liberec","KMST",F172="B. Jablonec n. N.","Bižu",F172="Loko Česká Lípa","ČL",F172="-","-",F172="AST K. Šenov","AST",F172="Spartak Chrastava","Chrast.", F172="TTC Hrádek n. N.","Hrádek",F172="Jablonec n. J.","JnJ",F172="Nová Ves","N. Ves",F172="Jablonné v P.","Jablonné",F172="Sokol Víchová","Víchová",F172="Spartak Smržovka","Smržovka",F172="TJ Zákupy","Zákupy",F172="B. Jablonec n. N.","Bižu",F172="Semily","Semily",F172="Víchová","Víchová",F172="Vesec","Vesec",F172="Smržovka","Smržovka",F172="ST Brniště","Brniště",F172="Studenec u Horek","Studenec") -> Bižu | K172: =CONCATENATE(C172," ",D172," ",CHAR(40),A172,CHAR(41)," ",CHAR(40),J172,CHAR(41)) -> Torák Adam (169) (Bižu)
... A186: 185 | B186: 90178 | C186: Jahoda | D186: Adam | E186: 2015 | F186: Jablonec n. J. | G186: LB | H186: U11 | I186: ch | J186: =IFS(F186="PINK! Liberec","PINK!",F186="Sokol Turnov","Turnov",F186="Jiskra Kam.Šenov","Ji KŠ",F186="Jiskra Nový Bor","NB",F186="SKST Liberec","SKST",F186="STAR Turnov","STAR",F186="TTC Jablonec","TTC J.",F186="ST Frýdlant","ST Fr.",F186="KMST Liberec","KMST",F186="B. Jablonec n. N.","Bižu",F186="Loko Česká Lípa","ČL",F186="-","-",F186="AST K. Šenov","AST",F186="Spartak Chrastava","Chrast.", F186="TTC Hrádek n. N.","Hrádek",F186="Jablonec n. J.","JnJ",F186="Nová Ves","N. Ves",F186="Jablonné v P.","Jablonné",F186="Sokol Víchová","Víchová",F186="Spartak Smržovka","Smržovka",F186="TJ Zákupy","Zákupy",F186="B. Jablonec n. N.","Bižu",F186="Semily","Semily",F186="Víchová","Víchová",F186="Vesec","Vesec",F186="Smržovka","Smržovka",F186="ST Brniště","Brniště",F186="Studenec u Horek","Studenec") -> JnJ | K186: =CONCATENATE(C186," ",D186," ",CHAR(40),A186,CHAR(41)," ",CHAR(40),J186,CHAR(41)) -> Jahoda Adam (185) (JnJ)
A187: 186 | B187: 92355 | C187: Erlebach | D187: Matouš | E187: 2011 | F187: Víchová | G187: LB | H187: U15 | I187: ch | J187: =IFS(F187="PINK! Liberec","PINK!",F187="Sokol Turnov","Turnov",F187="Jiskra Kam.Šenov","Ji KŠ",F187="Jiskra Nový Bor","NB",F187="SKST Liberec","SKST",F187="STAR Turnov","STAR",F187="TTC Jablonec","TTC J.",F187="ST Frýdlant","ST Fr.",F187="KMST Liberec","KMST",F187="B. Jablonec n. N.","Bižu",F187="Loko Česká Lípa","ČL",F187="-","-",F187="AST K. Šenov","AST",F187="Spartak Chrastava","Chrast.", F187="TTC Hrádek n. N.","Hrádek",F187="Jablonec n. J.","JnJ",F187="Nová Ves","N. Ves",F187="Jablonné v P.","Jablonné",F187="Sokol Víchová","Víchová",F187="Spartak Smržovka","Smržovka",F187="TJ Zákupy","Zákupy",F187="B. Jablonec n. N.","Bižu",F187="Semily","Semily",F187="Víchová","Víchová",F187="Vesec","Vesec",F187="Smržovka","Smržovka",F187="ST Brniště","Brniště",F187="Studenec u Horek","Studenec") -> Víchová | K187: =CONCATENATE(C187," ",D187," ",CHAR(40),A187,CHAR(41)," ",CHAR(40),J187,CHAR(41)) -> Erlebach Matouš (186) (Víchová)
A188: 186 | B188: 92927 | C188: Sedláček | D188: Jan | E188: 2012 | F188: Jablonec n. J. | G188: LB | H188: U15 | I188: ch | J188: =IFS(F188="PINK! Liberec","PINK!",F188="Sokol Turnov","Turnov",F188="Jiskra Kam.Šenov","Ji KŠ",F188="Jiskra Nový Bor","NB",F188="SKST Liberec","SKST",F188="STAR Turnov","STAR",F188="TTC Jablonec","TTC J.",F188="ST Frýdlant","ST Fr.",F188="KMST Liberec","KMST",F188="B. Jablonec n. N.","Bižu",F188="Loko Česká Lípa","ČL",F188="-","-",F188="AST K. Šenov","AST",F188="Spartak Chrastava","Chrast.", F188="TTC Hrádek n. N.","Hrádek",F188="Jablonec n. J.","JnJ",F188="Nová Ves","N. Ves",F188="Jablonné v P.","Jablonné",F188="Sokol Víchová","Víchová",F188="Spartak Smržovka","Smržovka",F188="TJ Zákupy","Zákupy",F188="B. Jablonec n. N.","Bižu",F188="Semily","Semily",F188="Víchová","Víchová",F188="Vesec","Vesec",F188="Smržovka","Smržovka",F188="ST Brniště","Brniště",F188="Studenec u Horek","Studenec") -> JnJ | K188: =CONCATENATE(C188," ",D188," ",CHAR(40),A188,CHAR(41)," ",CHAR(40),J188,CHAR(41)) -> Sedláček Jan (186) (JnJ)
A189: 188 | B189: 90985 | C189: Frič | D189: Vojtěch | E189: 2015 | F189: B. Jablonec n. N. | G189: LB | H189: U11 | I189: ch | J189: =IFS(F189="PINK! Liberec","PINK!",F189="Sokol Turnov","Turnov",F189="Jiskra Kam.Šenov","Ji KŠ",F189="Jiskra Nový Bor","NB",F189="SKST Liberec","SKST",F189="STAR Turnov","STAR",F189="TTC Jablonec","TTC J.",F189="ST Frýdlant","ST Fr.",F189="KMST Liberec","KMST",F189="B. Jablonec n. N.","Bižu",F189="Loko Česká Lípa","ČL",F189="-","-",F189="AST K. Šenov","AST",F189="Spartak Chrastava","Chrast.", F189="TTC Hrádek n. N.","Hrádek",F189="Jablonec n. J.","JnJ",F189="Nová Ves","N. Ves",F189="Jablonné v P.","Jablonné",F189="Sokol Víchová","Víchová",F189="Spartak Smržovka","Smržovka",F189="TJ Zákupy","Zákupy",F189="B. Jablonec n. N.","Bižu",F189="Semily","Semily",F189="Víchová","Víchová",F189="Vesec","Vesec",F189="Smržovka","Smržovka",F189="ST Brniště","Brniště",F189="Studenec u Horek","Studenec") -> Bižu | K189: =CONCATENATE(C189," ",D189," ",CHAR(40),A189,CHAR(41)," ",CHAR(40),J189,CHAR(41)) -> Frič Vojtěch (188) (Bižu)
A190: 189 | B190: 90999 | C190: Šiďák | D190: Jiří | E190: 2013 | F190: B. Jablonec n. N. | G190: LB | H190: U13 | I190: ch | J190: =IFS(F190="PINK! Liberec","PINK!",F190="Sokol Turnov","Turnov",F190="Jiskra Kam.Šenov","Ji KŠ",F190="Jiskra Nový Bor","NB",F190="SKST Liberec","SKST",F190="STAR Turnov","STAR",F190="TTC Jablonec","TTC J.",F190="ST Frýdlant","ST Fr.",F190="KMST Liberec","KMST",F190="B. Jablonec n. N.","Bižu",F190="Loko Česká Lípa","ČL",F190="-","-",F190="AST K. Šenov","AST",F190="Spartak Chrastava","Chrast.", F190="TTC Hrádek n. N.","Hrádek",F190="Jablonec n. J.","JnJ",F190="Nová Ves","N. Ves",F190="Jablonné v P.","Jablonné",F190="Sokol Víchová","Víchová",F190="Spartak Smržovka","Smržovka",F190="TJ Zákupy","Zákupy",F190="B. Jablonec n. N.","Bižu",F190="Semily","Semily",F190="Víchová","Víchová",F190="Vesec","Vesec",F190="Smržovka","Smržovka",F190="ST Brniště","Brniště",F190="Studenec u Horek","Studenec") -> Bižu | K190: =CONCATENATE(C190," ",D190," ",CHAR(40),A190,CHAR(41)," ",CHAR(40),J190,CHAR(41)) -> Šiďák Jiří (189) (Bižu)
A191: 190 | B191: 92145 | C191: Hušek | D191: Marek | E191: 2016 | F191: KMST Liberec | G191: LB | H191: U11 | I191: ch | J191: =IFS(F191="PINK! Liberec","PINK!",F191="Sokol Turnov","Turnov",F191="Jiskra Kam.Šenov","Ji KŠ",F191="Jiskra Nový Bor","NB",F191="SKST Liberec","SKST",F191="STAR Turnov","STAR",F191="TTC Jablonec","TTC J.",F191="ST Frýdlant","ST Fr.",F191="KMST Liberec","KMST",F191="B. Jablonec n. N.","Bižu",F191="Loko Česká Lípa","ČL",F191="-","-",F191="AST K. Šenov","AST",F191="Spartak Chrastava","Chrast.", F191="TTC Hrádek n. N.","Hrádek",F191="Jablonec n. J.","JnJ",F191="Nová Ves","N. Ves",F191="Jablonné v P.","Jablonné",F191="Sokol Víchová","Víchová",F191="Spartak Smržovka","Smržovka",F191="TJ Zákupy","Zákupy",F191="B. Jablonec n. N.","Bižu",F191="Semily","Semily",F191="Víchová","Víchová",F191="Vesec","Vesec",F191="Smržovka","Smržovka",F191="ST Brniště","Brniště",F191="Studenec u Horek","Studenec") -> KMST | K191: =CONCATENATE(C191," ",D191," ",CHAR(40),A191,CHAR(41)," ",CHAR(40),J191,CHAR(41)) -> Hušek Marek (190) (KMST)
A192: 191 | B192: 86503 | C192: Stolle | D192: Josef | E192: 2015 | F192: Jiskra Kam.Šenov | G192: LB | H192: U11 | I192: ch | J192: =IFS(F192="PINK! Liberec","PINK!",F192="Sokol Turnov","Turnov",F192="Jiskra Kam.Šenov","Ji KŠ",F192="Jiskra Nový Bor","NB",F192="SKST Liberec","SKST",F192="STAR Turnov","STAR",F192="TTC Jablonec","TTC J.",F192="ST Frýdlant","ST Fr.",F192="KMST Liberec","KMST",F192="B. Jablonec n. N.","Bižu",F192="Loko Česká Lípa","ČL",F192="-","-",F192="AST K. Šenov","AST",F192="Spartak Chrastava","Chrast.", F192="TTC Hrádek n. N.","Hrádek",F192="Jablonec n. J.","JnJ",F192="Nová Ves","N. Ves",F192="Jablonné v P.","Jablonné",F192="Sokol Víchová","Víchová",F192="Spartak Smržovka","Smržovka",F192="TJ Zákupy","Zákupy",F192="B. Jablonec n. N.","Bižu",F192="Semily","Semily",F192="Víchová","Víchová",F192="Vesec","Vesec",F192="Smržovka","Smržovka",F192="ST Brniště","Brniště",F192="Studenec u Horek","Studenec") -> Ji KŠ | K192: =CONCATENATE(C192," ",D192," ",CHAR(40),A192,CHAR(41)," ",CHAR(40),J192,CHAR(41)) -> Stolle Josef (191) (Ji KŠ)
A193: 191 | B193: 92207 | C193: Šikýř | D193: Daniel | E193: 2016 | F193: PINK! Liberec | G193: LB | H193: U11 | I193: ch | J193: =IFS(F193="PINK! Liberec","PINK!",F193="Sokol Turnov","Turnov",F193="Jiskra Kam.Šenov","Ji KŠ",F193="Jiskra Nový Bor","NB",F193="SKST Liberec","SKST",F193="STAR Turnov","STAR",F193="TTC Jablonec","TTC J.",F193="ST Frýdlant","ST Fr.",F193="KMST Liberec","KMST",F193="B. Jablonec n. N.","Bižu",F193="Loko Česká Lípa","ČL",F193="-","-",F193="AST K. Šenov","AST",F193="Spartak Chrastava","Chrast.", F193="TTC Hrádek n. N.","Hrádek",F193="Jablonec n. J.","JnJ",F193="Nová Ves","N. Ves",F193="Jablonné v P.","Jablonné",F193="Sokol Víchová","Víchová",F193="Spartak Smržovka","Smržovka",F193="TJ Zákupy","Zákupy",F193="B. Jablonec n. N.","Bižu",F193="Semily","Semily",F193="Víchová","Víchová",F193="Vesec","Vesec",F193="Smržovka","Smržovka",F193="ST Brniště","Brniště",F193="Studenec u Horek","Studenec") -> PINK! | K193: =CONCATENATE(C193," ",D193," ",CHAR(40),A193,CHAR(41)," ",CHAR(40),J193,CHAR(41)) -> Šikýř Daniel (191) (PINK!)
A194: 193 | B194: 84986 | C194: Kmenta | D194: Lukáš | E194: 2015 | F194: PINK! Liberec | G194: LB | H194: U11 | I194: ch | J194: =IFS(F194="PINK! Liberec","PINK!",F194="Sokol Turnov","Turnov",F194="Jiskra Kam.Šenov","Ji KŠ",F194="Jiskra Nový Bor","NB",F194="SKST Liberec","SKST",F194="STAR Turnov","STAR",F194="TTC Jablonec","TTC J.",F194="ST Frýdlant","ST Fr.",F194="KMST Liberec","KMST",F194="B. Jablonec n. N.","Bižu",F194="Loko Česká Lípa","ČL",F194="-","-",F194="AST K. Šenov","AST",F194="Spartak Chrastava","Chrast.", F194="TTC Hrádek n. N.","Hrádek",F194="Jablonec n. J.","JnJ",F194="Nová Ves","N. Ves",F194="Jablonné v P.","Jablonné",F194="Sokol Víchová","Víchová",F194="Spartak Smržovka","Smržovka",F194="TJ Zákupy","Zákupy",F194="B. Jablonec n. N.","Bižu",F194="Semily","Semily",F194="Víchová","Víchová",F194="Vesec","Vesec",F194="Smržovka","Smržovka",F194="ST Brniště","Brniště",F194="Studenec u Horek","Studenec") -> PINK! | K194: =CONCATENATE(C194," ",D194," ",CHAR(40),A194,CHAR(41)," ",CHAR(40),J194,CHAR(41)) -> Kmenta Lukáš (193) (PINK!)
A195: 194 | B195: 92043 | C195: Novotný | D195: Martin | E195: 2012 | F195: PINK! Liberec | G195: LB | H195: U15 | I195: ch | J195: =IFS(F195="PINK! Liberec","PINK!",F195="Sokol Turnov","Turnov",F195="Jiskra Kam.Šenov","Ji KŠ",F195="Jiskra Nový Bor","NB",F195="SKST Liberec","SKST",F195="STAR Turnov","STAR",F195="TTC Jablonec","TTC J.",F195="ST Frýdlant","ST Fr.",F195="KMST Liberec","KMST",F195="B. Jablonec n. N.","Bižu",F195="Loko Česká Lípa","ČL",F195="-","-",F195="AST K. Šenov","AST",F195="Spartak Chrastava","Chrast.", F195="TTC Hrádek n. N.","Hrádek",F195="Jablonec n. J.","JnJ",F195="Nová Ves","N. Ves",F195="Jablonné v P.","Jablonné",F195="Sokol Víchová","Víchová",F195="Spartak Smržovka","Smržovka",F195="TJ Zákupy","Zákupy",F195="B. Jablonec n. N.","Bižu",F195="Semily","Semily",F195="Víchová","Víchová",F195="Vesec","Vesec",F195="Smržovka","Smržovka",F195="ST Brniště","Brniště",F195="Studenec u Horek","Studenec") -> PINK! | K195: =CONCATENATE(C195," ",D195," ",CHAR(40),A195,CHAR(41)," ",CHAR(40),J195,CHAR(41)) -> Novotný Martin (194) (PINK!)
A196: 194 | B196: 91516 | C196: Spilka | D196: Václav | E196: 2014 | F196: Víchová | G196: LB | H196: U13 | I196: ch | J196: =IFS(F196="PINK! Liberec","PINK!",F196="Sokol Turnov","Turnov",F196="Jiskra Kam.Šenov","Ji KŠ",F196="Jiskra Nový Bor","NB",F196="SKST Liberec","SKST",F196="STAR Turnov","STAR",F196="TTC Jablonec","TTC J.",F196="ST Frýdlant","ST Fr.",F196="KMST Liberec","KMST",F196="B. Jablonec n. N.","Bižu",F196="Loko Česká Lípa","ČL",F196="-","-",F196="AST K. Šenov","AST",F196="Spartak Chrastava","Chrast.", F196="TTC Hrádek n. N.","Hrádek",F196="Jablonec n. J.","JnJ",F196="Nová Ves","N. Ves",F196="Jablonné v P.","Jablonné",F196="Sokol Víchová","Víchová",F196="Spartak Smržovka","Smržovka",F196="TJ Zákupy","Zákupy",F196="B. Jablonec n. N.","Bižu",F196="Semily","Semily",F196="Víchová","Víchová",F196="Vesec","Vesec",F196="Smržovka","Smržovka",F196="ST Brniště","Brniště",F196="Studenec u Horek","Studenec") -> Víchová | K196: =CONCATENATE(C196," ",D196," ",CHAR(40),A196,CHAR(41)," ",CHAR(40),J196,CHAR(41)) -> Spilka Václav (194) (Víchová)
A197: 194 | B197: 92544 | C197: Makovec | D197: Tobiáš | E197: 2014 | F197: Loko Česká Lípa | G197: LB | H197: U13 | I197: ch | J197: =IFS(F197="PINK! Liberec","PINK!",F197="Sokol Turnov","Turnov",F197="Jiskra Kam.Šenov","Ji KŠ",F197="Jiskra Nový Bor","NB",F197="SKST Liberec","SKST",F197="STAR Turnov","STAR",F197="TTC Jablonec","TTC J.",F197="ST Frýdlant","ST Fr.",F197="KMST Liberec","KMST",F197="B. Jablonec n. N.","Bižu",F197="Loko Česká Lípa","ČL",F197="-","-",F197="AST K. Šenov","AST",F197="Spartak Chrastava","Chrast.", F197="TTC Hrádek n. N.","Hrádek",F197="Jablonec n. J.","JnJ",F197="Nová Ves","N. Ves",F197="Jablonné v P.","Jablonné",F197="Sokol Víchová","Víchová",F197="Spartak Smržovka","Smržovka",F197="TJ Zákupy","Zákupy",F197="B. Jablonec n. N.","Bižu",F197="Semily","Semily",F197="Víchová","Víchová",F197="Vesec","Vesec",F197="Smržovka","Smržovka",F197="ST Brniště","Brniště",F197="Studenec u Horek","Studenec") -> ČL | K197: =CONCATENATE(C197," ",D197," ",CHAR(40),A197,CHAR(41)," ",CHAR(40),J197,CHAR(41)) -> Makovec Tobiáš (194) (ČL)
A198: 197 | B198: 82290 | C198: Vinter | D198: Daniel | E198: 2013 | F198: KMST Liberec | G198: LB | H198: U13 | I198: ch | J198: =IFS(F198="PINK! Liberec","PINK!",F198="Sokol Turnov","Turnov",F198="Jiskra Kam.Šenov","Ji KŠ",F198="Jiskra Nový Bor","NB",F198="SKST Liberec","SKST",F198="STAR Turnov","STAR",F198="TTC Jablonec","TTC J.",F198="ST Frýdlant","ST Fr.",F198="KMST Liberec","KMST",F198="B. Jablonec n. N.","Bižu",F198="Loko Česká Lípa","ČL",F198="-","-",F198="AST K. Šenov","AST",F198="Spartak Chrastava","Chrast.", F198="TTC Hrádek n. N.","Hrádek",F198="Jablonec n. J.","JnJ",F198="Nová Ves","N. Ves",F198="Jablonné v P.","Jablonné",F198="Sokol Víchová","Víchová",F198="Spartak Smržovka","Smržovka",F198="TJ Zákupy","Zákupy",F198="B. Jablonec n. N.","Bižu",F198="Semily","Semily",F198="Víchová","Víchová",F198="Vesec","Vesec",F198="Smržovka","Smržovka",F198="ST Brniště","Brniště",F198="Studenec u Horek","Studenec") -> KMST | K198: =CONCATENATE(C198," ",D198," ",CHAR(40),A198,CHAR(41)," ",CHAR(40),J198,CHAR(41)) -> Vinter Daniel (197) (KMST)
A199: 197 | B199: 89493 | C199: Srovnal | D199: Martin | E199: 2014 | F199: PINK! Liberec | G199: LB | H199: U13 | I199: ch | J199: =IFS(F199="PINK! Liberec","PINK!",F199="Sokol Turnov","Turnov",F199="Jiskra Kam.Šenov","Ji KŠ",F199="Jiskra Nový Bor","NB",F199="SKST Liberec","SKST",F199="STAR Turnov","STAR",F199="TTC Jablonec","TTC J.",F199="ST Frýdlant","ST Fr.",F199="KMST Liberec","KMST",F199="B. Jablonec n. N.","Bižu",F199="Loko Česká Lípa","ČL",F199="-","-",F199="AST K. Šenov","AST",F199="Spartak Chrastava","Chrast.", F199="TTC Hrádek n. N.","Hrádek",F199="Jablonec n. J.","JnJ",F199="Nová Ves","N. Ves",F199="Jablonné v P.","Jablonné",F199="Sokol Víchová","Víchová",F199="Spartak Smržovka","Smržovka",F199="TJ Zákupy","Zákupy",F199="B. Jablonec n. N.","Bižu",F199="Semily","Semily",F199="Víchová","Víchová",F199="Vesec","Vesec",F199="Smržovka","Smržovka",F199="ST Brniště","Brniště",F199="Studenec u Horek","Studenec") -> PINK! | K199: =CONCATENATE(C199," ",D199," ",CHAR(40),A199,CHAR(41)," ",CHAR(40),J199,CHAR(41)) -> Srovnal Martin (197) (PINK!)
... A214: 208 | B214: 78175 | C214: Černý | D214: Vojtěch | E214: 2012 | F214: PINK! Liberec | G214: LB | H214: U15 | I214: ch | J214: =IFS(F214="PINK! Liberec","PINK!",F214="Sokol Turnov","Turnov",F214="Jiskra Kam.Šenov","Ji KŠ",F214="Jiskra Nový Bor","NB",F214="SKST Liberec","SKST",F214="STAR Turnov","STAR",F214="TTC Jablonec","TTC J.",F214="ST Frýdlant","ST Fr.",F214="KMST Liberec","KMST",F214="B. Jablonec n. N.","Bižu",F214="Loko Česká Lípa","ČL",F214="-","-",F214="AST K. Šenov","AST",F214="Spartak Chrastava","Chrast.", F214="TTC Hrádek n. N.","Hrádek",F214="Jablonec n. J.","JnJ",F214="Nová Ves","N. Ves",F214="Jablonné v P.","Jablonné",F214="Sokol Víchová","Víchová",F214="Spartak Smržovka","Smržovka",F214="TJ Zákupy","Zákupy",F214="B. Jablonec n. N.","Bižu",F214="Semily","Semily",F214="Víchová","Víchová",F214="Vesec","Vesec",F214="Smržovka","Smržovka",F214="ST Brniště","Brniště",F214="Studenec u Horek","Studenec") -> PINK! | K214: =CONCATENATE(C214," ",D214," ",CHAR(40),A214,CHAR(41)," ",CHAR(40),J214,CHAR(41)) -> Černý Vojtěch (208) (PINK!)
A215: 208 | B215: - | C215: Liška | D215: Daniel | E215: 2012 | F215: PINK! Liberec | G215: LB | H215: U15 | I215: ch | J215: =IFS(F215="PINK! Liberec","PINK!",F215="Sokol Turnov","Turnov",F215="Jiskra Kam.Šenov","Ji KŠ",F215="Jiskra Nový Bor","NB",F215="SKST Liberec","SKST",F215="STAR Turnov","STAR",F215="TTC Jablonec","TTC J.",F215="ST Frýdlant","ST Fr.",F215="KMST Liberec","KMST",F215="B. Jablonec n. N.","Bižu",F215="Loko Česká Lípa","ČL",F215="-","-",F215="AST K. Šenov","AST",F215="Spartak Chrastava","Chrast.", F215="TTC Hrádek n. N.","Hrádek",F215="Jablonec n. J.","JnJ",F215="Nová Ves","N. Ves",F215="Jablonné v P.","Jablonné",F215="Sokol Víchová","Víchová",F215="Spartak Smržovka","Smržovka",F215="TJ Zákupy","Zákupy",F215="B. Jablonec n. N.","Bižu",F215="Semily","Semily",F215="Víchová","Víchová",F215="Vesec","Vesec",F215="Smržovka","Smržovka",F215="ST Brniště","Brniště",F215="Studenec u Horek","Studenec") -> PINK! | K215: =CONCATENATE(C215," ",D215," ",CHAR(40),A215,CHAR(41)," ",CHAR(40),J215,CHAR(41)) -> Liška Daniel (208) (PINK!)
A216: 208 | B216: - | C216: Madiarii | D216: Maksym | E216: 2012 | F216: KMST Liberec | G216: LB | H216: U15 | I216: ch | J216: =IFS(F216="PINK! Liberec","PINK!",F216="Sokol Turnov","Turnov",F216="Jiskra Kam.Šenov","Ji KŠ",F216="Jiskra Nový Bor","NB",F216="SKST Liberec","SKST",F216="STAR Turnov","STAR",F216="TTC Jablonec","TTC J.",F216="ST Frýdlant","ST Fr.",F216="KMST Liberec","KMST",F216="B. Jablonec n. N.","Bižu",F216="Loko Česká Lípa","ČL",F216="-","-",F216="AST K. Šenov","AST",F216="Spartak Chrastava","Chrast.", F216="TTC Hrádek n. N.","Hrádek",F216="Jablonec n. J.","JnJ",F216="Nová Ves","N. Ves",F216="Jablonné v P.","Jablonné",F216="Sokol Víchová","Víchová",F216="Spartak Smržovka","Smržovka",F216="TJ Zákupy","Zákupy",F216="B. Jablonec n. N.","Bižu",F216="Semily","Semily",F216="Víchová","Víchová",F216="Vesec","Vesec",F216="Smržovka","Smržovka",F216="ST Brniště","Brniště",F216="Studenec u Horek","Studenec") -> KMST | K216: =CONCATENATE(C216," ",D216," ",CHAR(40),A216,CHAR(41)," ",CHAR(40),J216,CHAR(41)) -> Madiarii Maksym (208) (KMST)
A217: 208 | B217: 87047 | C217: Kverka | D217: Václav | E217: 2012 | F217: PINK! Liberec | G217: LB | H217: U15 | I217: ch | J217: =IFS(F217="PINK! Liberec","PINK!",F217="Sokol Turnov","Turnov",F217="Jiskra Kam.Šenov","Ji KŠ",F217="Jiskra Nový Bor","NB",F217="SKST Liberec","SKST",F217="STAR Turnov","STAR",F217="TTC Jablonec","TTC J.",F217="ST Frýdlant","ST Fr.",F217="KMST Liberec","KMST",F217="B. Jablonec n. N.","Bižu",F217="Loko Česká Lípa","ČL",F217="-","-",F217="AST K. Šenov","AST",F217="Spartak Chrastava","Chrast.", F217="TTC Hrádek n. N.","Hrádek",F217="Jablonec n. J.","JnJ",F217="Nová Ves","N. Ves",F217="Jablonné v P.","Jablonné",F217="Sokol Víchová","Víchová",F217="Spartak Smržovka","Smržovka",F217="TJ Zákupy","Zákupy",F217="B. Jablonec n. N.","Bižu",F217="Semily","Semily",F217="Víchová","Víchová",F217="Vesec","Vesec",F217="Smržovka","Smržovka",F217="ST Brniště","Brniště",F217="Studenec u Horek","Studenec") -> PINK! | K217: =CONCATENATE(C217," ",D217," ",CHAR(40),A217,CHAR(41)," ",CHAR(40),J217,CHAR(41)) -> Kverka Václav (208) (PINK!)
A218: 208 | B218: 92924 | C218: Pelikán | D218: Ryan | E218: 2013 | F218: Vesec | G218: LB | H218: U15 | I218: ch | J218: =IFS(F218="PINK! Liberec","PINK!",F218="Sokol Turnov","Turnov",F218="Jiskra Kam.Šenov","Ji KŠ",F218="Jiskra Nový Bor","NB",F218="SKST Liberec","SKST",F218="STAR Turnov","STAR",F218="TTC Jablonec","TTC J.",F218="ST Frýdlant","ST Fr.",F218="KMST Liberec","KMST",F218="B. Jablonec n. N.","Bižu",F218="Loko Česká Lípa","ČL",F218="-","-",F218="AST K. Šenov","AST",F218="Spartak Chrastava","Chrast.", F218="TTC Hrádek n. N.","Hrádek",F218="Jablonec n. J.","JnJ",F218="Nová Ves","N. Ves",F218="Jablonné v P.","Jablonné",F218="Sokol Víchová","Víchová",F218="Spartak Smržovka","Smržovka",F218="TJ Zákupy","Zákupy",F218="B. Jablonec n. N.","Bižu",F218="Semily","Semily",F218="Víchová","Víchová",F218="Vesec","Vesec",F218="Smržovka","Smržovka",F218="ST Brniště","Brniště",F218="Studenec u Horek","Studenec") -> Vesec | K218: =CONCATENATE(C218," ",D218," ",CHAR(40),A218,CHAR(41)," ",CHAR(40),J218,CHAR(41)) -> Pelikán Ryan (208) (Vesec)
